{"text_format":"1","workbook":"xlsx","n_sheets":14,"sheets":["メイン","リレー種目","一覧表","個票","リレー個票","個人種目データ（いじらない）","リレー種目データ（いじらない）","リスト","競技名一覧","所属名","個票データ１","個票データ２","リレー個データ１","リレー個データ２"],"not_rendered":{"charts":0,"images":0,"macros":1,"external_links":1,"defined_names":17,"comments":5,"pivot_tables":0},"unopened":[],"bounds":{"document_bytes":16777216,"sheet_cells":100000,"rows_first":2000,"rows_last":500,"rows_between":2000,"halvings":0,"cell_chars":16384,"cell_head_chars":4096},"cells_cut":0,"cells_raw":0,"read":"whole","date_system":"1900"}

{"sheet":"メイン","index":0,"n_rows":108,"n_cols":18,"rows_kept":108,"cut":false,"hidden":false,"merged":[[3,0,3,1],[4,0,4,1],[5,0,5,1],[1,2,1,4],[2,2,2,4],[3,2,3,4],[4,2,4,4],[5,2,5,4],[0,0,0,1],[0,2,0,4],[1,10,2,10],[1,0,1,1],[2,0,2,1],[1,9,2,9],[1,7,2,8]]}
["大会名",null,"第25回岩手県中学校新人大会陸上競技"]
["所属名",null,null,null,null,null,null,"学校名",null,"下橋",{"$f":"VLOOKUP(メイン!$J$2,所属名!$C$2:$D$178,2,FALSE)","v":1}]
["所属長",null,null,null,null,null,null,null,null,null,{"$f":"VLOOKUP(メイン!K10,所属名!$C$2:$D$177,2,FALSE)","v":{"$error":"#N/A"}}]
["監督名"]
["所属電話番号",null,null,null,null,null,null,null,"いじらない",null,"直接入力",null,"リストから選択"]
["監督電話番号"]
[]
["NO","所属名","アスリートビブス","競技者名","競技者名ｶﾅ","性別","学年","参加競技1","参加競技記録1","参加競技2","参加競技記録2","参加リレー競技","参加リレー競技記録"]
[1,{"$f":"IF(INDEX(所属名!$A$2:$C$178,メイン!$K$2,3)=\"\",\"\",INDEX(所属名!$A$2:$C$178,メイン!$K$2,3))","v":"下橋"},null,null,null,null,null,null,null,null,null,null,null,{"$f":"F9&G9","v":""},{"$f":"SUBSTITUTE(SUBSTITUTE(SUBSTITUTE(SUBSTITUTE(SUBSTITUTE(SUBSTITUTE(N9,$Q$9,$R$9),$Q$10,$R$10),$Q$11,$R$11),$Q$12,$R$12),$Q$13,$R$13),$Q$14,$R$14)","v":""},null,"男1","男子１年出場可能種目"]
[2,{"$f":"IF(INDEX(所属名!$A$2:$C$178,メイン!$K$2,3)=\"\",\"\",INDEX(所属名!$A$2:$C$178,メイン!$K$2,3))","v":"下橋"},null,null,null,null,null,null,null,null,null,null,null,{"$f":"F10&G10","v":""},{"$f":"SUBSTITUTE(SUBSTITUTE(SUBSTITUTE(SUBSTITUTE(SUBSTITUTE(SUBSTITUTE(N10,$Q$9,$R$9),$Q$10,$R$10),$Q$11,$R$11),$Q$12,$R$12),$Q$13,$R$13),$Q$14,$R$14)","v":""},null,"男2","男子２年出場可能種目"]
[3,{"$f":"IF(INDEX(所属名!$A$2:$C$178,メイン!$K$2,3)=\"\",\"\",INDEX(所属名!$A$2:$C$178,メイン!$K$2,3))","v":"下橋"},null,null,null,null,null,null,null,null,null,null,null,"","",null,"男3","男子３年出場可能種目"]
[4,{"$f":"IF(INDEX(所属名!$A$2:$C$178,メイン!$K$2,3)=\"\",\"\",INDEX(所属名!$A$2:$C$178,メイン!$K$2,3))","v":"下橋"},null,null,null,null,null,null,null,null,null,null,null,"","",null,"女1","女子１年出場可能種目"]
[5,{"$f":"IF(INDEX(所属名!$A$2:$C$178,メイン!$K$2,3)=\"\",\"\",INDEX(所属名!$A$2:$C$178,メイン!$K$2,3))","v":"下橋"},null,null,null,null,null,null,null,null,null,null,null,"","",null,"女2","女子２年出場可能種目"]
[6,{"$f":"IF(INDEX(所属名!$A$2:$C$178,メイン!$K$2,3)=\"\",\"\",INDEX(所属名!$A$2:$C$178,メイン!$K$2,3))","v":"下橋"},null,null,null,null,null,null,null,null,null,null,null,"","",null,"女3","女子３年出場可能種目"]
[7,{"$f":"IF(INDEX(所属名!$A$2:$C$178,メイン!$K$2,3)=\"\",\"\",INDEX(所属名!$A$2:$C$178,メイン!$K$2,3))","v":"下橋"},null,null,null,null,null,null,null,null,null,null,null,"",""]
[8,{"$f":"IF(INDEX(所属名!$A$2:$C$178,メイン!$K$2,3)=\"\",\"\",INDEX(所属名!$A$2:$C$178,メイン!$K$2,3))","v":"下橋"},null,null,null,null,null,null,null,null,null,null,null,"",""]
[9,{"$f":"IF(INDEX(所属名!$A$2:$C$178,メイン!$K$2,3)=\"\",\"\",INDEX(所属名!$A$2:$C$178,メイン!$K$2,3))","v":"下橋"},null,null,null,null,null,null,null,null,null,null,null,"",""]
[10,{"$f":"IF(INDEX(所属名!$A$2:$C$178,メイン!$K$2,3)=\"\",\"\",INDEX(所属名!$A$2:$C$178,メイン!$K$2,3))","v":"下橋"},null,null,null,null,null,null,null,null,null,null,null,"",""]
[11,{"$f":"IF(INDEX(所属名!$A$2:$C$178,メイン!$K$2,3)=\"\",\"\",INDEX(所属名!$A$2:$C$178,メイン!$K$2,3))","v":"下橋"},null,null,null,null,null,null,null,null,null,null,null,"",""]
[12,{"$f":"IF(INDEX(所属名!$A$2:$C$178,メイン!$K$2,3)=\"\",\"\",INDEX(所属名!$A$2:$C$178,メイン!$K$2,3))","v":"下橋"},null,null,null,null,null,null,null,null,null,null,null,"",""]
[13,{"$f":"IF(INDEX(所属名!$A$2:$C$178,メイン!$K$2,3)=\"\",\"\",INDEX(所属名!$A$2:$C$178,メイン!$K$2,3))","v":"下橋"},null,null,null,null,null,null,null,null,null,null,null,"",""]
[14,{"$f":"IF(INDEX(所属名!$A$2:$C$178,メイン!$K$2,3)=\"\",\"\",INDEX(所属名!$A$2:$C$178,メイン!$K$2,3))","v":"下橋"},null,null,null,null,null,null,null,null,null,null,null,"",""]
[15,{"$f":"IF(INDEX(所属名!$A$2:$C$178,メイン!$K$2,3)=\"\",\"\",INDEX(所属名!$A$2:$C$178,メイン!$K$2,3))","v":"下橋"},null,null,null,null,null,null,null,null,null,null,null,"",""]
[16,{"$f":"IF(INDEX(所属名!$A$2:$C$178,メイン!$K$2,3)=\"\",\"\",INDEX(所属名!$A$2:$C$178,メイン!$K$2,3))","v":"下橋"},null,null,null,null,null,null,null,null,null,null,null,"",""]
[17,{"$f":"IF(INDEX(所属名!$A$2:$C$178,メイン!$K$2,3)=\"\",\"\",INDEX(所属名!$A$2:$C$178,メイン!$K$2,3))","v":"下橋"},null,null,null,null,null,null,null,null,null,null,null,"",""]
[18,{"$f":"IF(INDEX(所属名!$A$2:$C$178,メイン!$K$2,3)=\"\",\"\",INDEX(所属名!$A$2:$C$178,メイン!$K$2,3))","v":"下橋"},null,null,null,null,null,null,null,null,null,null,null,"",""]
[19,{"$f":"IF(INDEX(所属名!$A$2:$C$178,メイン!$K$2,3)=\"\",\"\",INDEX(所属名!$A$2:$C$178,メイン!$K$2,3))","v":"下橋"},null,null,null,null,null,null,null,null,null,null,null,"",""]
[20,{"$f":"IF(INDEX(所属名!$A$2:$C$178,メイン!$K$2,3)=\"\",\"\",INDEX(所属名!$A$2:$C$178,メイン!$K$2,3))","v":"下橋"},null,null,null,null,null,null,null,null,null,null,null,"",{"$f":"SUBSTITUTE(SUBSTITUTE(SUBSTITUTE(SUBSTITUTE(SUBSTITUTE(SUBSTITUTE(N28,$Q$9,$R$9),$Q$10,$R$10),$Q$11,$R$11),$Q$12,$R$12),$Q$13,$R$13),$Q$14,$R$14)","v":""}]
[21,{"$f":"IF(INDEX(所属名!$A$2:$C$178,メイン!$K$2,3)=\"\",\"\",INDEX(所属名!$A$2:$C$178,メイン!$K$2,3))","v":"下橋"},null,null,null,null,null,null,null,null,null,null,null,"",""]
[22,{"$f":"IF(INDEX(所属名!$A$2:$C$178,メイン!$K$2,3)=\"\",\"\",INDEX(所属名!$A$2:$C$178,メイン!$K$2,3))","v":"下橋"},null,null,null,null,null,null,null,null,null,null,null,{"$f":"F30&G30","v":""},""]
[23,{"$f":"IF(INDEX(所属名!$A$2:$C$178,メイン!$K$2,3)=\"\",\"\",INDEX(所属名!$A$2:$C$178,メイン!$K$2,3))","v":"下橋"},null,null,null,null,null,null,null,null,null,null,null,{"$f":"F31&G31","v":""},""]
[24,{"$f":"IF(INDEX(所属名!$A$2:$C$178,メイン!$K$2,3)=\"\",\"\",INDEX(所属名!$A$2:$C$178,メイン!$K$2,3))","v":"下橋"},null,null,null,null,null,null,null,null,null,null,null,"",""]
[25,{"$f":"IF(INDEX(所属名!$A$2:$C$178,メイン!$K$2,3)=\"\",\"\",INDEX(所属名!$A$2:$C$178,メイン!$K$2,3))","v":"下橋"},null,null,null,null,null,null,null,null,null,null,null,"",""]
[26,{"$f":"IF(INDEX(所属名!$A$2:$C$178,メイン!$K$2,3)=\"\",\"\",INDEX(所属名!$A$2:$C$178,メイン!$K$2,3))","v":"下橋"},null,null,null,null,null,null,null,null,null,null,null,"",""]
[27,{"$f":"IF(INDEX(所属名!$A$2:$C$178,メイン!$K$2,3)=\"\",\"\",INDEX(所属名!$A$2:$C$178,メイン!$K$2,3))","v":"下橋"},null,null,null,null,null,null,null,null,null,null,null,"",""]
[28,{"$f":"IF(INDEX(所属名!$A$2:$C$178,メイン!$K$2,3)=\"\",\"\",INDEX(所属名!$A$2:$C$178,メイン!$K$2,3))","v":"下橋"},null,null,null,null,null,null,null,null,null,null,null,"",""]
[29,{"$f":"IF(INDEX(所属名!$A$2:$C$178,メイン!$K$2,3)=\"\",\"\",INDEX(所属名!$A$2:$C$178,メイン!$K$2,3))","v":"下橋"},null,null,null,null,null,null,null,null,null,null,null,"",""]
[30,{"$f":"IF(INDEX(所属名!$A$2:$C$178,メイン!$K$2,3)=\"\",\"\",INDEX(所属名!$A$2:$C$178,メイン!$K$2,3))","v":"下橋"},null,null,null,null,null,null,null,null,null,null,null,"",""]
[31,{"$f":"IF(INDEX(所属名!$A$2:$C$178,メイン!$K$2,3)=\"\",\"\",INDEX(所属名!$A$2:$C$178,メイン!$K$2,3))","v":"下橋"},null,null,null,null,null,null,null,null,null,null,null,"",""]
[32,{"$f":"IF(INDEX(所属名!$A$2:$C$178,メイン!$K$2,3)=\"\",\"\",INDEX(所属名!$A$2:$C$178,メイン!$K$2,3))","v":"下橋"},null,null,null,null,null,null,null,null,null,null,null,"",""]
[33,{"$f":"IF(INDEX(所属名!$A$2:$C$178,メイン!$K$2,3)=\"\",\"\",INDEX(所属名!$A$2:$C$178,メイン!$K$2,3))","v":"下橋"},null,null,null,null,null,null,null,null,null,null,null,"",""]
[34,{"$f":"IF(INDEX(所属名!$A$2:$C$178,メイン!$K$2,3)=\"\",\"\",INDEX(所属名!$A$2:$C$178,メイン!$K$2,3))","v":"下橋"},null,null,null,null,null,null,null,null,null,null,null,"",""]
[35,{"$f":"IF(INDEX(所属名!$A$2:$C$178,メイン!$K$2,3)=\"\",\"\",INDEX(所属名!$A$2:$C$178,メイン!$K$2,3))","v":"下橋"},null,null,null,null,null,null,null,null,null,null,null,"",""]
[36,{"$f":"IF(INDEX(所属名!$A$2:$C$178,メイン!$K$2,3)=\"\",\"\",INDEX(所属名!$A$2:$C$178,メイン!$K$2,3))","v":"下橋"},null,null,null,null,null,null,null,null,null,null,null,"",""]
[37,{"$f":"IF(INDEX(所属名!$A$2:$C$178,メイン!$K$2,3)=\"\",\"\",INDEX(所属名!$A$2:$C$178,メイン!$K$2,3))","v":"下橋"},null,null,null,null,null,null,null,null,null,null,null,"",""]
[38,{"$f":"IF(INDEX(所属名!$A$2:$C$178,メイン!$K$2,3)=\"\",\"\",INDEX(所属名!$A$2:$C$178,メイン!$K$2,3))","v":"下橋"},null,null,null,null,null,null,null,null,null,null,null,"",""]
[39,{"$f":"IF(INDEX(所属名!$A$2:$C$178,メイン!$K$2,3)=\"\",\"\",INDEX(所属名!$A$2:$C$178,メイン!$K$2,3))","v":"下橋"},null,null,null,null,null,null,null,null,null,null,null,"",""]
[40,{"$f":"IF(INDEX(所属名!$A$2:$C$178,メイン!$K$2,3)=\"\",\"\",INDEX(所属名!$A$2:$C$178,メイン!$K$2,3))","v":"下橋"},null,null,null,null,null,null,null,null,null,null,null,"",""]
[41,{"$f":"IF(INDEX(所属名!$A$2:$C$178,メイン!$K$2,3)=\"\",\"\",INDEX(所属名!$A$2:$C$178,メイン!$K$2,3))","v":"下橋"},null,null,null,null,null,null,null,null,null,null,null,"",""]
[42,{"$f":"IF(INDEX(所属名!$A$2:$C$178,メイン!$K$2,3)=\"\",\"\",INDEX(所属名!$A$2:$C$178,メイン!$K$2,3))","v":"下橋"},null,null,null,null,null,null,null,null,null,null,null,"",""]
[43,{"$f":"IF(INDEX(所属名!$A$2:$C$178,メイン!$K$2,3)=\"\",\"\",INDEX(所属名!$A$2:$C$178,メイン!$K$2,3))","v":"下橋"},null,null,null,null,null,null,null,null,null,null,null,"",""]
[44,{"$f":"IF(INDEX(所属名!$A$2:$C$178,メイン!$K$2,3)=\"\",\"\",INDEX(所属名!$A$2:$C$178,メイン!$K$2,3))","v":"下橋"},null,null,null,null,null,null,null,null,null,null,null,"",""]
[45,{"$f":"IF(INDEX(所属名!$A$2:$C$178,メイン!$K$2,3)=\"\",\"\",INDEX(所属名!$A$2:$C$178,メイン!$K$2,3))","v":"下橋"},null,null,null,null,null,null,null,null,null,null,null,"",""]
[46,{"$f":"IF(INDEX(所属名!$A$2:$C$178,メイン!$K$2,3)=\"\",\"\",INDEX(所属名!$A$2:$C$178,メイン!$K$2,3))","v":"下橋"},null,null,null,null,null,null,null,null,null,null,null,"",""]
[47,{"$f":"IF(INDEX(所属名!$A$2:$C$178,メイン!$K$2,3)=\"\",\"\",INDEX(所属名!$A$2:$C$178,メイン!$K$2,3))","v":"下橋"},null,null,null,null,null,null,null,null,null,null,null,"",""]
[48,{"$f":"IF(INDEX(所属名!$A$2:$C$178,メイン!$K$2,3)=\"\",\"\",INDEX(所属名!$A$2:$C$178,メイン!$K$2,3))","v":"下橋"},null,null,null,null,null,null,null,null,null,null,null,"",""]
[49,{"$f":"IF(INDEX(所属名!$A$2:$C$178,メイン!$K$2,3)=\"\",\"\",INDEX(所属名!$A$2:$C$178,メイン!$K$2,3))","v":"下橋"},null,null,null,null,null,null,null,null,null,null,null,"",""]
[50,{"$f":"IF(INDEX(所属名!$A$2:$C$178,メイン!$K$2,3)=\"\",\"\",INDEX(所属名!$A$2:$C$178,メイン!$K$2,3))","v":"下橋"},null,null,null,null,null,null,null,null,null,null,null,"",""]
[51,{"$f":"IF(INDEX(所属名!$A$2:$C$178,メイン!$K$2,3)=\"\",\"\",INDEX(所属名!$A$2:$C$178,メイン!$K$2,3))","v":"下橋"},null,null,null,null,null,null,null,null,null,null,null,"",""]
[52,{"$f":"IF(INDEX(所属名!$A$2:$C$178,メイン!$K$2,3)=\"\",\"\",INDEX(所属名!$A$2:$C$178,メイン!$K$2,3))","v":"下橋"},null,null,null,null,null,null,null,null,null,null,null,"",""]
[53,{"$f":"IF(INDEX(所属名!$A$2:$C$178,メイン!$K$2,3)=\"\",\"\",INDEX(所属名!$A$2:$C$178,メイン!$K$2,3))","v":"下橋"},null,null,null,null,null,null,null,null,null,null,null,"",""]
[54,{"$f":"IF(INDEX(所属名!$A$2:$C$178,メイン!$K$2,3)=\"\",\"\",INDEX(所属名!$A$2:$C$178,メイン!$K$2,3))","v":"下橋"},null,null,null,null,null,null,null,null,null,null,null,"",""]
[55,{"$f":"IF(INDEX(所属名!$A$2:$C$178,メイン!$K$2,3)=\"\",\"\",INDEX(所属名!$A$2:$C$178,メイン!$K$2,3))","v":"下橋"},null,null,null,null,null,null,null,null,null,null,null,"",""]
[56,{"$f":"IF(INDEX(所属名!$A$2:$C$178,メイン!$K$2,3)=\"\",\"\",INDEX(所属名!$A$2:$C$178,メイン!$K$2,3))","v":"下橋"},null,null,null,null,null,null,null,null,null,null,null,"",""]
[57,{"$f":"IF(INDEX(所属名!$A$2:$C$178,メイン!$K$2,3)=\"\",\"\",INDEX(所属名!$A$2:$C$178,メイン!$K$2,3))","v":"下橋"},null,null,null,null,null,null,null,null,null,null,null,"",""]
[58,{"$f":"IF(INDEX(所属名!$A$2:$C$178,メイン!$K$2,3)=\"\",\"\",INDEX(所属名!$A$2:$C$178,メイン!$K$2,3))","v":"下橋"},null,null,null,null,null,null,null,null,null,null,null,"",""]
[59,{"$f":"IF(INDEX(所属名!$A$2:$C$178,メイン!$K$2,3)=\"\",\"\",INDEX(所属名!$A$2:$C$178,メイン!$K$2,3))","v":"下橋"},null,null,null,null,null,null,null,null,null,null,null,"",""]
[60,{"$f":"IF(INDEX(所属名!$A$2:$C$178,メイン!$K$2,3)=\"\",\"\",INDEX(所属名!$A$2:$C$178,メイン!$K$2,3))","v":"下橋"},null,null,null,null,null,null,null,null,null,null,null,"",""]
[61,{"$f":"IF(INDEX(所属名!$A$2:$C$178,メイン!$K$2,3)=\"\",\"\",INDEX(所属名!$A$2:$C$178,メイン!$K$2,3))","v":"下橋"},null,null,null,null,null,null,null,null,null,null,null,"",""]
[62,{"$f":"IF(INDEX(所属名!$A$2:$C$178,メイン!$K$2,3)=\"\",\"\",INDEX(所属名!$A$2:$C$178,メイン!$K$2,3))","v":"下橋"},null,null,null,null,null,null,null,null,null,null,null,"",""]
[63,{"$f":"IF(INDEX(所属名!$A$2:$C$178,メイン!$K$2,3)=\"\",\"\",INDEX(所属名!$A$2:$C$178,メイン!$K$2,3))","v":"下橋"},null,null,null,null,null,null,null,null,null,null,null,"",""]
[64,{"$f":"IF(INDEX(所属名!$A$2:$C$178,メイン!$K$2,3)=\"\",\"\",INDEX(所属名!$A$2:$C$178,メイン!$K$2,3))","v":"下橋"},null,null,null,null,null,null,null,null,null,null,null,"",""]
[65,{"$f":"IF(INDEX(所属名!$A$2:$C$178,メイン!$K$2,3)=\"\",\"\",INDEX(所属名!$A$2:$C$178,メイン!$K$2,3))","v":"下橋"},null,null,null,null,null,null,null,null,null,null,null,"",""]
[66,{"$f":"IF(INDEX(所属名!$A$2:$C$178,メイン!$K$2,3)=\"\",\"\",INDEX(所属名!$A$2:$C$178,メイン!$K$2,3))","v":"下橋"},null,null,null,null,null,null,null,null,null,null,null,{"$f":"F74&G74","v":""},""]
[67,{"$f":"IF(INDEX(所属名!$A$2:$C$178,メイン!$K$2,3)=\"\",\"\",INDEX(所属名!$A$2:$C$178,メイン!$K$2,3))","v":"下橋"},null,null,null,null,null,null,null,null,null,null,null,"",""]
[68,{"$f":"IF(INDEX(所属名!$A$2:$C$178,メイン!$K$2,3)=\"\",\"\",INDEX(所属名!$A$2:$C$178,メイン!$K$2,3))","v":"下橋"},null,null,null,null,null,null,null,null,null,null,null,"",""]
[69,{"$f":"IF(INDEX(所属名!$A$2:$C$178,メイン!$K$2,3)=\"\",\"\",INDEX(所属名!$A$2:$C$178,メイン!$K$2,3))","v":"下橋"},null,null,null,null,null,null,null,null,null,null,null,"",""]
[70,{"$f":"IF(INDEX(所属名!$A$2:$C$178,メイン!$K$2,3)=\"\",\"\",INDEX(所属名!$A$2:$C$178,メイン!$K$2,3))","v":"下橋"},null,null,null,null,null,null,null,null,null,null,null,"",""]
[71,{"$f":"IF(INDEX(所属名!$A$2:$C$178,メイン!$K$2,3)=\"\",\"\",INDEX(所属名!$A$2:$C$178,メイン!$K$2,3))","v":"下橋"},null,null,null,null,null,null,null,null,null,null,null,"",""]
[72,{"$f":"IF(INDEX(所属名!$A$2:$C$178,メイン!$K$2,3)=\"\",\"\",INDEX(所属名!$A$2:$C$178,メイン!$K$2,3))","v":"下橋"},null,null,null,null,null,null,null,null,null,null,null,"",""]
[73,{"$f":"IF(INDEX(所属名!$A$2:$C$178,メイン!$K$2,3)=\"\",\"\",INDEX(所属名!$A$2:$C$178,メイン!$K$2,3))","v":"下橋"},null,null,null,null,null,null,null,null,null,null,null,"",""]
[74,{"$f":"IF(INDEX(所属名!$A$2:$C$178,メイン!$K$2,3)=\"\",\"\",INDEX(所属名!$A$2:$C$178,メイン!$K$2,3))","v":"下橋"},null,null,null,null,null,null,null,null,null,null,null,"",""]
[75,{"$f":"IF(INDEX(所属名!$A$2:$C$178,メイン!$K$2,3)=\"\",\"\",INDEX(所属名!$A$2:$C$178,メイン!$K$2,3))","v":"下橋"},null,null,null,null,null,null,null,null,null,null,null,"",""]
[76,{"$f":"IF(INDEX(所属名!$A$2:$C$178,メイン!$K$2,3)=\"\",\"\",INDEX(所属名!$A$2:$C$178,メイン!$K$2,3))","v":"下橋"},null,null,null,null,null,null,null,null,null,null,null,"",""]
[77,{"$f":"IF(INDEX(所属名!$A$2:$C$178,メイン!$K$2,3)=\"\",\"\",INDEX(所属名!$A$2:$C$178,メイン!$K$2,3))","v":"下橋"},null,null,null,null,null,null,null,null,null,null,null,"",""]
[78,{"$f":"IF(INDEX(所属名!$A$2:$C$178,メイン!$K$2,3)=\"\",\"\",INDEX(所属名!$A$2:$C$178,メイン!$K$2,3))","v":"下橋"},null,null,null,null,null,null,null,null,null,null,null,"",""]
[79,{"$f":"IF(INDEX(所属名!$A$2:$C$178,メイン!$K$2,3)=\"\",\"\",INDEX(所属名!$A$2:$C$178,メイン!$K$2,3))","v":"下橋"},null,null,null,null,null,null,null,null,null,null,null,"",""]
[80,{"$f":"IF(INDEX(所属名!$A$2:$C$178,メイン!$K$2,3)=\"\",\"\",INDEX(所属名!$A$2:$C$178,メイン!$K$2,3))","v":"下橋"},null,null,null,null,null,null,null,null,null,null,null,"",""]
[81,{"$f":"IF(INDEX(所属名!$A$2:$C$178,メイン!$K$2,3)=\"\",\"\",INDEX(所属名!$A$2:$C$178,メイン!$K$2,3))","v":"下橋"},null,null,null,null,null,null,null,null,null,null,null,"",""]
[82,{"$f":"IF(INDEX(所属名!$A$2:$C$178,メイン!$K$2,3)=\"\",\"\",INDEX(所属名!$A$2:$C$178,メイン!$K$2,3))","v":"下橋"},null,null,null,null,null,null,null,null,null,null,null,"",""]
[83,{"$f":"IF(INDEX(所属名!$A$2:$C$178,メイン!$K$2,3)=\"\",\"\",INDEX(所属名!$A$2:$C$178,メイン!$K$2,3))","v":"下橋"},null,null,null,null,null,null,null,null,null,null,null,"",""]
[84,{"$f":"IF(INDEX(所属名!$A$2:$C$178,メイン!$K$2,3)=\"\",\"\",INDEX(所属名!$A$2:$C$178,メイン!$K$2,3))","v":"下橋"},null,null,null,null,null,null,null,null,null,null,null,"",{"$f":"SUBSTITUTE(SUBSTITUTE(SUBSTITUTE(SUBSTITUTE(SUBSTITUTE(SUBSTITUTE(N92,$Q$9,$R$9),$Q$10,$R$10),$Q$11,$R$11),$Q$12,$R$12),$Q$13,$R$13),$Q$14,$R$14)","v":""}]
[85,{"$f":"IF(INDEX(所属名!$A$2:$C$178,メイン!$K$2,3)=\"\",\"\",INDEX(所属名!$A$2:$C$178,メイン!$K$2,3))","v":"下橋"},null,null,null,null,null,null,null,null,null,null,null,"",""]
[86,{"$f":"IF(INDEX(所属名!$A$2:$C$178,メイン!$K$2,3)=\"\",\"\",INDEX(所属名!$A$2:$C$178,メイン!$K$2,3))","v":"下橋"},null,null,null,null,null,null,null,null,null,null,null,"",""]
[87,{"$f":"IF(INDEX(所属名!$A$2:$C$178,メイン!$K$2,3)=\"\",\"\",INDEX(所属名!$A$2:$C$178,メイン!$K$2,3))","v":"下橋"},null,null,null,null,null,null,null,null,null,null,null,"",""]
[88,{"$f":"IF(INDEX(所属名!$A$2:$C$178,メイン!$K$2,3)=\"\",\"\",INDEX(所属名!$A$2:$C$178,メイン!$K$2,3))","v":"下橋"},null,null,null,null,null,null,null,null,null,null,null,"",""]
[89,{"$f":"IF(INDEX(所属名!$A$2:$C$178,メイン!$K$2,3)=\"\",\"\",INDEX(所属名!$A$2:$C$178,メイン!$K$2,3))","v":"下橋"},null,null,null,null,null,null,null,null,null,null,null,"",""]
[90,{"$f":"IF(INDEX(所属名!$A$2:$C$178,メイン!$K$2,3)=\"\",\"\",INDEX(所属名!$A$2:$C$178,メイン!$K$2,3))","v":"下橋"},null,null,null,null,null,null,null,null,null,null,null,"",""]
[91,{"$f":"IF(INDEX(所属名!$A$2:$C$178,メイン!$K$2,3)=\"\",\"\",INDEX(所属名!$A$2:$C$178,メイン!$K$2,3))","v":"下橋"},null,null,null,null,null,null,null,null,null,null,null,"",""]
[92,{"$f":"IF(INDEX(所属名!$A$2:$C$178,メイン!$K$2,3)=\"\",\"\",INDEX(所属名!$A$2:$C$178,メイン!$K$2,3))","v":"下橋"},null,null,null,null,null,null,null,null,null,null,null,"",""]
[93,{"$f":"IF(INDEX(所属名!$A$2:$C$178,メイン!$K$2,3)=\"\",\"\",INDEX(所属名!$A$2:$C$178,メイン!$K$2,3))","v":"下橋"},null,null,null,null,null,null,null,null,null,null,null,"",""]
[94,{"$f":"IF(INDEX(所属名!$A$2:$C$178,メイン!$K$2,3)=\"\",\"\",INDEX(所属名!$A$2:$C$178,メイン!$K$2,3))","v":"下橋"},null,null,null,null,null,null,null,null,null,null,null,"",""]
[95,{"$f":"IF(INDEX(所属名!$A$2:$C$178,メイン!$K$2,3)=\"\",\"\",INDEX(所属名!$A$2:$C$178,メイン!$K$2,3))","v":"下橋"},null,null,null,null,null,null,null,null,null,null,null,"",""]
[96,{"$f":"IF(INDEX(所属名!$A$2:$C$178,メイン!$K$2,3)=\"\",\"\",INDEX(所属名!$A$2:$C$178,メイン!$K$2,3))","v":"下橋"},null,null,null,null,null,null,null,null,null,null,null,"",""]
[97,{"$f":"IF(INDEX(所属名!$A$2:$C$178,メイン!$K$2,3)=\"\",\"\",INDEX(所属名!$A$2:$C$178,メイン!$K$2,3))","v":"下橋"},null,null,null,null,null,null,null,null,null,null,null,"",""]
[98,{"$f":"IF(INDEX(所属名!$A$2:$C$178,メイン!$K$2,3)=\"\",\"\",INDEX(所属名!$A$2:$C$178,メイン!$K$2,3))","v":"下橋"},null,null,null,null,null,null,null,null,null,null,null,"",""]
[99,{"$f":"IF(INDEX(所属名!$A$2:$C$178,メイン!$K$2,3)=\"\",\"\",INDEX(所属名!$A$2:$C$178,メイン!$K$2,3))","v":"下橋"},null,null,null,null,null,null,null,null,null,null,null,"",""]
[100,{"$f":"IF(INDEX(所属名!$A$2:$C$178,メイン!$K$2,3)=\"\",\"\",INDEX(所属名!$A$2:$C$178,メイン!$K$2,3))","v":"下橋"},null,null,null,null,null,null,null,null,null,null,null,"",""]

{"sheet":"リレー種目","index":1,"n_rows":101,"n_cols":11,"rows_kept":101,"cut":false,"hidden":false,"merged":[[12,10,22,12]]}
["NO","所属名","ABC別","チーム名","ナンバーカード","競技者名","学年","参加競技","参加競技記録"]
[1,null,null,{"$f":"B2&C2","v":""}]
[2,null,null,{"$f":"B3&C3","v":""}]
[3,null,null,""]
[4,null,null,""]
[5,null,null,""]
[6,null,null,""]
[7,null,null,""]
[8,null,null,""]
[9,null,null,""]
[10,null,null,""]
[11,null,null,""]
[12,null,null,"",null,null,null,null,null,null,"赤く塗られた所【セル】\nは作業してはいけません。"]
[13,null,null,""]
[14,null,null,""]
[15,null,null,""]
[16,null,null,""]
[17,null,null,""]
[18,null,null,""]
[19,null,null,""]
[20,null,null,""]
[21,null,null,""]
[22,null,null,""]
[23,null,null,""]
[24,null,null,""]
[25,null,null,""]
[26,null,null,""]
[27,null,null,""]
[28,null,null,""]
[29,null,null,""]
[30,null,null,""]
[31,null,null,""]
[32,null,null,""]
[33,null,null,""]
[34,null,null,""]
[35,null,null,""]
[36,null,null,""]
[37,null,null,""]
[38,null,null,""]
[39,null,null,""]
[40,null,null,""]
[41,null,null,""]
[42,null,null,""]
[43,null,null,""]
[44,null,null,""]
[45,null,null,""]
[46,null,null,""]
[47,null,null,""]
[48,null,null,""]
[49,null,null,""]
[50,null,null,""]
[51,null,null,""]
[52,null,null,""]
[53,null,null,""]
[54,null,null,""]
[55,null,null,""]
[56,null,null,""]
[57,null,null,""]
[58,null,null,""]
[59,null,null,""]
[60,null,null,""]
[61,null,null,""]
[62,null,null,""]
[63,null,null,""]
[64,null,null,""]
[65,null,null,""]
[66,null,null,{"$f":"B67&C67","v":""}]
[67,null,null,""]
[68,null,null,""]
[69,null,null,""]
[70,null,null,""]
[71,null,null,""]
[72,null,null,""]
[73,null,null,""]
[74,null,null,""]
[75,null,null,""]
[76,null,null,""]
[77,null,null,""]
[78,null,null,""]
[79,null,null,""]
[80,null,null,""]
[81,null,null,""]
[82,null,null,""]
[83,null,null,""]
[84,null,null,""]
[85,null,null,""]
[86,null,null,""]
[87,null,null,""]
[88,null,null,""]
[89,null,null,""]
[90,null,null,""]
[91,null,null,""]
[92,null,null,""]
[93,null,null,""]
[94,null,null,""]
[95,null,null,""]
[96,null,null,""]
[97,null,null,""]
[98,null,null,""]
[99,null,null,""]
[100,"滝沢第二",null,"滝沢第二",100,"51",1,"中学共通女子4X100mR",1]

{"sheet":"一覧表","index":2,"n_rows":213,"n_cols":8,"rows_kept":213,"cut":false,"hidden":false,"merged":[[3,6,3,7],[4,1,4,2],[7,0,8,0],[7,1,8,1],[7,7,8,7],[0,0,0,1],[0,2,0,5],[2,0,2,1],[13,0,14,0],[13,1,14,1],[13,7,14,7],[15,0,16,0],[15,1,16,1],[15,7,16,7],[9,0,10,0],[9,1,10,1],[9,7,10,7],[11,0,12,0],[11,1,12,1],[11,7,12,7],[21,0,22,0],[21,1,22,1],[21,7,22,7],[23,0,24,0],[23,1,24,1],[23,7,24,7],[17,0,18,0],[17,1,18,1],[17,7,18,7],[19,0,20,0],[19,1,20,1],[19,7,20,7],[29,0,30,0],[29,1,30,1],[29,7,30,7],[31,0,32,0],[31,1,32,1],[31,7,32,7],[25,0,26,0],[25,1,26,1],[25,7,26,7],[27,0,28,0],[27,1,28,1],[27,7,28,7],[37,1,38,1],[37,7,38,7],[39,0,40,0],[39,1,40,1],[39,7,40,7],[33,0,34,0],[33,1,34,1],[33,7,34,7],[35,0,36,0],[35,1,36,1],[35,7,36,7],[45,1,46,1],[45,7,46,7],[47,1,48,1],[47,7,48,7],[49,1,50,1],[49,7,50,7],[2,2,2,7],[45,0,46,0],[47,0,48,0],[49,0,50,0],[7,4,7,6],[5,0,5,1],[5,3,5,4],[5,6,5,7],[41,0,42,0],[41,1,42,1],[43,0,44,0],[43,1,44,1],[43,7,44,7],[3,0,3,1],[3,2,3,3],[3,4,3,5],[4,5,4,7],[37,0,38,0],[56,0,56,2],[56,5,56,6],[57,0,57,1],[57,2,57,7],[58,0,58,1],[58,2,58,3],[58,4,58,5],[58,6,58,7],[51,1,52,1],[51,7,52,7],[54,0,54,1],[54,2,54,5],[55,0,55,6],[51,0,52,0],[63,0,64,0],[63,1,64,1],[63,7,64,7],[65,0,66,0],[65,1,66,1],[65,7,66,7],[59,1,59,2],[59,5,59,7],[61,0,62,0],[61,1,62,1],[61,3,62,3],[61,7,62,7],[61,4,61,6],[71,0,72,0],[71,1,72,1],[71,7,72,7],[73,0,74,0],[73,1,74,1],[73,7,74,7],[67,0,68,0],[67,1,68,1],[67,7,68,7],[69,0,70,0],[69,1,70,1],[69,7,70,7],[79,0,80,0],[79,1,80,1],[79,7,80,7],[81,0,82,0],[81,1,82,1],[81,7,82,7],[75,0,76,0],[75,1,76,1],[75,7,76,7],[77,0,78,0],[77,1,78,1],[77,7,78,7],[87,0,88,0],[87,1,88,1],[87,7,88,7],[89,0,90,0],[89,1,90,1],[89,7,90,7],[83,0,84,0],[83,1,84,1],[83,7,84,7],[85,0,86,0],[85,1,86,1],[85,7,86,7],[95,0,96,0],[95,1,96,1],[97,0,98,0],[97,1,98,1],[91,0,92,0],[91,1,92,1],[91,7,92,7],[93,0,94,0],[93,1,94,1],[93,7,94,7],[103,0,104,0],[103,1,104,1],[103,7,104,7],[105,0,106,0],[105,1,106,1],[105,7,106,7],[97,7,98,7],[99,0,100,0],[99,1,100,1],[99,7,100,7],[101,0,102,0],[101,1,102,1],[101,7,102,7],[111,0,111,1],[111,2,111,3],[111,4,111,5],[111,6,111,7],[112,1,112,2],[112,5,112,7],[107,0,107,1],[107,2,107,5],[108,0,108,6],[109,0,109,2],[109,5,109,6],[110,0,110,1],[110,2,110,7],[118,0,119,0],[118,1,119,1],[118,7,119,7],[120,0,121,0],[120,1,121,1],[120,7,121,7],[114,0,115,0],[114,1,115,1],[114,3,115,3],[114,7,115,7],[116,0,117,0],[116,1,117,1],[116,7,117,7],[114,4,114,6],[126,0,127,0],[126,1,127,1],[126,7,127,7],[128,0,129,0],[128,1,129,1],[128,7,129,7],[122,0,123,0],[122,1,123,1],[122,7,123,7],[124,0,125,0],[124,1,125,1],[124,7,125,7],[134,0,135,0],[134,1,135,1],[134,7,135,7],[136,0,137,0],[136,1,137,1],[136,7,137,7],[130,0,131,0],[130,1,131,1],[130,7,131,7],[132,0,133,0],[132,1,133,1],[132,7,133,7],[142,0,143,0],[142,1,143,1],[142,7,143,7],[144,0,145,0],[144,1,145,1],[144,7,145,7],[138,0,139,0],[138,1,139,1],[138,7,139,7],[140,0,141,0],[140,1,141,1],[140,7,141,7],[150,0,151,0],[150,1,151,1],[150,7,151,7],[152,0,153,0],[152,1,153,1],[152,7,153,7],[146,0,147,0],[146,1,147,1],[146,7,147,7],[148,0,149,0],[148,1,149,1],[158,0,159,0],[158,1,159,1],[158,7,159,7],[160,0,160,1],[160,2,160,5],[154,0,155,0],[154,1,155,1],[154,7,155,7],[156,0,157,0],[156,1,157,1],[156,7,157,7],[161,0,161,6],[162,0,162,2],[162,5,162,6],[163,0,163,1],[163,2,163,7],[164,0,164,1],[164,2,164,3],[164,4,164,5],[164,6,164,7],[169,0,170,0],[169,1,170,1],[169,7,170,7],[171,0,172,0],[171,1,172,1],[171,7,172,7],[165,1,165,2],[165,5,165,7],[167,0,168,0],[167,1,168,1],[167,3,168,3],[167,7,168,7],[167,4,167,6],[177,0,178,0],[177,1,178,1],[177,7,178,7],[179,0,180,0],[179,1,180,1],[179,7,180,7],[173,0,174,0],[173,1,174,1],[173,7,174,7],[175,0,176,0],[175,1,176,1],[175,7,176,7],[185,0,186,0],[185,1,186,1],[185,7,186,7],[187,0,188,0],[187,1,188,1],[187,7,188,7],[181,0,182,0],[181,1,182,1],[181,7,182,7],[183,0,184,0],[183,1,184,1],[183,7,184,7],[193,0,194,0],[193,1,194,1],[193,7,194,7],[195,0,196,0],[195,1,196,1],[195,7,196,7],[189,0,190,0],[189,1,190,1],[189,7,190,7],[191,0,192,0],[191,1,192,1],[191,7,192,7],[201,0,202,0],[201,1,202,1],[203,0,204,0],[203,1,204,1],[197,0,198,0],[197,1,198,1],[197,7,198,7],[199,0,200,0],[199,1,200,1],[199,7,200,7],[209,0,210,0],[209,1,210,1],[209,7,210,7],[211,0,212,0],[211,1,212,1],[211,7,212,7],[203,7,204,7],[205,0,206,0],[205,1,206,1],[205,7,206,7],[207,0,208,0],[207,1,208,1],[207,7,208,7]]}
["大会名",null,{"$f":"メイン!$C$1","v":"第25回岩手県中学校新人大会陸上競技"},null,null,null,null,"NO.1"]
["                                               陸上競技大会参加申込一覧表"]
["所属名",null,{"$f":"メイン!$C$2","v":0}]
["所属電話番号",null,{"$f":"メイン!$C$5","v":0},null,"監督電話番号",null,{"$f":"メイン!$C$6","v":0}]
["所属長",{"$f":"メイン!$C$3","v":0},null,"印","監督名",{"$f":"メイン!$C$4","v":0}]
["出場者数",null,"男",{"$f":"COUNTIF(メイン!$F$9:$F$108,\"男\")","v":0},null,"女",{"$f":"COUNTIF(メイン!$F$9:$F$108,\"女\")","v":0}]
[]
["整理番号","ナンバー　　カード","フリガナ","学年","申込種目",null,null,"データ　　バンク"]
[null,null,"氏名","性別","種目1","種目2","リレー出場　　　　記入欄"]
[1,{"$f":"IF(INDEX(メイン!$A$9:$M$108,$A10,3)=\"\",\"\",INDEX(メイン!$A$9:$M$108,$A10,3))","v":""},{"$f":"IF(INDEX(メイン!$A$9:$M$108,$A10,5)=\"\",\"\",INDEX(メイン!$A$9:$M$108,$A10,5))","v":""},{"$f":"IF(INDEX(メイン!$A$9:$M$108,$A10,7)=\"\",\"\",INDEX(メイン!$A$9:$M$108,$A10,7))","v":""},{"$f":"IF(INDEX(メイン!$A$9:$M$108,$A10,8)=\"\",\"\",INDEX(メイン!$A$9:$M$108,$A10,8))","v":""},{"$f":"IF(INDEX(メイン!$A$9:$M$108,$A10,10)=\"\",\"\",INDEX(メイン!$A$9:$M$108,$A10,10))","v":""},{"$f":"IF(INDEX(メイン!$A$9:$M$108,$A10,12)=\"\",\"\",INDEX(メイン!$A$9:$M$108,$A10,12))","v":""}]
[null,null,{"$f":"IF(INDEX(メイン!$A$9:$M$108,$A10,4)=\"\",\"\",INDEX(メイン!$A$9:$M$108,$A10,4))","v":""},{"$f":"IF(INDEX(メイン!$A$9:$M$108,$A10,6)=\"\",\"\",INDEX(メイン!$A$9:$M$108,$A10,6))","v":""},{"$f":"IF(INDEX(メイン!$A$9:$M$108,$A10,9)=\"\",\"\",INDEX(メイン!$A$9:$M$108,$A10,9))","v":""},{"$f":"IF(INDEX(メイン!$A$9:$M$108,$A10,11)=\"\",\"\",INDEX(メイン!$A$9:$M$108,$A10,11))","v":""},{"$f":"IF(INDEX(メイン!$A$9:$M$108,$A10,13)=\"\",\"\",INDEX(メイン!$A$9:$M$108,$A10,13))","v":""}]
[2,{"$f":"IF(INDEX(メイン!$A$9:$M$108,$A12,3)=\"\",\"\",INDEX(メイン!$A$9:$M$108,$A12,3))","v":""},{"$f":"IF(INDEX(メイン!$A$9:$M$108,$A12,5)=\"\",\"\",INDEX(メイン!$A$9:$M$108,$A12,5))","v":""},{"$f":"IF(INDEX(メイン!$A$9:$M$108,$A12,7)=\"\",\"\",INDEX(メイン!$A$9:$M$108,$A12,7))","v":""},{"$f":"IF(INDEX(メイン!$A$9:$M$108,$A12,8)=\"\",\"\",INDEX(メイン!$A$9:$M$108,$A12,8))","v":""},{"$f":"IF(INDEX(メイン!$A$9:$M$108,$A12,10)=\"\",\"\",INDEX(メイン!$A$9:$M$108,$A12,10))","v":""},{"$f":"IF(INDEX(メイン!$A$9:$M$108,$A12,12)=\"\",\"\",INDEX(メイン!$A$9:$M$108,$A12,12))","v":""}]
[null,null,{"$f":"IF(INDEX(メイン!$A$9:$M$108,$A12,4)=\"\",\"\",INDEX(メイン!$A$9:$M$108,$A12,4))","v":""},{"$f":"IF(INDEX(メイン!$A$9:$M$108,$A12,6)=\"\",\"\",INDEX(メイン!$A$9:$M$108,$A12,6))","v":""},{"$f":"IF(INDEX(メイン!$A$9:$M$108,$A12,9)=\"\",\"\",INDEX(メイン!$A$9:$M$108,$A12,9))","v":""},{"$f":"IF(INDEX(メイン!$A$9:$M$108,$A12,11)=\"\",\"\",INDEX(メイン!$A$9:$M$108,$A12,11))","v":""},{"$f":"IF(INDEX(メイン!$A$9:$M$108,$A12,13)=\"\",\"\",INDEX(メイン!$A$9:$M$108,$A12,13))","v":""}]
[3,{"$f":"IF(INDEX(メイン!$A$9:$M$108,$A14,3)=\"\",\"\",INDEX(メイン!$A$9:$M$108,$A14,3))","v":""},{"$f":"IF(INDEX(メイン!$A$9:$M$108,$A14,5)=\"\",\"\",INDEX(メイン!$A$9:$M$108,$A14,5))","v":""},{"$f":"IF(INDEX(メイン!$A$9:$M$108,$A14,7)=\"\",\"\",INDEX(メイン!$A$9:$M$108,$A14,7))","v":""},{"$f":"IF(INDEX(メイン!$A$9:$M$108,$A14,8)=\"\",\"\",INDEX(メイン!$A$9:$M$108,$A14,8))","v":""},{"$f":"IF(INDEX(メイン!$A$9:$M$108,$A14,10)=\"\",\"\",INDEX(メイン!$A$9:$M$108,$A14,10))","v":""},{"$f":"IF(INDEX(メイン!$A$9:$M$108,$A14,12)=\"\",\"\",INDEX(メイン!$A$9:$M$108,$A14,12))","v":""}]
[null,null,{"$f":"IF(INDEX(メイン!$A$9:$M$108,$A14,4)=\"\",\"\",INDEX(メイン!$A$9:$M$108,$A14,4))","v":""},{"$f":"IF(INDEX(メイン!$A$9:$M$108,$A14,6)=\"\",\"\",INDEX(メイン!$A$9:$M$108,$A14,6))","v":""},{"$f":"IF(INDEX(メイン!$A$9:$M$108,$A14,9)=\"\",\"\",INDEX(メイン!$A$9:$M$108,$A14,9))","v":""},{"$f":"IF(INDEX(メイン!$A$9:$M$108,$A14,11)=\"\",\"\",INDEX(メイン!$A$9:$M$108,$A14,11))","v":""},{"$f":"IF(INDEX(メイン!$A$9:$M$108,$A14,13)=\"\",\"\",INDEX(メイン!$A$9:$M$108,$A14,13))","v":""}]
[4,{"$f":"IF(INDEX(メイン!$A$9:$M$108,$A16,3)=\"\",\"\",INDEX(メイン!$A$9:$M$108,$A16,3))","v":""},{"$f":"IF(INDEX(メイン!$A$9:$M$108,$A16,5)=\"\",\"\",INDEX(メイン!$A$9:$M$108,$A16,5))","v":""},{"$f":"IF(INDEX(メイン!$A$9:$M$108,$A16,7)=\"\",\"\",INDEX(メイン!$A$9:$M$108,$A16,7))","v":""},{"$f":"IF(INDEX(メイン!$A$9:$M$108,$A16,8)=\"\",\"\",INDEX(メイン!$A$9:$M$108,$A16,8))","v":""},{"$f":"IF(INDEX(メイン!$A$9:$M$108,$A16,10)=\"\",\"\",INDEX(メイン!$A$9:$M$108,$A16,10))","v":""},{"$f":"IF(INDEX(メイン!$A$9:$M$108,$A16,12)=\"\",\"\",INDEX(メイン!$A$9:$M$108,$A16,12))","v":""}]
[null,null,{"$f":"IF(INDEX(メイン!$A$9:$M$108,$A16,4)=\"\",\"\",INDEX(メイン!$A$9:$M$108,$A16,4))","v":""},{"$f":"IF(INDEX(メイン!$A$9:$M$108,$A16,6)=\"\",\"\",INDEX(メイン!$A$9:$M$108,$A16,6))","v":""},{"$f":"IF(INDEX(メイン!$A$9:$M$108,$A16,9)=\"\",\"\",INDEX(メイン!$A$9:$M$108,$A16,9))","v":""},{"$f":"IF(INDEX(メイン!$A$9:$M$108,$A16,11)=\"\",\"\",INDEX(メイン!$A$9:$M$108,$A16,11))","v":""},{"$f":"IF(INDEX(メイン!$A$9:$M$108,$A16,13)=\"\",\"\",INDEX(メイン!$A$9:$M$108,$A16,13))","v":""}]
[5,{"$f":"IF(INDEX(メイン!$A$9:$M$108,$A18,3)=\"\",\"\",INDEX(メイン!$A$9:$M$108,$A18,3))","v":""},{"$f":"IF(INDEX(メイン!$A$9:$M$108,$A18,5)=\"\",\"\",INDEX(メイン!$A$9:$M$108,$A18,5))","v":""},{"$f":"IF(INDEX(メイン!$A$9:$M$108,$A18,7)=\"\",\"\",INDEX(メイン!$A$9:$M$108,$A18,7))","v":""},{"$f":"IF(INDEX(メイン!$A$9:$M$108,$A18,8)=\"\",\"\",INDEX(メイン!$A$9:$M$108,$A18,8))","v":""},{"$f":"IF(INDEX(メイン!$A$9:$M$108,$A18,10)=\"\",\"\",INDEX(メイン!$A$9:$M$108,$A18,10))","v":""},{"$f":"IF(INDEX(メイン!$A$9:$M$108,$A18,12)=\"\",\"\",INDEX(メイン!$A$9:$M$108,$A18,12))","v":""}]
[null,null,{"$f":"IF(INDEX(メイン!$A$9:$M$108,$A18,4)=\"\",\"\",INDEX(メイン!$A$9:$M$108,$A18,4))","v":""},{"$f":"IF(INDEX(メイン!$A$9:$M$108,$A18,6)=\"\",\"\",INDEX(メイン!$A$9:$M$108,$A18,6))","v":""},{"$f":"IF(INDEX(メイン!$A$9:$M$108,$A18,9)=\"\",\"\",INDEX(メイン!$A$9:$M$108,$A18,9))","v":""},{"$f":"IF(INDEX(メイン!$A$9:$M$108,$A18,11)=\"\",\"\",INDEX(メイン!$A$9:$M$108,$A18,11))","v":""},{"$f":"IF(INDEX(メイン!$A$9:$M$108,$A18,13)=\"\",\"\",INDEX(メイン!$A$9:$M$108,$A18,13))","v":""}]
[6,{"$f":"IF(INDEX(メイン!$A$9:$M$108,$A20,3)=\"\",\"\",INDEX(メイン!$A$9:$M$108,$A20,3))","v":""},{"$f":"IF(INDEX(メイン!$A$9:$M$108,$A20,5)=\"\",\"\",INDEX(メイン!$A$9:$M$108,$A20,5))","v":""},{"$f":"IF(INDEX(メイン!$A$9:$M$108,$A20,7)=\"\",\"\",INDEX(メイン!$A$9:$M$108,$A20,7))","v":""},{"$f":"IF(INDEX(メイン!$A$9:$M$108,$A20,8)=\"\",\"\",INDEX(メイン!$A$9:$M$108,$A20,8))","v":""},{"$f":"IF(INDEX(メイン!$A$9:$M$108,$A20,10)=\"\",\"\",INDEX(メイン!$A$9:$M$108,$A20,10))","v":""},{"$f":"IF(INDEX(メイン!$A$9:$M$108,$A20,12)=\"\",\"\",INDEX(メイン!$A$9:$M$108,$A20,12))","v":""}]
[null,null,{"$f":"IF(INDEX(メイン!$A$9:$M$108,$A20,4)=\"\",\"\",INDEX(メイン!$A$9:$M$108,$A20,4))","v":""},{"$f":"IF(INDEX(メイン!$A$9:$M$108,$A20,6)=\"\",\"\",INDEX(メイン!$A$9:$M$108,$A20,6))","v":""},{"$f":"IF(INDEX(メイン!$A$9:$M$108,$A20,9)=\"\",\"\",INDEX(メイン!$A$9:$M$108,$A20,9))","v":""},{"$f":"IF(INDEX(メイン!$A$9:$M$108,$A20,11)=\"\",\"\",INDEX(メイン!$A$9:$M$108,$A20,11))","v":""},{"$f":"IF(INDEX(メイン!$A$9:$M$108,$A20,13)=\"\",\"\",INDEX(メイン!$A$9:$M$108,$A20,13))","v":""}]
[7,{"$f":"IF(INDEX(メイン!$A$9:$M$108,$A22,3)=\"\",\"\",INDEX(メイン!$A$9:$M$108,$A22,3))","v":""},{"$f":"IF(INDEX(メイン!$A$9:$M$108,$A22,5)=\"\",\"\",INDEX(メイン!$A$9:$M$108,$A22,5))","v":""},{"$f":"IF(INDEX(メイン!$A$9:$M$108,$A22,7)=\"\",\"\",INDEX(メイン!$A$9:$M$108,$A22,7))","v":""},{"$f":"IF(INDEX(メイン!$A$9:$M$108,$A22,8)=\"\",\"\",INDEX(メイン!$A$9:$M$108,$A22,8))","v":""},{"$f":"IF(INDEX(メイン!$A$9:$M$108,$A22,10)=\"\",\"\",INDEX(メイン!$A$9:$M$108,$A22,10))","v":""},{"$f":"IF(INDEX(メイン!$A$9:$M$108,$A22,12)=\"\",\"\",INDEX(メイン!$A$9:$M$108,$A22,12))","v":""}]
[null,null,{"$f":"IF(INDEX(メイン!$A$9:$M$108,$A22,4)=\"\",\"\",INDEX(メイン!$A$9:$M$108,$A22,4))","v":""},{"$f":"IF(INDEX(メイン!$A$9:$M$108,$A22,6)=\"\",\"\",INDEX(メイン!$A$9:$M$108,$A22,6))","v":""},{"$f":"IF(INDEX(メイン!$A$9:$M$108,$A22,9)=\"\",\"\",INDEX(メイン!$A$9:$M$108,$A22,9))","v":""},{"$f":"IF(INDEX(メイン!$A$9:$M$108,$A22,11)=\"\",\"\",INDEX(メイン!$A$9:$M$108,$A22,11))","v":""},{"$f":"IF(INDEX(メイン!$A$9:$M$108,$A22,13)=\"\",\"\",INDEX(メイン!$A$9:$M$108,$A22,13))","v":""}]
[8,{"$f":"IF(INDEX(メイン!$A$9:$M$108,$A24,3)=\"\",\"\",INDEX(メイン!$A$9:$M$108,$A24,3))","v":""},{"$f":"IF(INDEX(メイン!$A$9:$M$108,$A24,5)=\"\",\"\",INDEX(メイン!$A$9:$M$108,$A24,5))","v":""},{"$f":"IF(INDEX(メイン!$A$9:$M$108,$A24,7)=\"\",\"\",INDEX(メイン!$A$9:$M$108,$A24,7))","v":""},{"$f":"IF(INDEX(メイン!$A$9:$M$108,$A24,8)=\"\",\"\",INDEX(メイン!$A$9:$M$108,$A24,8))","v":""},{"$f":"IF(INDEX(メイン!$A$9:$M$108,$A24,10)=\"\",\"\",INDEX(メイン!$A$9:$M$108,$A24,10))","v":""},{"$f":"IF(INDEX(メイン!$A$9:$M$108,$A24,12)=\"\",\"\",INDEX(メイン!$A$9:$M$108,$A24,12))","v":""}]
[null,null,{"$f":"IF(INDEX(メイン!$A$9:$M$108,$A24,4)=\"\",\"\",INDEX(メイン!$A$9:$M$108,$A24,4))","v":""},{"$f":"IF(INDEX(メイン!$A$9:$M$108,$A24,6)=\"\",\"\",INDEX(メイン!$A$9:$M$108,$A24,6))","v":""},{"$f":"IF(INDEX(メイン!$A$9:$M$108,$A24,9)=\"\",\"\",INDEX(メイン!$A$9:$M$108,$A24,9))","v":""},{"$f":"IF(INDEX(メイン!$A$9:$M$108,$A24,11)=\"\",\"\",INDEX(メイン!$A$9:$M$108,$A24,11))","v":""},{"$f":"IF(INDEX(メイン!$A$9:$M$108,$A24,13)=\"\",\"\",INDEX(メイン!$A$9:$M$108,$A24,13))","v":""}]
[9,{"$f":"IF(INDEX(メイン!$A$9:$M$108,$A26,3)=\"\",\"\",INDEX(メイン!$A$9:$M$108,$A26,3))","v":""},{"$f":"IF(INDEX(メイン!$A$9:$M$108,$A26,5)=\"\",\"\",INDEX(メイン!$A$9:$M$108,$A26,5))","v":""},{"$f":"IF(INDEX(メイン!$A$9:$M$108,$A26,7)=\"\",\"\",INDEX(メイン!$A$9:$M$108,$A26,7))","v":""},{"$f":"IF(INDEX(メイン!$A$9:$M$108,$A26,8)=\"\",\"\",INDEX(メイン!$A$9:$M$108,$A26,8))","v":""},{"$f":"IF(INDEX(メイン!$A$9:$M$108,$A26,10)=\"\",\"\",INDEX(メイン!$A$9:$M$108,$A26,10))","v":""},{"$f":"IF(INDEX(メイン!$A$9:$M$108,$A26,12)=\"\",\"\",INDEX(メイン!$A$9:$M$108,$A26,12))","v":""}]
[null,null,{"$f":"IF(INDEX(メイン!$A$9:$M$108,$A26,4)=\"\",\"\",INDEX(メイン!$A$9:$M$108,$A26,4))","v":""},{"$f":"IF(INDEX(メイン!$A$9:$M$108,$A26,6)=\"\",\"\",INDEX(メイン!$A$9:$M$108,$A26,6))","v":""},{"$f":"IF(INDEX(メイン!$A$9:$M$108,$A26,9)=\"\",\"\",INDEX(メイン!$A$9:$M$108,$A26,9))","v":""},{"$f":"IF(INDEX(メイン!$A$9:$M$108,$A26,11)=\"\",\"\",INDEX(メイン!$A$9:$M$108,$A26,11))","v":""},{"$f":"IF(INDEX(メイン!$A$9:$M$108,$A26,13)=\"\",\"\",INDEX(メイン!$A$9:$M$108,$A26,13))","v":""}]
[10,{"$f":"IF(INDEX(メイン!$A$9:$M$108,$A28,3)=\"\",\"\",INDEX(メイン!$A$9:$M$108,$A28,3))","v":""},{"$f":"IF(INDEX(メイン!$A$9:$M$108,$A28,5)=\"\",\"\",INDEX(メイン!$A$9:$M$108,$A28,5))","v":""},{"$f":"IF(INDEX(メイン!$A$9:$M$108,$A28,7)=\"\",\"\",INDEX(メイン!$A$9:$M$108,$A28,7))","v":""},{"$f":"IF(INDEX(メイン!$A$9:$M$108,$A28,8)=\"\",\"\",INDEX(メイン!$A$9:$M$108,$A28,8))","v":""},{"$f":"IF(INDEX(メイン!$A$9:$M$108,$A28,10)=\"\",\"\",INDEX(メイン!$A$9:$M$108,$A28,10))","v":""},{"$f":"IF(INDEX(メイン!$A$9:$M$108,$A28,12)=\"\",\"\",INDEX(メイン!$A$9:$M$108,$A28,12))","v":""}]
[null,null,{"$f":"IF(INDEX(メイン!$A$9:$M$108,$A28,4)=\"\",\"\",INDEX(メイン!$A$9:$M$108,$A28,4))","v":""},{"$f":"IF(INDEX(メイン!$A$9:$M$108,$A28,6)=\"\",\"\",INDEX(メイン!$A$9:$M$108,$A28,6))","v":""},{"$f":"IF(INDEX(メイン!$A$9:$M$108,$A28,9)=\"\",\"\",INDEX(メイン!$A$9:$M$108,$A28,9))","v":""},{"$f":"IF(INDEX(メイン!$A$9:$M$108,$A28,11)=\"\",\"\",INDEX(メイン!$A$9:$M$108,$A28,11))","v":""},{"$f":"IF(INDEX(メイン!$A$9:$M$108,$A28,13)=\"\",\"\",INDEX(メイン!$A$9:$M$108,$A28,13))","v":""}]
[11,{"$f":"IF(INDEX(メイン!$A$9:$M$108,$A30,3)=\"\",\"\",INDEX(メイン!$A$9:$M$108,$A30,3))","v":""},{"$f":"IF(INDEX(メイン!$A$9:$M$108,$A30,5)=\"\",\"\",INDEX(メイン!$A$9:$M$108,$A30,5))","v":""},{"$f":"IF(INDEX(メイン!$A$9:$M$108,$A30,7)=\"\",\"\",INDEX(メイン!$A$9:$M$108,$A30,7))","v":""},{"$f":"IF(INDEX(メイン!$A$9:$M$108,$A30,8)=\"\",\"\",INDEX(メイン!$A$9:$M$108,$A30,8))","v":""},{"$f":"IF(INDEX(メイン!$A$9:$M$108,$A30,10)=\"\",\"\",INDEX(メイン!$A$9:$M$108,$A30,10))","v":""},{"$f":"IF(INDEX(メイン!$A$9:$M$108,$A30,12)=\"\",\"\",INDEX(メイン!$A$9:$M$108,$A30,12))","v":""}]
[null,null,{"$f":"IF(INDEX(メイン!$A$9:$M$108,$A30,4)=\"\",\"\",INDEX(メイン!$A$9:$M$108,$A30,4))","v":""},{"$f":"IF(INDEX(メイン!$A$9:$M$108,$A30,6)=\"\",\"\",INDEX(メイン!$A$9:$M$108,$A30,6))","v":""},{"$f":"IF(INDEX(メイン!$A$9:$M$108,$A30,9)=\"\",\"\",INDEX(メイン!$A$9:$M$108,$A30,9))","v":""},{"$f":"IF(INDEX(メイン!$A$9:$M$108,$A30,11)=\"\",\"\",INDEX(メイン!$A$9:$M$108,$A30,11))","v":""},{"$f":"IF(INDEX(メイン!$A$9:$M$108,$A30,13)=\"\",\"\",INDEX(メイン!$A$9:$M$108,$A30,13))","v":""}]
[12,{"$f":"IF(INDEX(メイン!$A$9:$M$108,$A32,3)=\"\",\"\",INDEX(メイン!$A$9:$M$108,$A32,3))","v":""},{"$f":"IF(INDEX(メイン!$A$9:$M$108,$A32,5)=\"\",\"\",INDEX(メイン!$A$9:$M$108,$A32,5))","v":""},{"$f":"IF(INDEX(メイン!$A$9:$M$108,$A32,7)=\"\",\"\",INDEX(メイン!$A$9:$M$108,$A32,7))","v":""},{"$f":"IF(INDEX(メイン!$A$9:$M$108,$A32,8)=\"\",\"\",INDEX(メイン!$A$9:$M$108,$A32,8))","v":""},{"$f":"IF(INDEX(メイン!$A$9:$M$108,$A32,10)=\"\",\"\",INDEX(メイン!$A$9:$M$108,$A32,10))","v":""},{"$f":"IF(INDEX(メイン!$A$9:$M$108,$A32,12)=\"\",\"\",INDEX(メイン!$A$9:$M$108,$A32,12))","v":""}]
[null,null,{"$f":"IF(INDEX(メイン!$A$9:$M$108,$A32,4)=\"\",\"\",INDEX(メイン!$A$9:$M$108,$A32,4))","v":""},{"$f":"IF(INDEX(メイン!$A$9:$M$108,$A32,6)=\"\",\"\",INDEX(メイン!$A$9:$M$108,$A32,6))","v":""},{"$f":"IF(INDEX(メイン!$A$9:$M$108,$A32,9)=\"\",\"\",INDEX(メイン!$A$9:$M$108,$A32,9))","v":""},{"$f":"IF(INDEX(メイン!$A$9:$M$108,$A32,11)=\"\",\"\",INDEX(メイン!$A$9:$M$108,$A32,11))","v":""},{"$f":"IF(INDEX(メイン!$A$9:$M$108,$A32,13)=\"\",\"\",INDEX(メイン!$A$9:$M$108,$A32,13))","v":""}]
[13,{"$f":"IF(INDEX(メイン!$A$9:$M$108,$A34,3)=\"\",\"\",INDEX(メイン!$A$9:$M$108,$A34,3))","v":""},{"$f":"IF(INDEX(メイン!$A$9:$M$108,$A34,5)=\"\",\"\",INDEX(メイン!$A$9:$M$108,$A34,5))","v":""},{"$f":"IF(INDEX(メイン!$A$9:$M$108,$A34,7)=\"\",\"\",INDEX(メイン!$A$9:$M$108,$A34,7))","v":""},{"$f":"IF(INDEX(メイン!$A$9:$M$108,$A34,8)=\"\",\"\",INDEX(メイン!$A$9:$M$108,$A34,8))","v":""},{"$f":"IF(INDEX(メイン!$A$9:$M$108,$A34,10)=\"\",\"\",INDEX(メイン!$A$9:$M$108,$A34,10))","v":""},{"$f":"IF(INDEX(メイン!$A$9:$M$108,$A34,12)=\"\",\"\",INDEX(メイン!$A$9:$M$108,$A34,12))","v":""}]
[null,null,{"$f":"IF(INDEX(メイン!$A$9:$M$108,$A34,4)=\"\",\"\",INDEX(メイン!$A$9:$M$108,$A34,4))","v":""},{"$f":"IF(INDEX(メイン!$A$9:$M$108,$A34,6)=\"\",\"\",INDEX(メイン!$A$9:$M$108,$A34,6))","v":""},{"$f":"IF(INDEX(メイン!$A$9:$M$108,$A34,9)=\"\",\"\",INDEX(メイン!$A$9:$M$108,$A34,9))","v":""},{"$f":"IF(INDEX(メイン!$A$9:$M$108,$A34,11)=\"\",\"\",INDEX(メイン!$A$9:$M$108,$A34,11))","v":""},{"$f":"IF(INDEX(メイン!$A$9:$M$108,$A34,13)=\"\",\"\",INDEX(メイン!$A$9:$M$108,$A34,13))","v":""}]
[14,{"$f":"IF(INDEX(メイン!$A$9:$M$108,$A36,3)=\"\",\"\",INDEX(メイン!$A$9:$M$108,$A36,3))","v":""},{"$f":"IF(INDEX(メイン!$A$9:$M$108,$A36,5)=\"\",\"\",INDEX(メイン!$A$9:$M$108,$A36,5))","v":""},{"$f":"IF(INDEX(メイン!$A$9:$M$108,$A36,7)=\"\",\"\",INDEX(メイン!$A$9:$M$108,$A36,7))","v":""},{"$f":"IF(INDEX(メイン!$A$9:$M$108,$A36,8)=\"\",\"\",INDEX(メイン!$A$9:$M$108,$A36,8))","v":""},{"$f":"IF(INDEX(メイン!$A$9:$M$108,$A36,10)=\"\",\"\",INDEX(メイン!$A$9:$M$108,$A36,10))","v":""},{"$f":"IF(INDEX(メイン!$A$9:$M$108,$A36,12)=\"\",\"\",INDEX(メイン!$A$9:$M$108,$A36,12))","v":""}]
[null,null,{"$f":"IF(INDEX(メイン!$A$9:$M$108,$A36,4)=\"\",\"\",INDEX(メイン!$A$9:$M$108,$A36,4))","v":""},{"$f":"IF(INDEX(メイン!$A$9:$M$108,$A36,6)=\"\",\"\",INDEX(メイン!$A$9:$M$108,$A36,6))","v":""},{"$f":"IF(INDEX(メイン!$A$9:$M$108,$A36,9)=\"\",\"\",INDEX(メイン!$A$9:$M$108,$A36,9))","v":""},{"$f":"IF(INDEX(メイン!$A$9:$M$108,$A36,11)=\"\",\"\",INDEX(メイン!$A$9:$M$108,$A36,11))","v":""},{"$f":"IF(INDEX(メイン!$A$9:$M$108,$A36,13)=\"\",\"\",INDEX(メイン!$A$9:$M$108,$A36,13))","v":""}]
[15,{"$f":"IF(INDEX(メイン!$A$9:$M$108,$A38,3)=\"\",\"\",INDEX(メイン!$A$9:$M$108,$A38,3))","v":""},{"$f":"IF(INDEX(メイン!$A$9:$M$108,$A38,5)=\"\",\"\",INDEX(メイン!$A$9:$M$108,$A38,5))","v":""},{"$f":"IF(INDEX(メイン!$A$9:$M$108,$A38,7)=\"\",\"\",INDEX(メイン!$A$9:$M$108,$A38,7))","v":""},{"$f":"IF(INDEX(メイン!$A$9:$M$108,$A38,8)=\"\",\"\",INDEX(メイン!$A$9:$M$108,$A38,8))","v":""},{"$f":"IF(INDEX(メイン!$A$9:$M$108,$A38,10)=\"\",\"\",INDEX(メイン!$A$9:$M$108,$A38,10))","v":""},{"$f":"IF(INDEX(メイン!$A$9:$M$108,$A38,12)=\"\",\"\",INDEX(メイン!$A$9:$M$108,$A38,12))","v":""}]
[null,null,{"$f":"IF(INDEX(メイン!$A$9:$M$108,$A38,4)=\"\",\"\",INDEX(メイン!$A$9:$M$108,$A38,4))","v":""},{"$f":"IF(INDEX(メイン!$A$9:$M$108,$A38,6)=\"\",\"\",INDEX(メイン!$A$9:$M$108,$A38,6))","v":""},{"$f":"IF(INDEX(メイン!$A$9:$M$108,$A38,9)=\"\",\"\",INDEX(メイン!$A$9:$M$108,$A38,9))","v":""},{"$f":"IF(INDEX(メイン!$A$9:$M$108,$A38,11)=\"\",\"\",INDEX(メイン!$A$9:$M$108,$A38,11))","v":""},{"$f":"IF(INDEX(メイン!$A$9:$M$108,$A38,13)=\"\",\"\",INDEX(メイン!$A$9:$M$108,$A38,13))","v":""}]
[16,{"$f":"IF(INDEX(メイン!$A$9:$M$108,$A40,3)=\"\",\"\",INDEX(メイン!$A$9:$M$108,$A40,3))","v":""},{"$f":"IF(INDEX(メイン!$A$9:$M$108,$A40,5)=\"\",\"\",INDEX(メイン!$A$9:$M$108,$A40,5))","v":""},{"$f":"IF(INDEX(メイン!$A$9:$M$108,$A40,7)=\"\",\"\",INDEX(メイン!$A$9:$M$108,$A40,7))","v":""},{"$f":"IF(INDEX(メイン!$A$9:$M$108,$A40,8)=\"\",\"\",INDEX(メイン!$A$9:$M$108,$A40,8))","v":""},{"$f":"IF(INDEX(メイン!$A$9:$M$108,$A40,10)=\"\",\"\",INDEX(メイン!$A$9:$M$108,$A40,10))","v":""},{"$f":"IF(INDEX(メイン!$A$9:$M$108,$A40,12)=\"\",\"\",INDEX(メイン!$A$9:$M$108,$A40,12))","v":""}]
[null,null,{"$f":"IF(INDEX(メイン!$A$9:$M$108,$A40,4)=\"\",\"\",INDEX(メイン!$A$9:$M$108,$A40,4))","v":""},{"$f":"IF(INDEX(メイン!$A$9:$M$108,$A40,6)=\"\",\"\",INDEX(メイン!$A$9:$M$108,$A40,6))","v":""},{"$f":"IF(INDEX(メイン!$A$9:$M$108,$A40,9)=\"\",\"\",INDEX(メイン!$A$9:$M$108,$A40,9))","v":""},{"$f":"IF(INDEX(メイン!$A$9:$M$108,$A40,11)=\"\",\"\",INDEX(メイン!$A$9:$M$108,$A40,11))","v":""},{"$f":"IF(INDEX(メイン!$A$9:$M$108,$A40,13)=\"\",\"\",INDEX(メイン!$A$9:$M$108,$A40,13))","v":""}]
[17,{"$f":"IF(INDEX(メイン!$A$9:$M$108,$A42,3)=\"\",\"\",INDEX(メイン!$A$9:$M$108,$A42,3))","v":""},{"$f":"IF(INDEX(メイン!$A$9:$M$108,$A42,5)=\"\",\"\",INDEX(メイン!$A$9:$M$108,$A42,5))","v":""},{"$f":"IF(INDEX(メイン!$A$9:$M$108,$A42,7)=\"\",\"\",INDEX(メイン!$A$9:$M$108,$A42,7))","v":""},{"$f":"IF(INDEX(メイン!$A$9:$M$108,$A42,8)=\"\",\"\",INDEX(メイン!$A$9:$M$108,$A42,8))","v":""},{"$f":"IF(INDEX(メイン!$A$9:$M$108,$A42,10)=\"\",\"\",INDEX(メイン!$A$9:$M$108,$A42,10))","v":""},{"$f":"IF(INDEX(メイン!$A$9:$M$108,$A42,12)=\"\",\"\",INDEX(メイン!$A$9:$M$108,$A42,12))","v":""}]
[null,null,{"$f":"IF(INDEX(メイン!$A$9:$M$108,$A42,4)=\"\",\"\",INDEX(メイン!$A$9:$M$108,$A42,4))","v":""},{"$f":"IF(INDEX(メイン!$A$9:$M$108,$A42,6)=\"\",\"\",INDEX(メイン!$A$9:$M$108,$A42,6))","v":""},{"$f":"IF(INDEX(メイン!$A$9:$M$108,$A42,9)=\"\",\"\",INDEX(メイン!$A$9:$M$108,$A42,9))","v":""},{"$f":"IF(INDEX(メイン!$A$9:$M$108,$A42,11)=\"\",\"\",INDEX(メイン!$A$9:$M$108,$A42,11))","v":""},{"$f":"IF(INDEX(メイン!$A$9:$M$108,$A42,13)=\"\",\"\",INDEX(メイン!$A$9:$M$108,$A42,13))","v":""}]
[18,{"$f":"IF(INDEX(メイン!$A$9:$M$108,$A44,3)=\"\",\"\",INDEX(メイン!$A$9:$M$108,$A44,3))","v":""},{"$f":"IF(INDEX(メイン!$A$9:$M$108,$A44,5)=\"\",\"\",INDEX(メイン!$A$9:$M$108,$A44,5))","v":""},{"$f":"IF(INDEX(メイン!$A$9:$M$108,$A44,7)=\"\",\"\",INDEX(メイン!$A$9:$M$108,$A44,7))","v":""},{"$f":"IF(INDEX(メイン!$A$9:$M$108,$A44,8)=\"\",\"\",INDEX(メイン!$A$9:$M$108,$A44,8))","v":""},{"$f":"IF(INDEX(メイン!$A$9:$M$108,$A44,10)=\"\",\"\",INDEX(メイン!$A$9:$M$108,$A44,10))","v":""},{"$f":"IF(INDEX(メイン!$A$9:$M$108,$A44,12)=\"\",\"\",INDEX(メイン!$A$9:$M$108,$A44,12))","v":""}]
[null,null,{"$f":"IF(INDEX(メイン!$A$9:$M$108,$A44,4)=\"\",\"\",INDEX(メイン!$A$9:$M$108,$A44,4))","v":""},{"$f":"IF(INDEX(メイン!$A$9:$M$108,$A44,6)=\"\",\"\",INDEX(メイン!$A$9:$M$108,$A44,6))","v":""},{"$f":"IF(INDEX(メイン!$A$9:$M$108,$A44,9)=\"\",\"\",INDEX(メイン!$A$9:$M$108,$A44,9))","v":""},{"$f":"IF(INDEX(メイン!$A$9:$M$108,$A44,11)=\"\",\"\",INDEX(メイン!$A$9:$M$108,$A44,11))","v":""},{"$f":"IF(INDEX(メイン!$A$9:$M$108,$A44,13)=\"\",\"\",INDEX(メイン!$A$9:$M$108,$A44,13))","v":""}]
[19,{"$f":"IF(INDEX(メイン!$A$9:$M$108,$A46,3)=\"\",\"\",INDEX(メイン!$A$9:$M$108,$A46,3))","v":""},{"$f":"IF(INDEX(メイン!$A$9:$M$108,$A46,5)=\"\",\"\",INDEX(メイン!$A$9:$M$108,$A46,5))","v":""},{"$f":"IF(INDEX(メイン!$A$9:$M$108,$A46,7)=\"\",\"\",INDEX(メイン!$A$9:$M$108,$A46,7))","v":""},{"$f":"IF(INDEX(メイン!$A$9:$M$108,$A46,8)=\"\",\"\",INDEX(メイン!$A$9:$M$108,$A46,8))","v":""},{"$f":"IF(INDEX(メイン!$A$9:$M$108,$A46,10)=\"\",\"\",INDEX(メイン!$A$9:$M$108,$A46,10))","v":""},{"$f":"IF(INDEX(メイン!$A$9:$M$108,$A46,12)=\"\",\"\",INDEX(メイン!$A$9:$M$108,$A46,12))","v":""}]
[null,null,{"$f":"IF(INDEX(メイン!$A$9:$M$108,$A46,4)=\"\",\"\",INDEX(メイン!$A$9:$M$108,$A46,4))","v":""},{"$f":"IF(INDEX(メイン!$A$9:$M$108,$A46,6)=\"\",\"\",INDEX(メイン!$A$9:$M$108,$A46,6))","v":""},{"$f":"IF(INDEX(メイン!$A$9:$M$108,$A46,9)=\"\",\"\",INDEX(メイン!$A$9:$M$108,$A46,9))","v":""},{"$f":"IF(INDEX(メイン!$A$9:$M$108,$A46,11)=\"\",\"\",INDEX(メイン!$A$9:$M$108,$A46,11))","v":""},{"$f":"IF(INDEX(メイン!$A$9:$M$108,$A46,13)=\"\",\"\",INDEX(メイン!$A$9:$M$108,$A46,13))","v":""}]
[20,{"$f":"IF(INDEX(メイン!$A$9:$M$108,$A48,3)=\"\",\"\",INDEX(メイン!$A$9:$M$108,$A48,3))","v":""},{"$f":"IF(INDEX(メイン!$A$9:$M$108,$A48,5)=\"\",\"\",INDEX(メイン!$A$9:$M$108,$A48,5))","v":""},{"$f":"IF(INDEX(メイン!$A$9:$M$108,$A48,7)=\"\",\"\",INDEX(メイン!$A$9:$M$108,$A48,7))","v":""},{"$f":"IF(INDEX(メイン!$A$9:$M$108,$A48,8)=\"\",\"\",INDEX(メイン!$A$9:$M$108,$A48,8))","v":""},{"$f":"IF(INDEX(メイン!$A$9:$M$108,$A48,10)=\"\",\"\",INDEX(メイン!$A$9:$M$108,$A48,10))","v":""},{"$f":"IF(INDEX(メイン!$A$9:$M$108,$A48,12)=\"\",\"\",INDEX(メイン!$A$9:$M$108,$A48,12))","v":""}]
[null,null,{"$f":"IF(INDEX(メイン!$A$9:$M$108,$A48,4)=\"\",\"\",INDEX(メイン!$A$9:$M$108,$A48,4))","v":""},{"$f":"IF(INDEX(メイン!$A$9:$M$108,$A48,6)=\"\",\"\",INDEX(メイン!$A$9:$M$108,$A48,6))","v":""},{"$f":"IF(INDEX(メイン!$A$9:$M$108,$A48,9)=\"\",\"\",INDEX(メイン!$A$9:$M$108,$A48,9))","v":""},{"$f":"IF(INDEX(メイン!$A$9:$M$108,$A48,11)=\"\",\"\",INDEX(メイン!$A$9:$M$108,$A48,11))","v":""},{"$f":"IF(INDEX(メイン!$A$9:$M$108,$A48,13)=\"\",\"\",INDEX(メイン!$A$9:$M$108,$A48,13))","v":""}]
[21,{"$f":"IF(INDEX(メイン!$A$9:$M$108,$A50,3)=\"\",\"\",INDEX(メイン!$A$9:$M$108,$A50,3))","v":""},{"$f":"IF(INDEX(メイン!$A$9:$M$108,$A50,5)=\"\",\"\",INDEX(メイン!$A$9:$M$108,$A50,5))","v":""},{"$f":"IF(INDEX(メイン!$A$9:$M$108,$A50,7)=\"\",\"\",INDEX(メイン!$A$9:$M$108,$A50,7))","v":""},{"$f":"IF(INDEX(メイン!$A$9:$M$108,$A50,8)=\"\",\"\",INDEX(メイン!$A$9:$M$108,$A50,8))","v":""},{"$f":"IF(INDEX(メイン!$A$9:$M$108,$A50,10)=\"\",\"\",INDEX(メイン!$A$9:$M$108,$A50,10))","v":""},{"$f":"IF(INDEX(メイン!$A$9:$M$108,$A50,12)=\"\",\"\",INDEX(メイン!$A$9:$M$108,$A50,12))","v":""}]
[null,null,{"$f":"IF(INDEX(メイン!$A$9:$M$108,$A50,4)=\"\",\"\",INDEX(メイン!$A$9:$M$108,$A50,4))","v":""},{"$f":"IF(INDEX(メイン!$A$9:$M$108,$A50,6)=\"\",\"\",INDEX(メイン!$A$9:$M$108,$A50,6))","v":""},{"$f":"IF(INDEX(メイン!$A$9:$M$108,$A50,9)=\"\",\"\",INDEX(メイン!$A$9:$M$108,$A50,9))","v":""},{"$f":"IF(INDEX(メイン!$A$9:$M$108,$A50,11)=\"\",\"\",INDEX(メイン!$A$9:$M$108,$A50,11))","v":""},{"$f":"IF(INDEX(メイン!$A$9:$M$108,$A50,13)=\"\",\"\",INDEX(メイン!$A$9:$M$108,$A50,13))","v":""}]
[22,{"$f":"IF(INDEX(メイン!$A$9:$M$108,$A52,3)=\"\",\"\",INDEX(メイン!$A$9:$M$108,$A52,3))","v":""},{"$f":"IF(INDEX(メイン!$A$9:$M$108,$A52,5)=\"\",\"\",INDEX(メイン!$A$9:$M$108,$A52,5))","v":""},{"$f":"IF(INDEX(メイン!$A$9:$M$108,$A52,7)=\"\",\"\",INDEX(メイン!$A$9:$M$108,$A52,7))","v":""},{"$f":"IF(INDEX(メイン!$A$9:$M$108,$A52,8)=\"\",\"\",INDEX(メイン!$A$9:$M$108,$A52,8))","v":""},{"$f":"IF(INDEX(メイン!$A$9:$M$108,$A52,10)=\"\",\"\",INDEX(メイン!$A$9:$M$108,$A52,10))","v":""},{"$f":"IF(INDEX(メイン!$A$9:$M$108,$A52,12)=\"\",\"\",INDEX(メイン!$A$9:$M$108,$A52,12))","v":""}]
[null,null,{"$f":"IF(INDEX(メイン!$A$9:$M$108,$A52,4)=\"\",\"\",INDEX(メイン!$A$9:$M$108,$A52,4))","v":""},{"$f":"IF(INDEX(メイン!$A$9:$M$108,$A52,6)=\"\",\"\",INDEX(メイン!$A$9:$M$108,$A52,6))","v":""},{"$f":"IF(INDEX(メイン!$A$9:$M$108,$A52,9)=\"\",\"\",INDEX(メイン!$A$9:$M$108,$A52,9))","v":""},{"$f":"IF(INDEX(メイン!$A$9:$M$108,$A52,11)=\"\",\"\",INDEX(メイン!$A$9:$M$108,$A52,11))","v":""},{"$f":"IF(INDEX(メイン!$A$9:$M$108,$A52,13)=\"\",\"\",INDEX(メイン!$A$9:$M$108,$A52,13))","v":""}]
[]
["大会名",null,{"$f":"メイン!$C$1","v":"第25回岩手県中学校新人大会陸上競技"},null,null,null,null,"NO.2"]
["                                               陸上競技大会参加申込一覧表"]
[]
["所属名",null,{"$f":"メイン!$C$2","v":0}]
["所属電話番号",null,{"$f":"メイン!$C$5","v":0},null,"監督電話番号",null,{"$f":"メイン!$C$6","v":0}]
["所属長",{"$f":"メイン!$C$3","v":0},null,"印","監督名",{"$f":"メイン!$C$4","v":0}]
[]
["整理番号","ナンバー　　カード","フリガナ","学年","申込種目",null,null,"データ　　バンク"]
[null,null,"氏名",null,"種目1","種目2","リレー出場　　　　記入欄"]
[23,{"$f":"IF(INDEX(メイン!$A$9:$M$108,$A64,3)=\"\",\"\",INDEX(メイン!$A$9:$M$108,$A64,3))","v":""},{"$f":"IF(INDEX(メイン!$A$9:$M$108,$A64,5)=\"\",\"\",INDEX(メイン!$A$9:$M$108,$A64,5))","v":""},{"$f":"IF(INDEX(メイン!$A$9:$M$108,$A64,7)=\"\",\"\",INDEX(メイン!$A$9:$M$108,$A64,7))","v":""},{"$f":"IF(INDEX(メイン!$A$9:$M$108,$A64,8)=\"\",\"\",INDEX(メイン!$A$9:$M$108,$A64,8))","v":""},{"$f":"IF(INDEX(メイン!$A$9:$M$108,$A64,10)=\"\",\"\",INDEX(メイン!$A$9:$M$108,$A64,10))","v":""},{"$f":"IF(INDEX(メイン!$A$9:$M$108,$A64,12)=\"\",\"\",INDEX(メイン!$A$9:$M$108,$A64,12))","v":""}]
[null,null,{"$f":"IF(INDEX(メイン!$A$9:$M$108,$A64,4)=\"\",\"\",INDEX(メイン!$A$9:$M$108,$A64,4))","v":""},{"$f":"IF(INDEX(メイン!$A$9:$M$108,$A64,6)=\"\",\"\",INDEX(メイン!$A$9:$M$108,$A64,6))","v":""},{"$f":"IF(INDEX(メイン!$A$9:$M$108,$A64,9)=\"\",\"\",INDEX(メイン!$A$9:$M$108,$A64,9))","v":""},{"$f":"IF(INDEX(メイン!$A$9:$M$108,$A64,11)=\"\",\"\",INDEX(メイン!$A$9:$M$108,$A64,11))","v":""},{"$f":"IF(INDEX(メイン!$A$9:$M$108,$A64,13)=\"\",\"\",INDEX(メイン!$A$9:$M$108,$A64,13))","v":""}]
[24,{"$f":"IF(INDEX(メイン!$A$9:$M$108,$A66,3)=\"\",\"\",INDEX(メイン!$A$9:$M$108,$A66,3))","v":""},{"$f":"IF(INDEX(メイン!$A$9:$M$108,$A66,5)=\"\",\"\",INDEX(メイン!$A$9:$M$108,$A66,5))","v":""},{"$f":"IF(INDEX(メイン!$A$9:$M$108,$A66,7)=\"\",\"\",INDEX(メイン!$A$9:$M$108,$A66,7))","v":""},{"$f":"IF(INDEX(メイン!$A$9:$M$108,$A66,8)=\"\",\"\",INDEX(メイン!$A$9:$M$108,$A66,8))","v":""},{"$f":"IF(INDEX(メイン!$A$9:$M$108,$A66,10)=\"\",\"\",INDEX(メイン!$A$9:$M$108,$A66,10))","v":""},{"$f":"IF(INDEX(メイン!$A$9:$M$108,$A66,12)=\"\",\"\",INDEX(メイン!$A$9:$M$108,$A66,12))","v":""}]
[null,null,{"$f":"IF(INDEX(メイン!$A$9:$M$108,$A66,4)=\"\",\"\",INDEX(メイン!$A$9:$M$108,$A66,4))","v":""},{"$f":"IF(INDEX(メイン!$A$9:$M$108,$A66,6)=\"\",\"\",INDEX(メイン!$A$9:$M$108,$A66,6))","v":""},{"$f":"IF(INDEX(メイン!$A$9:$M$108,$A66,9)=\"\",\"\",INDEX(メイン!$A$9:$M$108,$A66,9))","v":""},{"$f":"IF(INDEX(メイン!$A$9:$M$108,$A66,11)=\"\",\"\",INDEX(メイン!$A$9:$M$108,$A66,11))","v":""},{"$f":"IF(INDEX(メイン!$A$9:$M$108,$A66,13)=\"\",\"\",INDEX(メイン!$A$9:$M$108,$A66,13))","v":""}]
[25,{"$f":"IF(INDEX(メイン!$A$9:$M$108,$A68,3)=\"\",\"\",INDEX(メイン!$A$9:$M$108,$A68,3))","v":""},{"$f":"IF(INDEX(メイン!$A$9:$M$108,$A68,5)=\"\",\"\",INDEX(メイン!$A$9:$M$108,$A68,5))","v":""},{"$f":"IF(INDEX(メイン!$A$9:$M$108,$A68,7)=\"\",\"\",INDEX(メイン!$A$9:$M$108,$A68,7))","v":""},{"$f":"IF(INDEX(メイン!$A$9:$M$108,$A68,8)=\"\",\"\",INDEX(メイン!$A$9:$M$108,$A68,8))","v":""},{"$f":"IF(INDEX(メイン!$A$9:$M$108,$A68,10)=\"\",\"\",INDEX(メイン!$A$9:$M$108,$A68,10))","v":""},{"$f":"IF(INDEX(メイン!$A$9:$M$108,$A68,12)=\"\",\"\",INDEX(メイン!$A$9:$M$108,$A68,12))","v":""}]
[null,null,{"$f":"IF(INDEX(メイン!$A$9:$M$108,$A68,4)=\"\",\"\",INDEX(メイン!$A$9:$M$108,$A68,4))","v":""},{"$f":"IF(INDEX(メイン!$A$9:$M$108,$A68,6)=\"\",\"\",INDEX(メイン!$A$9:$M$108,$A68,6))","v":""},{"$f":"IF(INDEX(メイン!$A$9:$M$108,$A68,9)=\"\",\"\",INDEX(メイン!$A$9:$M$108,$A68,9))","v":""},{"$f":"IF(INDEX(メイン!$A$9:$M$108,$A68,11)=\"\",\"\",INDEX(メイン!$A$9:$M$108,$A68,11))","v":""},{"$f":"IF(INDEX(メイン!$A$9:$M$108,$A68,13)=\"\",\"\",INDEX(メイン!$A$9:$M$108,$A68,13))","v":""}]
[26,{"$f":"IF(INDEX(メイン!$A$9:$M$108,$A70,3)=\"\",\"\",INDEX(メイン!$A$9:$M$108,$A70,3))","v":""},{"$f":"IF(INDEX(メイン!$A$9:$M$108,$A70,5)=\"\",\"\",INDEX(メイン!$A$9:$M$108,$A70,5))","v":""},{"$f":"IF(INDEX(メイン!$A$9:$M$108,$A70,7)=\"\",\"\",INDEX(メイン!$A$9:$M$108,$A70,7))","v":""},{"$f":"IF(INDEX(メイン!$A$9:$M$108,$A70,8)=\"\",\"\",INDEX(メイン!$A$9:$M$108,$A70,8))","v":""},{"$f":"IF(INDEX(メイン!$A$9:$M$108,$A70,10)=\"\",\"\",INDEX(メイン!$A$9:$M$108,$A70,10))","v":""},{"$f":"IF(INDEX(メイン!$A$9:$M$108,$A70,12)=\"\",\"\",INDEX(メイン!$A$9:$M$108,$A70,12))","v":""}]
[null,null,{"$f":"IF(INDEX(メイン!$A$9:$M$108,$A70,4)=\"\",\"\",INDEX(メイン!$A$9:$M$108,$A70,4))","v":""},{"$f":"IF(INDEX(メイン!$A$9:$M$108,$A70,6)=\"\",\"\",INDEX(メイン!$A$9:$M$108,$A70,6))","v":""},{"$f":"IF(INDEX(メイン!$A$9:$M$108,$A70,9)=\"\",\"\",INDEX(メイン!$A$9:$M$108,$A70,9))","v":""},{"$f":"IF(INDEX(メイン!$A$9:$M$108,$A70,11)=\"\",\"\",INDEX(メイン!$A$9:$M$108,$A70,11))","v":""},{"$f":"IF(INDEX(メイン!$A$9:$M$108,$A70,13)=\"\",\"\",INDEX(メイン!$A$9:$M$108,$A70,13))","v":""}]
[27,{"$f":"IF(INDEX(メイン!$A$9:$M$108,$A72,3)=\"\",\"\",INDEX(メイン!$A$9:$M$108,$A72,3))","v":""},{"$f":"IF(INDEX(メイン!$A$9:$M$108,$A72,5)=\"\",\"\",INDEX(メイン!$A$9:$M$108,$A72,5))","v":""},{"$f":"IF(INDEX(メイン!$A$9:$M$108,$A72,7)=\"\",\"\",INDEX(メイン!$A$9:$M$108,$A72,7))","v":""},{"$f":"IF(INDEX(メイン!$A$9:$M$108,$A72,8)=\"\",\"\",INDEX(メイン!$A$9:$M$108,$A72,8))","v":""},{"$f":"IF(INDEX(メイン!$A$9:$M$108,$A72,10)=\"\",\"\",INDEX(メイン!$A$9:$M$108,$A72,10))","v":""},{"$f":"IF(INDEX(メイン!$A$9:$M$108,$A72,12)=\"\",\"\",INDEX(メイン!$A$9:$M$108,$A72,12))","v":""}]
[null,null,{"$f":"IF(INDEX(メイン!$A$9:$M$108,$A72,4)=\"\",\"\",INDEX(メイン!$A$9:$M$108,$A72,4))","v":""},{"$f":"IF(INDEX(メイン!$A$9:$M$108,$A72,6)=\"\",\"\",INDEX(メイン!$A$9:$M$108,$A72,6))","v":""},{"$f":"IF(INDEX(メイン!$A$9:$M$108,$A72,9)=\"\",\"\",INDEX(メイン!$A$9:$M$108,$A72,9))","v":""},{"$f":"IF(INDEX(メイン!$A$9:$M$108,$A72,11)=\"\",\"\",INDEX(メイン!$A$9:$M$108,$A72,11))","v":""},{"$f":"IF(INDEX(メイン!$A$9:$M$108,$A72,13)=\"\",\"\",INDEX(メイン!$A$9:$M$108,$A72,13))","v":""}]
[28,{"$f":"IF(INDEX(メイン!$A$9:$M$108,$A74,3)=\"\",\"\",INDEX(メイン!$A$9:$M$108,$A74,3))","v":""},{"$f":"IF(INDEX(メイン!$A$9:$M$108,$A74,5)=\"\",\"\",INDEX(メイン!$A$9:$M$108,$A74,5))","v":""},{"$f":"IF(INDEX(メイン!$A$9:$M$108,$A74,7)=\"\",\"\",INDEX(メイン!$A$9:$M$108,$A74,7))","v":""},{"$f":"IF(INDEX(メイン!$A$9:$M$108,$A74,8)=\"\",\"\",INDEX(メイン!$A$9:$M$108,$A74,8))","v":""},{"$f":"IF(INDEX(メイン!$A$9:$M$108,$A74,10)=\"\",\"\",INDEX(メイン!$A$9:$M$108,$A74,10))","v":""},{"$f":"IF(INDEX(メイン!$A$9:$M$108,$A74,12)=\"\",\"\",INDEX(メイン!$A$9:$M$108,$A74,12))","v":""}]
[null,null,{"$f":"IF(INDEX(メイン!$A$9:$M$108,$A74,4)=\"\",\"\",INDEX(メイン!$A$9:$M$108,$A74,4))","v":""},{"$f":"IF(INDEX(メイン!$A$9:$M$108,$A74,6)=\"\",\"\",INDEX(メイン!$A$9:$M$108,$A74,6))","v":""},{"$f":"IF(INDEX(メイン!$A$9:$M$108,$A74,9)=\"\",\"\",INDEX(メイン!$A$9:$M$108,$A74,9))","v":""},{"$f":"IF(INDEX(メイン!$A$9:$M$108,$A74,11)=\"\",\"\",INDEX(メイン!$A$9:$M$108,$A74,11))","v":""},{"$f":"IF(INDEX(メイン!$A$9:$M$108,$A74,13)=\"\",\"\",INDEX(メイン!$A$9:$M$108,$A74,13))","v":""}]
[29,{"$f":"IF(INDEX(メイン!$A$9:$M$108,$A76,3)=\"\",\"\",INDEX(メイン!$A$9:$M$108,$A76,3))","v":""},{"$f":"IF(INDEX(メイン!$A$9:$M$108,$A76,5)=\"\",\"\",INDEX(メイン!$A$9:$M$108,$A76,5))","v":""},{"$f":"IF(INDEX(メイン!$A$9:$M$108,$A76,7)=\"\",\"\",INDEX(メイン!$A$9:$M$108,$A76,7))","v":""},{"$f":"IF(INDEX(メイン!$A$9:$M$108,$A76,8)=\"\",\"\",INDEX(メイン!$A$9:$M$108,$A76,8))","v":""},{"$f":"IF(INDEX(メイン!$A$9:$M$108,$A76,10)=\"\",\"\",INDEX(メイン!$A$9:$M$108,$A76,10))","v":""},{"$f":"IF(INDEX(メイン!$A$9:$M$108,$A76,12)=\"\",\"\",INDEX(メイン!$A$9:$M$108,$A76,12))","v":""}]
[null,null,{"$f":"IF(INDEX(メイン!$A$9:$M$108,$A76,4)=\"\",\"\",INDEX(メイン!$A$9:$M$108,$A76,4))","v":""},{"$f":"IF(INDEX(メイン!$A$9:$M$108,$A76,6)=\"\",\"\",INDEX(メイン!$A$9:$M$108,$A76,6))","v":""},{"$f":"IF(INDEX(メイン!$A$9:$M$108,$A76,9)=\"\",\"\",INDEX(メイン!$A$9:$M$108,$A76,9))","v":""},{"$f":"IF(INDEX(メイン!$A$9:$M$108,$A76,11)=\"\",\"\",INDEX(メイン!$A$9:$M$108,$A76,11))","v":""},{"$f":"IF(INDEX(メイン!$A$9:$M$108,$A76,13)=\"\",\"\",INDEX(メイン!$A$9:$M$108,$A76,13))","v":""}]
[30,{"$f":"IF(INDEX(メイン!$A$9:$M$108,$A78,3)=\"\",\"\",INDEX(メイン!$A$9:$M$108,$A78,3))","v":""},{"$f":"IF(INDEX(メイン!$A$9:$M$108,$A78,5)=\"\",\"\",INDEX(メイン!$A$9:$M$108,$A78,5))","v":""},{"$f":"IF(INDEX(メイン!$A$9:$M$108,$A78,7)=\"\",\"\",INDEX(メイン!$A$9:$M$108,$A78,7))","v":""},{"$f":"IF(INDEX(メイン!$A$9:$M$108,$A78,8)=\"\",\"\",INDEX(メイン!$A$9:$M$108,$A78,8))","v":""},{"$f":"IF(INDEX(メイン!$A$9:$M$108,$A78,10)=\"\",\"\",INDEX(メイン!$A$9:$M$108,$A78,10))","v":""},{"$f":"IF(INDEX(メイン!$A$9:$M$108,$A78,12)=\"\",\"\",INDEX(メイン!$A$9:$M$108,$A78,12))","v":""}]
[null,null,{"$f":"IF(INDEX(メイン!$A$9:$M$108,$A78,4)=\"\",\"\",INDEX(メイン!$A$9:$M$108,$A78,4))","v":""},{"$f":"IF(INDEX(メイン!$A$9:$M$108,$A78,6)=\"\",\"\",INDEX(メイン!$A$9:$M$108,$A78,6))","v":""},{"$f":"IF(INDEX(メイン!$A$9:$M$108,$A78,9)=\"\",\"\",INDEX(メイン!$A$9:$M$108,$A78,9))","v":""},{"$f":"IF(INDEX(メイン!$A$9:$M$108,$A78,11)=\"\",\"\",INDEX(メイン!$A$9:$M$108,$A78,11))","v":""},{"$f":"IF(INDEX(メイン!$A$9:$M$108,$A78,13)=\"\",\"\",INDEX(メイン!$A$9:$M$108,$A78,13))","v":""}]
[31,{"$f":"IF(INDEX(メイン!$A$9:$M$108,$A80,3)=\"\",\"\",INDEX(メイン!$A$9:$M$108,$A80,3))","v":""},{"$f":"IF(INDEX(メイン!$A$9:$M$108,$A80,5)=\"\",\"\",INDEX(メイン!$A$9:$M$108,$A80,5))","v":""},{"$f":"IF(INDEX(メイン!$A$9:$M$108,$A80,7)=\"\",\"\",INDEX(メイン!$A$9:$M$108,$A80,7))","v":""},{"$f":"IF(INDEX(メイン!$A$9:$M$108,$A80,8)=\"\",\"\",INDEX(メイン!$A$9:$M$108,$A80,8))","v":""},{"$f":"IF(INDEX(メイン!$A$9:$M$108,$A80,10)=\"\",\"\",INDEX(メイン!$A$9:$M$108,$A80,10))","v":""},{"$f":"IF(INDEX(メイン!$A$9:$M$108,$A80,12)=\"\",\"\",INDEX(メイン!$A$9:$M$108,$A80,12))","v":""}]
[null,null,{"$f":"IF(INDEX(メイン!$A$9:$M$108,$A80,4)=\"\",\"\",INDEX(メイン!$A$9:$M$108,$A80,4))","v":""},{"$f":"IF(INDEX(メイン!$A$9:$M$108,$A80,6)=\"\",\"\",INDEX(メイン!$A$9:$M$108,$A80,6))","v":""},{"$f":"IF(INDEX(メイン!$A$9:$M$108,$A80,9)=\"\",\"\",INDEX(メイン!$A$9:$M$108,$A80,9))","v":""},{"$f":"IF(INDEX(メイン!$A$9:$M$108,$A80,11)=\"\",\"\",INDEX(メイン!$A$9:$M$108,$A80,11))","v":""},{"$f":"IF(INDEX(メイン!$A$9:$M$108,$A80,13)=\"\",\"\",INDEX(メイン!$A$9:$M$108,$A80,13))","v":""}]
[32,{"$f":"IF(INDEX(メイン!$A$9:$M$108,$A82,3)=\"\",\"\",INDEX(メイン!$A$9:$M$108,$A82,3))","v":""},{"$f":"IF(INDEX(メイン!$A$9:$M$108,$A82,5)=\"\",\"\",INDEX(メイン!$A$9:$M$108,$A82,5))","v":""},{"$f":"IF(INDEX(メイン!$A$9:$M$108,$A82,7)=\"\",\"\",INDEX(メイン!$A$9:$M$108,$A82,7))","v":""},{"$f":"IF(INDEX(メイン!$A$9:$M$108,$A82,8)=\"\",\"\",INDEX(メイン!$A$9:$M$108,$A82,8))","v":""},{"$f":"IF(INDEX(メイン!$A$9:$M$108,$A82,10)=\"\",\"\",INDEX(メイン!$A$9:$M$108,$A82,10))","v":""},{"$f":"IF(INDEX(メイン!$A$9:$M$108,$A82,12)=\"\",\"\",INDEX(メイン!$A$9:$M$108,$A82,12))","v":""}]
[null,null,{"$f":"IF(INDEX(メイン!$A$9:$M$108,$A82,4)=\"\",\"\",INDEX(メイン!$A$9:$M$108,$A82,4))","v":""},{"$f":"IF(INDEX(メイン!$A$9:$M$108,$A82,6)=\"\",\"\",INDEX(メイン!$A$9:$M$108,$A82,6))","v":""},{"$f":"IF(INDEX(メイン!$A$9:$M$108,$A82,9)=\"\",\"\",INDEX(メイン!$A$9:$M$108,$A82,9))","v":""},{"$f":"IF(INDEX(メイン!$A$9:$M$108,$A82,11)=\"\",\"\",INDEX(メイン!$A$9:$M$108,$A82,11))","v":""},{"$f":"IF(INDEX(メイン!$A$9:$M$108,$A82,13)=\"\",\"\",INDEX(メイン!$A$9:$M$108,$A82,13))","v":""}]
[33,{"$f":"IF(INDEX(メイン!$A$9:$M$108,$A84,3)=\"\",\"\",INDEX(メイン!$A$9:$M$108,$A84,3))","v":""},{"$f":"IF(INDEX(メイン!$A$9:$M$108,$A84,5)=\"\",\"\",INDEX(メイン!$A$9:$M$108,$A84,5))","v":""},{"$f":"IF(INDEX(メイン!$A$9:$M$108,$A84,7)=\"\",\"\",INDEX(メイン!$A$9:$M$108,$A84,7))","v":""},{"$f":"IF(INDEX(メイン!$A$9:$M$108,$A84,8)=\"\",\"\",INDEX(メイン!$A$9:$M$108,$A84,8))","v":""},{"$f":"IF(INDEX(メイン!$A$9:$M$108,$A84,10)=\"\",\"\",INDEX(メイン!$A$9:$M$108,$A84,10))","v":""},{"$f":"IF(INDEX(メイン!$A$9:$M$108,$A84,12)=\"\",\"\",INDEX(メイン!$A$9:$M$108,$A84,12))","v":""}]
[null,null,{"$f":"IF(INDEX(メイン!$A$9:$M$108,$A84,4)=\"\",\"\",INDEX(メイン!$A$9:$M$108,$A84,4))","v":""},{"$f":"IF(INDEX(メイン!$A$9:$M$108,$A84,6)=\"\",\"\",INDEX(メイン!$A$9:$M$108,$A84,6))","v":""},{"$f":"IF(INDEX(メイン!$A$9:$M$108,$A84,9)=\"\",\"\",INDEX(メイン!$A$9:$M$108,$A84,9))","v":""},{"$f":"IF(INDEX(メイン!$A$9:$M$108,$A84,11)=\"\",\"\",INDEX(メイン!$A$9:$M$108,$A84,11))","v":""},{"$f":"IF(INDEX(メイン!$A$9:$M$108,$A84,13)=\"\",\"\",INDEX(メイン!$A$9:$M$108,$A84,13))","v":""}]
[34,{"$f":"IF(INDEX(メイン!$A$9:$M$108,$A86,3)=\"\",\"\",INDEX(メイン!$A$9:$M$108,$A86,3))","v":""},{"$f":"IF(INDEX(メイン!$A$9:$M$108,$A86,5)=\"\",\"\",INDEX(メイン!$A$9:$M$108,$A86,5))","v":""},{"$f":"IF(INDEX(メイン!$A$9:$M$108,$A86,7)=\"\",\"\",INDEX(メイン!$A$9:$M$108,$A86,7))","v":""},{"$f":"IF(INDEX(メイン!$A$9:$M$108,$A86,8)=\"\",\"\",INDEX(メイン!$A$9:$M$108,$A86,8))","v":""},{"$f":"IF(INDEX(メイン!$A$9:$M$108,$A86,10)=\"\",\"\",INDEX(メイン!$A$9:$M$108,$A86,10))","v":""},{"$f":"IF(INDEX(メイン!$A$9:$M$108,$A86,12)=\"\",\"\",INDEX(メイン!$A$9:$M$108,$A86,12))","v":""}]
[null,null,{"$f":"IF(INDEX(メイン!$A$9:$M$108,$A86,4)=\"\",\"\",INDEX(メイン!$A$9:$M$108,$A86,4))","v":""},{"$f":"IF(INDEX(メイン!$A$9:$M$108,$A86,6)=\"\",\"\",INDEX(メイン!$A$9:$M$108,$A86,6))","v":""},{"$f":"IF(INDEX(メイン!$A$9:$M$108,$A86,9)=\"\",\"\",INDEX(メイン!$A$9:$M$108,$A86,9))","v":""},{"$f":"IF(INDEX(メイン!$A$9:$M$108,$A86,11)=\"\",\"\",INDEX(メイン!$A$9:$M$108,$A86,11))","v":""},{"$f":"IF(INDEX(メイン!$A$9:$M$108,$A86,13)=\"\",\"\",INDEX(メイン!$A$9:$M$108,$A86,13))","v":""}]
[35,{"$f":"IF(INDEX(メイン!$A$9:$M$108,$A88,3)=\"\",\"\",INDEX(メイン!$A$9:$M$108,$A88,3))","v":""},{"$f":"IF(INDEX(メイン!$A$9:$M$108,$A88,5)=\"\",\"\",INDEX(メイン!$A$9:$M$108,$A88,5))","v":""},{"$f":"IF(INDEX(メイン!$A$9:$M$108,$A88,7)=\"\",\"\",INDEX(メイン!$A$9:$M$108,$A88,7))","v":""},{"$f":"IF(INDEX(メイン!$A$9:$M$108,$A88,8)=\"\",\"\",INDEX(メイン!$A$9:$M$108,$A88,8))","v":""},{"$f":"IF(INDEX(メイン!$A$9:$M$108,$A88,10)=\"\",\"\",INDEX(メイン!$A$9:$M$108,$A88,10))","v":""},{"$f":"IF(INDEX(メイン!$A$9:$M$108,$A88,12)=\"\",\"\",INDEX(メイン!$A$9:$M$108,$A88,12))","v":""}]
[null,null,{"$f":"IF(INDEX(メイン!$A$9:$M$108,$A88,4)=\"\",\"\",INDEX(メイン!$A$9:$M$108,$A88,4))","v":""},{"$f":"IF(INDEX(メイン!$A$9:$M$108,$A88,6)=\"\",\"\",INDEX(メイン!$A$9:$M$108,$A88,6))","v":""},{"$f":"IF(INDEX(メイン!$A$9:$M$108,$A88,9)=\"\",\"\",INDEX(メイン!$A$9:$M$108,$A88,9))","v":""},{"$f":"IF(INDEX(メイン!$A$9:$M$108,$A88,11)=\"\",\"\",INDEX(メイン!$A$9:$M$108,$A88,11))","v":""},{"$f":"IF(INDEX(メイン!$A$9:$M$108,$A88,13)=\"\",\"\",INDEX(メイン!$A$9:$M$108,$A88,13))","v":""}]
[36,{"$f":"IF(INDEX(メイン!$A$9:$M$108,$A90,3)=\"\",\"\",INDEX(メイン!$A$9:$M$108,$A90,3))","v":""},{"$f":"IF(INDEX(メイン!$A$9:$M$108,$A90,5)=\"\",\"\",INDEX(メイン!$A$9:$M$108,$A90,5))","v":""},{"$f":"IF(INDEX(メイン!$A$9:$M$108,$A90,7)=\"\",\"\",INDEX(メイン!$A$9:$M$108,$A90,7))","v":""},{"$f":"IF(INDEX(メイン!$A$9:$M$108,$A90,8)=\"\",\"\",INDEX(メイン!$A$9:$M$108,$A90,8))","v":""},{"$f":"IF(INDEX(メイン!$A$9:$M$108,$A90,10)=\"\",\"\",INDEX(メイン!$A$9:$M$108,$A90,10))","v":""},{"$f":"IF(INDEX(メイン!$A$9:$M$108,$A90,12)=\"\",\"\",INDEX(メイン!$A$9:$M$108,$A90,12))","v":""}]
[null,null,{"$f":"IF(INDEX(メイン!$A$9:$M$108,$A90,4)=\"\",\"\",INDEX(メイン!$A$9:$M$108,$A90,4))","v":""},{"$f":"IF(INDEX(メイン!$A$9:$M$108,$A90,6)=\"\",\"\",INDEX(メイン!$A$9:$M$108,$A90,6))","v":""},{"$f":"IF(INDEX(メイン!$A$9:$M$108,$A90,9)=\"\",\"\",INDEX(メイン!$A$9:$M$108,$A90,9))","v":""},{"$f":"IF(INDEX(メイン!$A$9:$M$108,$A90,11)=\"\",\"\",INDEX(メイン!$A$9:$M$108,$A90,11))","v":""},{"$f":"IF(INDEX(メイン!$A$9:$M$108,$A90,13)=\"\",\"\",INDEX(メイン!$A$9:$M$108,$A90,13))","v":""}]
[37,{"$f":"IF(INDEX(メイン!$A$9:$M$108,$A92,3)=\"\",\"\",INDEX(メイン!$A$9:$M$108,$A92,3))","v":""},{"$f":"IF(INDEX(メイン!$A$9:$M$108,$A92,5)=\"\",\"\",INDEX(メイン!$A$9:$M$108,$A92,5))","v":""},{"$f":"IF(INDEX(メイン!$A$9:$M$108,$A92,7)=\"\",\"\",INDEX(メイン!$A$9:$M$108,$A92,7))","v":""},{"$f":"IF(INDEX(メイン!$A$9:$M$108,$A92,8)=\"\",\"\",INDEX(メイン!$A$9:$M$108,$A92,8))","v":""},{"$f":"IF(INDEX(メイン!$A$9:$M$108,$A92,10)=\"\",\"\",INDEX(メイン!$A$9:$M$108,$A92,10))","v":""},{"$f":"IF(INDEX(メイン!$A$9:$M$108,$A92,12)=\"\",\"\",INDEX(メイン!$A$9:$M$108,$A92,12))","v":""}]
[null,null,{"$f":"IF(INDEX(メイン!$A$9:$M$108,$A92,4)=\"\",\"\",INDEX(メイン!$A$9:$M$108,$A92,4))","v":""},{"$f":"IF(INDEX(メイン!$A$9:$M$108,$A92,6)=\"\",\"\",INDEX(メイン!$A$9:$M$108,$A92,6))","v":""},{"$f":"IF(INDEX(メイン!$A$9:$M$108,$A92,9)=\"\",\"\",INDEX(メイン!$A$9:$M$108,$A92,9))","v":""},{"$f":"IF(INDEX(メイン!$A$9:$M$108,$A92,11)=\"\",\"\",INDEX(メイン!$A$9:$M$108,$A92,11))","v":""},{"$f":"IF(INDEX(メイン!$A$9:$M$108,$A92,13)=\"\",\"\",INDEX(メイン!$A$9:$M$108,$A92,13))","v":""}]
[38,{"$f":"IF(INDEX(メイン!$A$9:$M$108,$A94,3)=\"\",\"\",INDEX(メイン!$A$9:$M$108,$A94,3))","v":""},{"$f":"IF(INDEX(メイン!$A$9:$M$108,$A94,5)=\"\",\"\",INDEX(メイン!$A$9:$M$108,$A94,5))","v":""},{"$f":"IF(INDEX(メイン!$A$9:$M$108,$A94,7)=\"\",\"\",INDEX(メイン!$A$9:$M$108,$A94,7))","v":""},{"$f":"IF(INDEX(メイン!$A$9:$M$108,$A94,8)=\"\",\"\",INDEX(メイン!$A$9:$M$108,$A94,8))","v":""},{"$f":"IF(INDEX(メイン!$A$9:$M$108,$A94,10)=\"\",\"\",INDEX(メイン!$A$9:$M$108,$A94,10))","v":""},{"$f":"IF(INDEX(メイン!$A$9:$M$108,$A94,12)=\"\",\"\",INDEX(メイン!$A$9:$M$108,$A94,12))","v":""}]
[null,null,{"$f":"IF(INDEX(メイン!$A$9:$M$108,$A94,4)=\"\",\"\",INDEX(メイン!$A$9:$M$108,$A94,4))","v":""},{"$f":"IF(INDEX(メイン!$A$9:$M$108,$A94,6)=\"\",\"\",INDEX(メイン!$A$9:$M$108,$A94,6))","v":""},{"$f":"IF(INDEX(メイン!$A$9:$M$108,$A94,9)=\"\",\"\",INDEX(メイン!$A$9:$M$108,$A94,9))","v":""},{"$f":"IF(INDEX(メイン!$A$9:$M$108,$A94,11)=\"\",\"\",INDEX(メイン!$A$9:$M$108,$A94,11))","v":""},{"$f":"IF(INDEX(メイン!$A$9:$M$108,$A94,13)=\"\",\"\",INDEX(メイン!$A$9:$M$108,$A94,13))","v":""}]
[39,{"$f":"IF(INDEX(メイン!$A$9:$M$108,$A96,3)=\"\",\"\",INDEX(メイン!$A$9:$M$108,$A96,3))","v":""},{"$f":"IF(INDEX(メイン!$A$9:$M$108,$A96,5)=\"\",\"\",INDEX(メイン!$A$9:$M$108,$A96,5))","v":""},{"$f":"IF(INDEX(メイン!$A$9:$M$108,$A96,7)=\"\",\"\",INDEX(メイン!$A$9:$M$108,$A96,7))","v":""},{"$f":"IF(INDEX(メイン!$A$9:$M$108,$A96,8)=\"\",\"\",INDEX(メイン!$A$9:$M$108,$A96,8))","v":""},{"$f":"IF(INDEX(メイン!$A$9:$M$108,$A96,10)=\"\",\"\",INDEX(メイン!$A$9:$M$108,$A96,10))","v":""},{"$f":"IF(INDEX(メイン!$A$9:$M$108,$A96,12)=\"\",\"\",INDEX(メイン!$A$9:$M$108,$A96,12))","v":""}]
[null,null,{"$f":"IF(INDEX(メイン!$A$9:$M$108,$A96,4)=\"\",\"\",INDEX(メイン!$A$9:$M$108,$A96,4))","v":""},{"$f":"IF(INDEX(メイン!$A$9:$M$108,$A96,6)=\"\",\"\",INDEX(メイン!$A$9:$M$108,$A96,6))","v":""},{"$f":"IF(INDEX(メイン!$A$9:$M$108,$A96,9)=\"\",\"\",INDEX(メイン!$A$9:$M$108,$A96,9))","v":""},{"$f":"IF(INDEX(メイン!$A$9:$M$108,$A96,11)=\"\",\"\",INDEX(メイン!$A$9:$M$108,$A96,11))","v":""},{"$f":"IF(INDEX(メイン!$A$9:$M$108,$A96,13)=\"\",\"\",INDEX(メイン!$A$9:$M$108,$A96,13))","v":""}]
[40,{"$f":"IF(INDEX(メイン!$A$9:$M$108,$A98,3)=\"\",\"\",INDEX(メイン!$A$9:$M$108,$A98,3))","v":""},{"$f":"IF(INDEX(メイン!$A$9:$M$108,$A98,5)=\"\",\"\",INDEX(メイン!$A$9:$M$108,$A98,5))","v":""},{"$f":"IF(INDEX(メイン!$A$9:$M$108,$A98,7)=\"\",\"\",INDEX(メイン!$A$9:$M$108,$A98,7))","v":""},{"$f":"IF(INDEX(メイン!$A$9:$M$108,$A98,8)=\"\",\"\",INDEX(メイン!$A$9:$M$108,$A98,8))","v":""},{"$f":"IF(INDEX(メイン!$A$9:$M$108,$A98,10)=\"\",\"\",INDEX(メイン!$A$9:$M$108,$A98,10))","v":""},{"$f":"IF(INDEX(メイン!$A$9:$M$108,$A98,12)=\"\",\"\",INDEX(メイン!$A$9:$M$108,$A98,12))","v":""}]
[null,null,{"$f":"IF(INDEX(メイン!$A$9:$M$108,$A98,4)=\"\",\"\",INDEX(メイン!$A$9:$M$108,$A98,4))","v":""},{"$f":"IF(INDEX(メイン!$A$9:$M$108,$A98,6)=\"\",\"\",INDEX(メイン!$A$9:$M$108,$A98,6))","v":""},{"$f":"IF(INDEX(メイン!$A$9:$M$108,$A98,9)=\"\",\"\",INDEX(メイン!$A$9:$M$108,$A98,9))","v":""},{"$f":"IF(INDEX(メイン!$A$9:$M$108,$A98,11)=\"\",\"\",INDEX(メイン!$A$9:$M$108,$A98,11))","v":""},{"$f":"IF(INDEX(メイン!$A$9:$M$108,$A98,13)=\"\",\"\",INDEX(メイン!$A$9:$M$108,$A98,13))","v":""}]
[41,{"$f":"IF(INDEX(メイン!$A$9:$M$108,$A100,3)=\"\",\"\",INDEX(メイン!$A$9:$M$108,$A100,3))","v":""},{"$f":"IF(INDEX(メイン!$A$9:$M$108,$A100,5)=\"\",\"\",INDEX(メイン!$A$9:$M$108,$A100,5))","v":""},{"$f":"IF(INDEX(メイン!$A$9:$M$108,$A100,7)=\"\",\"\",INDEX(メイン!$A$9:$M$108,$A100,7))","v":""},{"$f":"IF(INDEX(メイン!$A$9:$M$108,$A100,8)=\"\",\"\",INDEX(メイン!$A$9:$M$108,$A100,8))","v":""},{"$f":"IF(INDEX(メイン!$A$9:$M$108,$A100,10)=\"\",\"\",INDEX(メイン!$A$9:$M$108,$A100,10))","v":""},{"$f":"IF(INDEX(メイン!$A$9:$M$108,$A100,12)=\"\",\"\",INDEX(メイン!$A$9:$M$108,$A100,12))","v":""}]
[null,null,{"$f":"IF(INDEX(メイン!$A$9:$M$108,$A100,4)=\"\",\"\",INDEX(メイン!$A$9:$M$108,$A100,4))","v":""},{"$f":"IF(INDEX(メイン!$A$9:$M$108,$A100,6)=\"\",\"\",INDEX(メイン!$A$9:$M$108,$A100,6))","v":""},{"$f":"IF(INDEX(メイン!$A$9:$M$108,$A100,9)=\"\",\"\",INDEX(メイン!$A$9:$M$108,$A100,9))","v":""},{"$f":"IF(INDEX(メイン!$A$9:$M$108,$A100,11)=\"\",\"\",INDEX(メイン!$A$9:$M$108,$A100,11))","v":""},{"$f":"IF(INDEX(メイン!$A$9:$M$108,$A100,13)=\"\",\"\",INDEX(メイン!$A$9:$M$108,$A100,13))","v":""}]
[42,{"$f":"IF(INDEX(メイン!$A$9:$M$108,$A102,3)=\"\",\"\",INDEX(メイン!$A$9:$M$108,$A102,3))","v":""},{"$f":"IF(INDEX(メイン!$A$9:$M$108,$A102,5)=\"\",\"\",INDEX(メイン!$A$9:$M$108,$A102,5))","v":""},{"$f":"IF(INDEX(メイン!$A$9:$M$108,$A102,7)=\"\",\"\",INDEX(メイン!$A$9:$M$108,$A102,7))","v":""},{"$f":"IF(INDEX(メイン!$A$9:$M$108,$A102,8)=\"\",\"\",INDEX(メイン!$A$9:$M$108,$A102,8))","v":""},{"$f":"IF(INDEX(メイン!$A$9:$M$108,$A102,10)=\"\",\"\",INDEX(メイン!$A$9:$M$108,$A102,10))","v":""},{"$f":"IF(INDEX(メイン!$A$9:$M$108,$A102,12)=\"\",\"\",INDEX(メイン!$A$9:$M$108,$A102,12))","v":""}]
[null,null,{"$f":"IF(INDEX(メイン!$A$9:$M$108,$A102,4)=\"\",\"\",INDEX(メイン!$A$9:$M$108,$A102,4))","v":""},{"$f":"IF(INDEX(メイン!$A$9:$M$108,$A102,6)=\"\",\"\",INDEX(メイン!$A$9:$M$108,$A102,6))","v":""},{"$f":"IF(INDEX(メイン!$A$9:$M$108,$A102,9)=\"\",\"\",INDEX(メイン!$A$9:$M$108,$A102,9))","v":""},{"$f":"IF(INDEX(メイン!$A$9:$M$108,$A102,11)=\"\",\"\",INDEX(メイン!$A$9:$M$108,$A102,11))","v":""},{"$f":"IF(INDEX(メイン!$A$9:$M$108,$A102,13)=\"\",\"\",INDEX(メイン!$A$9:$M$108,$A102,13))","v":""}]
[43,{"$f":"IF(INDEX(メイン!$A$9:$M$108,$A104,3)=\"\",\"\",INDEX(メイン!$A$9:$M$108,$A104,3))","v":""},{"$f":"IF(INDEX(メイン!$A$9:$M$108,$A104,5)=\"\",\"\",INDEX(メイン!$A$9:$M$108,$A104,5))","v":""},{"$f":"IF(INDEX(メイン!$A$9:$M$108,$A104,7)=\"\",\"\",INDEX(メイン!$A$9:$M$108,$A104,7))","v":""},{"$f":"IF(INDEX(メイン!$A$9:$M$108,$A104,8)=\"\",\"\",INDEX(メイン!$A$9:$M$108,$A104,8))","v":""},{"$f":"IF(INDEX(メイン!$A$9:$M$108,$A104,10)=\"\",\"\",INDEX(メイン!$A$9:$M$108,$A104,10))","v":""},{"$f":"IF(INDEX(メイン!$A$9:$M$108,$A104,12)=\"\",\"\",INDEX(メイン!$A$9:$M$108,$A104,12))","v":""}]
[null,null,{"$f":"IF(INDEX(メイン!$A$9:$M$108,$A104,4)=\"\",\"\",INDEX(メイン!$A$9:$M$108,$A104,4))","v":""},{"$f":"IF(INDEX(メイン!$A$9:$M$108,$A104,6)=\"\",\"\",INDEX(メイン!$A$9:$M$108,$A104,6))","v":""},{"$f":"IF(INDEX(メイン!$A$9:$M$108,$A104,9)=\"\",\"\",INDEX(メイン!$A$9:$M$108,$A104,9))","v":""},{"$f":"IF(INDEX(メイン!$A$9:$M$108,$A104,11)=\"\",\"\",INDEX(メイン!$A$9:$M$108,$A104,11))","v":""},{"$f":"IF(INDEX(メイン!$A$9:$M$108,$A104,13)=\"\",\"\",INDEX(メイン!$A$9:$M$108,$A104,13))","v":""}]
[44,{"$f":"IF(INDEX(メイン!$A$9:$M$108,$A106,3)=\"\",\"\",INDEX(メイン!$A$9:$M$108,$A106,3))","v":""},{"$f":"IF(INDEX(メイン!$A$9:$M$108,$A106,5)=\"\",\"\",INDEX(メイン!$A$9:$M$108,$A106,5))","v":""},{"$f":"IF(INDEX(メイン!$A$9:$M$108,$A106,7)=\"\",\"\",INDEX(メイン!$A$9:$M$108,$A106,7))","v":""},{"$f":"IF(INDEX(メイン!$A$9:$M$108,$A106,8)=\"\",\"\",INDEX(メイン!$A$9:$M$108,$A106,8))","v":""},{"$f":"IF(INDEX(メイン!$A$9:$M$108,$A106,10)=\"\",\"\",INDEX(メイン!$A$9:$M$108,$A106,10))","v":""},{"$f":"IF(INDEX(メイン!$A$9:$M$108,$A106,12)=\"\",\"\",INDEX(メイン!$A$9:$M$108,$A106,12))","v":""}]
[null,null,{"$f":"IF(INDEX(メイン!$A$9:$M$108,$A106,4)=\"\",\"\",INDEX(メイン!$A$9:$M$108,$A106,4))","v":""},{"$f":"IF(INDEX(メイン!$A$9:$M$108,$A106,6)=\"\",\"\",INDEX(メイン!$A$9:$M$108,$A106,6))","v":""},{"$f":"IF(INDEX(メイン!$A$9:$M$108,$A106,9)=\"\",\"\",INDEX(メイン!$A$9:$M$108,$A106,9))","v":""},{"$f":"IF(INDEX(メイン!$A$9:$M$108,$A106,11)=\"\",\"\",INDEX(メイン!$A$9:$M$108,$A106,11))","v":""},{"$f":"IF(INDEX(メイン!$A$9:$M$108,$A106,13)=\"\",\"\",INDEX(メイン!$A$9:$M$108,$A106,13))","v":""}]
["大会名",null,{"$f":"メイン!$C$1","v":"第25回岩手県中学校新人大会陸上競技"},null,null,null,null,"NO.3"]
["                                               陸上競技大会参加申込一覧表"]
[]
["所属名",null,{"$f":"メイン!$C$2","v":0}]
["所属電話番号",null,{"$f":"メイン!$C$5","v":0},null,"監督電話番号",null,{"$f":"メイン!$C$6","v":0}]
["所属長",{"$f":"メイン!$C$3","v":0},null,"印","監督名",{"$f":"メイン!$C$4","v":0}]
[]
["整理番号","ナンバー　　カード","フリガナ","学年","申込種目",null,null,"データ　　バンク"]
[null,null,"氏名",null,"種目1","種目2","リレー出場　　　　記入欄"]
[45,{"$f":"IF(INDEX(メイン!$A$9:$M$108,$A117,3)=\"\",\"\",INDEX(メイン!$A$9:$M$108,$A117,3))","v":""},{"$f":"IF(INDEX(メイン!$A$9:$M$108,$A117,5)=\"\",\"\",INDEX(メイン!$A$9:$M$108,$A117,5))","v":""},{"$f":"IF(INDEX(メイン!$A$9:$M$108,$A117,7)=\"\",\"\",INDEX(メイン!$A$9:$M$108,$A117,7))","v":""},{"$f":"IF(INDEX(メイン!$A$9:$M$108,$A117,8)=\"\",\"\",INDEX(メイン!$A$9:$M$108,$A117,8))","v":""},{"$f":"IF(INDEX(メイン!$A$9:$M$108,$A117,10)=\"\",\"\",INDEX(メイン!$A$9:$M$108,$A117,10))","v":""},{"$f":"IF(INDEX(メイン!$A$9:$M$108,$A117,12)=\"\",\"\",INDEX(メイン!$A$9:$M$108,$A117,12))","v":""}]
[null,null,{"$f":"IF(INDEX(メイン!$A$9:$M$108,$A117,4)=\"\",\"\",INDEX(メイン!$A$9:$M$108,$A117,4))","v":""},{"$f":"IF(INDEX(メイン!$A$9:$M$108,$A117,6)=\"\",\"\",INDEX(メイン!$A$9:$M$108,$A117,6))","v":""},{"$f":"IF(INDEX(メイン!$A$9:$M$108,$A117,9)=\"\",\"\",INDEX(メイン!$A$9:$M$108,$A117,9))","v":""},{"$f":"IF(INDEX(メイン!$A$9:$M$108,$A117,11)=\"\",\"\",INDEX(メイン!$A$9:$M$108,$A117,11))","v":""},{"$f":"IF(INDEX(メイン!$A$9:$M$108,$A117,13)=\"\",\"\",INDEX(メイン!$A$9:$M$108,$A117,13))","v":""}]
[46,{"$f":"IF(INDEX(メイン!$A$9:$M$108,$A119,3)=\"\",\"\",INDEX(メイン!$A$9:$M$108,$A119,3))","v":""},{"$f":"IF(INDEX(メイン!$A$9:$M$108,$A119,5)=\"\",\"\",INDEX(メイン!$A$9:$M$108,$A119,5))","v":""},{"$f":"IF(INDEX(メイン!$A$9:$M$108,$A119,7)=\"\",\"\",INDEX(メイン!$A$9:$M$108,$A119,7))","v":""},{"$f":"IF(INDEX(メイン!$A$9:$M$108,$A119,8)=\"\",\"\",INDEX(メイン!$A$9:$M$108,$A119,8))","v":""},{"$f":"IF(INDEX(メイン!$A$9:$M$108,$A119,10)=\"\",\"\",INDEX(メイン!$A$9:$M$108,$A119,10))","v":""},{"$f":"IF(INDEX(メイン!$A$9:$M$108,$A119,12)=\"\",\"\",INDEX(メイン!$A$9:$M$108,$A119,12))","v":""}]
[null,null,{"$f":"IF(INDEX(メイン!$A$9:$M$108,$A119,4)=\"\",\"\",INDEX(メイン!$A$9:$M$108,$A119,4))","v":""},{"$f":"IF(INDEX(メイン!$A$9:$M$108,$A119,6)=\"\",\"\",INDEX(メイン!$A$9:$M$108,$A119,6))","v":""},{"$f":"IF(INDEX(メイン!$A$9:$M$108,$A119,9)=\"\",\"\",INDEX(メイン!$A$9:$M$108,$A119,9))","v":""},{"$f":"IF(INDEX(メイン!$A$9:$M$108,$A119,11)=\"\",\"\",INDEX(メイン!$A$9:$M$108,$A119,11))","v":""},{"$f":"IF(INDEX(メイン!$A$9:$M$108,$A119,13)=\"\",\"\",INDEX(メイン!$A$9:$M$108,$A119,13))","v":""}]
[47,{"$f":"IF(INDEX(メイン!$A$9:$M$108,$A121,3)=\"\",\"\",INDEX(メイン!$A$9:$M$108,$A121,3))","v":""},{"$f":"IF(INDEX(メイン!$A$9:$M$108,$A121,5)=\"\",\"\",INDEX(メイン!$A$9:$M$108,$A121,5))","v":""},{"$f":"IF(INDEX(メイン!$A$9:$M$108,$A121,7)=\"\",\"\",INDEX(メイン!$A$9:$M$108,$A121,7))","v":""},{"$f":"IF(INDEX(メイン!$A$9:$M$108,$A121,8)=\"\",\"\",INDEX(メイン!$A$9:$M$108,$A121,8))","v":""},{"$f":"IF(INDEX(メイン!$A$9:$M$108,$A121,10)=\"\",\"\",INDEX(メイン!$A$9:$M$108,$A121,10))","v":""},{"$f":"IF(INDEX(メイン!$A$9:$M$108,$A121,12)=\"\",\"\",INDEX(メイン!$A$9:$M$108,$A121,12))","v":""}]
[null,null,{"$f":"IF(INDEX(メイン!$A$9:$M$108,$A121,4)=\"\",\"\",INDEX(メイン!$A$9:$M$108,$A121,4))","v":""},{"$f":"IF(INDEX(メイン!$A$9:$M$108,$A121,6)=\"\",\"\",INDEX(メイン!$A$9:$M$108,$A121,6))","v":""},{"$f":"IF(INDEX(メイン!$A$9:$M$108,$A121,9)=\"\",\"\",INDEX(メイン!$A$9:$M$108,$A121,9))","v":""},{"$f":"IF(INDEX(メイン!$A$9:$M$108,$A121,11)=\"\",\"\",INDEX(メイン!$A$9:$M$108,$A121,11))","v":""},{"$f":"IF(INDEX(メイン!$A$9:$M$108,$A121,13)=\"\",\"\",INDEX(メイン!$A$9:$M$108,$A121,13))","v":""}]
[48,{"$f":"IF(INDEX(メイン!$A$9:$M$108,$A123,3)=\"\",\"\",INDEX(メイン!$A$9:$M$108,$A123,3))","v":""},{"$f":"IF(INDEX(メイン!$A$9:$M$108,$A123,5)=\"\",\"\",INDEX(メイン!$A$9:$M$108,$A123,5))","v":""},{"$f":"IF(INDEX(メイン!$A$9:$M$108,$A123,7)=\"\",\"\",INDEX(メイン!$A$9:$M$108,$A123,7))","v":""},{"$f":"IF(INDEX(メイン!$A$9:$M$108,$A123,8)=\"\",\"\",INDEX(メイン!$A$9:$M$108,$A123,8))","v":""},{"$f":"IF(INDEX(メイン!$A$9:$M$108,$A123,10)=\"\",\"\",INDEX(メイン!$A$9:$M$108,$A123,10))","v":""},{"$f":"IF(INDEX(メイン!$A$9:$M$108,$A123,12)=\"\",\"\",INDEX(メイン!$A$9:$M$108,$A123,12))","v":""}]
[null,null,{"$f":"IF(INDEX(メイン!$A$9:$M$108,$A123,4)=\"\",\"\",INDEX(メイン!$A$9:$M$108,$A123,4))","v":""},{"$f":"IF(INDEX(メイン!$A$9:$M$108,$A123,6)=\"\",\"\",INDEX(メイン!$A$9:$M$108,$A123,6))","v":""},{"$f":"IF(INDEX(メイン!$A$9:$M$108,$A123,9)=\"\",\"\",INDEX(メイン!$A$9:$M$108,$A123,9))","v":""},{"$f":"IF(INDEX(メイン!$A$9:$M$108,$A123,11)=\"\",\"\",INDEX(メイン!$A$9:$M$108,$A123,11))","v":""},{"$f":"IF(INDEX(メイン!$A$9:$M$108,$A123,13)=\"\",\"\",INDEX(メイン!$A$9:$M$108,$A123,13))","v":""}]
[49,{"$f":"IF(INDEX(メイン!$A$9:$M$108,$A125,3)=\"\",\"\",INDEX(メイン!$A$9:$M$108,$A125,3))","v":""},{"$f":"IF(INDEX(メイン!$A$9:$M$108,$A125,5)=\"\",\"\",INDEX(メイン!$A$9:$M$108,$A125,5))","v":""},{"$f":"IF(INDEX(メイン!$A$9:$M$108,$A125,7)=\"\",\"\",INDEX(メイン!$A$9:$M$108,$A125,7))","v":""},{"$f":"IF(INDEX(メイン!$A$9:$M$108,$A125,8)=\"\",\"\",INDEX(メイン!$A$9:$M$108,$A125,8))","v":""},{"$f":"IF(INDEX(メイン!$A$9:$M$108,$A125,10)=\"\",\"\",INDEX(メイン!$A$9:$M$108,$A125,10))","v":""},{"$f":"IF(INDEX(メイン!$A$9:$M$108,$A125,12)=\"\",\"\",INDEX(メイン!$A$9:$M$108,$A125,12))","v":""}]
[null,null,{"$f":"IF(INDEX(メイン!$A$9:$M$108,$A125,4)=\"\",\"\",INDEX(メイン!$A$9:$M$108,$A125,4))","v":""},{"$f":"IF(INDEX(メイン!$A$9:$M$108,$A125,6)=\"\",\"\",INDEX(メイン!$A$9:$M$108,$A125,6))","v":""},{"$f":"IF(INDEX(メイン!$A$9:$M$108,$A125,9)=\"\",\"\",INDEX(メイン!$A$9:$M$108,$A125,9))","v":""},{"$f":"IF(INDEX(メイン!$A$9:$M$108,$A125,11)=\"\",\"\",INDEX(メイン!$A$9:$M$108,$A125,11))","v":""},{"$f":"IF(INDEX(メイン!$A$9:$M$108,$A125,13)=\"\",\"\",INDEX(メイン!$A$9:$M$108,$A125,13))","v":""}]
[50,{"$f":"IF(INDEX(メイン!$A$9:$M$108,$A127,3)=\"\",\"\",INDEX(メイン!$A$9:$M$108,$A127,3))","v":""},{"$f":"IF(INDEX(メイン!$A$9:$M$108,$A127,5)=\"\",\"\",INDEX(メイン!$A$9:$M$108,$A127,5))","v":""},{"$f":"IF(INDEX(メイン!$A$9:$M$108,$A127,7)=\"\",\"\",INDEX(メイン!$A$9:$M$108,$A127,7))","v":""},{"$f":"IF(INDEX(メイン!$A$9:$M$108,$A127,8)=\"\",\"\",INDEX(メイン!$A$9:$M$108,$A127,8))","v":""},{"$f":"IF(INDEX(メイン!$A$9:$M$108,$A127,10)=\"\",\"\",INDEX(メイン!$A$9:$M$108,$A127,10))","v":""},{"$f":"IF(INDEX(メイン!$A$9:$M$108,$A127,12)=\"\",\"\",INDEX(メイン!$A$9:$M$108,$A127,12))","v":""}]
[null,null,{"$f":"IF(INDEX(メイン!$A$9:$M$108,$A127,4)=\"\",\"\",INDEX(メイン!$A$9:$M$108,$A127,4))","v":""},{"$f":"IF(INDEX(メイン!$A$9:$M$108,$A127,6)=\"\",\"\",INDEX(メイン!$A$9:$M$108,$A127,6))","v":""},{"$f":"IF(INDEX(メイン!$A$9:$M$108,$A127,9)=\"\",\"\",INDEX(メイン!$A$9:$M$108,$A127,9))","v":""},{"$f":"IF(INDEX(メイン!$A$9:$M$108,$A127,11)=\"\",\"\",INDEX(メイン!$A$9:$M$108,$A127,11))","v":""},{"$f":"IF(INDEX(メイン!$A$9:$M$108,$A127,13)=\"\",\"\",INDEX(メイン!$A$9:$M$108,$A127,13))","v":""}]
[51,{"$f":"IF(INDEX(メイン!$A$9:$M$108,$A129,3)=\"\",\"\",INDEX(メイン!$A$9:$M$108,$A129,3))","v":""},{"$f":"IF(INDEX(メイン!$A$9:$M$108,$A129,5)=\"\",\"\",INDEX(メイン!$A$9:$M$108,$A129,5))","v":""},{"$f":"IF(INDEX(メイン!$A$9:$M$108,$A129,7)=\"\",\"\",INDEX(メイン!$A$9:$M$108,$A129,7))","v":""},{"$f":"IF(INDEX(メイン!$A$9:$M$108,$A129,8)=\"\",\"\",INDEX(メイン!$A$9:$M$108,$A129,8))","v":""},{"$f":"IF(INDEX(メイン!$A$9:$M$108,$A129,10)=\"\",\"\",INDEX(メイン!$A$9:$M$108,$A129,10))","v":""},{"$f":"IF(INDEX(メイン!$A$9:$M$108,$A129,12)=\"\",\"\",INDEX(メイン!$A$9:$M$108,$A129,12))","v":""}]
[null,null,{"$f":"IF(INDEX(メイン!$A$9:$M$108,$A129,4)=\"\",\"\",INDEX(メイン!$A$9:$M$108,$A129,4))","v":""},{"$f":"IF(INDEX(メイン!$A$9:$M$108,$A129,6)=\"\",\"\",INDEX(メイン!$A$9:$M$108,$A129,6))","v":""},{"$f":"IF(INDEX(メイン!$A$9:$M$108,$A129,9)=\"\",\"\",INDEX(メイン!$A$9:$M$108,$A129,9))","v":""},{"$f":"IF(INDEX(メイン!$A$9:$M$108,$A129,11)=\"\",\"\",INDEX(メイン!$A$9:$M$108,$A129,11))","v":""},{"$f":"IF(INDEX(メイン!$A$9:$M$108,$A129,13)=\"\",\"\",INDEX(メイン!$A$9:$M$108,$A129,13))","v":""}]
[52,{"$f":"IF(INDEX(メイン!$A$9:$M$108,$A131,3)=\"\",\"\",INDEX(メイン!$A$9:$M$108,$A131,3))","v":""},{"$f":"IF(INDEX(メイン!$A$9:$M$108,$A131,5)=\"\",\"\",INDEX(メイン!$A$9:$M$108,$A131,5))","v":""},{"$f":"IF(INDEX(メイン!$A$9:$M$108,$A131,7)=\"\",\"\",INDEX(メイン!$A$9:$M$108,$A131,7))","v":""},{"$f":"IF(INDEX(メイン!$A$9:$M$108,$A131,8)=\"\",\"\",INDEX(メイン!$A$9:$M$108,$A131,8))","v":""},{"$f":"IF(INDEX(メイン!$A$9:$M$108,$A131,10)=\"\",\"\",INDEX(メイン!$A$9:$M$108,$A131,10))","v":""},{"$f":"IF(INDEX(メイン!$A$9:$M$108,$A131,12)=\"\",\"\",INDEX(メイン!$A$9:$M$108,$A131,12))","v":""}]
[null,null,{"$f":"IF(INDEX(メイン!$A$9:$M$108,$A131,4)=\"\",\"\",INDEX(メイン!$A$9:$M$108,$A131,4))","v":""},{"$f":"IF(INDEX(メイン!$A$9:$M$108,$A131,6)=\"\",\"\",INDEX(メイン!$A$9:$M$108,$A131,6))","v":""},{"$f":"IF(INDEX(メイン!$A$9:$M$108,$A131,9)=\"\",\"\",INDEX(メイン!$A$9:$M$108,$A131,9))","v":""},{"$f":"IF(INDEX(メイン!$A$9:$M$108,$A131,11)=\"\",\"\",INDEX(メイン!$A$9:$M$108,$A131,11))","v":""},{"$f":"IF(INDEX(メイン!$A$9:$M$108,$A131,13)=\"\",\"\",INDEX(メイン!$A$9:$M$108,$A131,13))","v":""}]
[53,{"$f":"IF(INDEX(メイン!$A$9:$M$108,$A133,3)=\"\",\"\",INDEX(メイン!$A$9:$M$108,$A133,3))","v":""},{"$f":"IF(INDEX(メイン!$A$9:$M$108,$A133,5)=\"\",\"\",INDEX(メイン!$A$9:$M$108,$A133,5))","v":""},{"$f":"IF(INDEX(メイン!$A$9:$M$108,$A133,7)=\"\",\"\",INDEX(メイン!$A$9:$M$108,$A133,7))","v":""},{"$f":"IF(INDEX(メイン!$A$9:$M$108,$A133,8)=\"\",\"\",INDEX(メイン!$A$9:$M$108,$A133,8))","v":""},{"$f":"IF(INDEX(メイン!$A$9:$M$108,$A133,10)=\"\",\"\",INDEX(メイン!$A$9:$M$108,$A133,10))","v":""},{"$f":"IF(INDEX(メイン!$A$9:$M$108,$A133,12)=\"\",\"\",INDEX(メイン!$A$9:$M$108,$A133,12))","v":""}]
[null,null,{"$f":"IF(INDEX(メイン!$A$9:$M$108,$A133,4)=\"\",\"\",INDEX(メイン!$A$9:$M$108,$A133,4))","v":""},{"$f":"IF(INDEX(メイン!$A$9:$M$108,$A133,6)=\"\",\"\",INDEX(メイン!$A$9:$M$108,$A133,6))","v":""},{"$f":"IF(INDEX(メイン!$A$9:$M$108,$A133,9)=\"\",\"\",INDEX(メイン!$A$9:$M$108,$A133,9))","v":""},{"$f":"IF(INDEX(メイン!$A$9:$M$108,$A133,11)=\"\",\"\",INDEX(メイン!$A$9:$M$108,$A133,11))","v":""},{"$f":"IF(INDEX(メイン!$A$9:$M$108,$A133,13)=\"\",\"\",INDEX(メイン!$A$9:$M$108,$A133,13))","v":""}]
[54,{"$f":"IF(INDEX(メイン!$A$9:$M$108,$A135,3)=\"\",\"\",INDEX(メイン!$A$9:$M$108,$A135,3))","v":""},{"$f":"IF(INDEX(メイン!$A$9:$M$108,$A135,5)=\"\",\"\",INDEX(メイン!$A$9:$M$108,$A135,5))","v":""},{"$f":"IF(INDEX(メイン!$A$9:$M$108,$A135,7)=\"\",\"\",INDEX(メイン!$A$9:$M$108,$A135,7))","v":""},{"$f":"IF(INDEX(メイン!$A$9:$M$108,$A135,8)=\"\",\"\",INDEX(メイン!$A$9:$M$108,$A135,8))","v":""},{"$f":"IF(INDEX(メイン!$A$9:$M$108,$A135,10)=\"\",\"\",INDEX(メイン!$A$9:$M$108,$A135,10))","v":""},{"$f":"IF(INDEX(メイン!$A$9:$M$108,$A135,12)=\"\",\"\",INDEX(メイン!$A$9:$M$108,$A135,12))","v":""}]
[null,null,{"$f":"IF(INDEX(メイン!$A$9:$M$108,$A135,4)=\"\",\"\",INDEX(メイン!$A$9:$M$108,$A135,4))","v":""},{"$f":"IF(INDEX(メイン!$A$9:$M$108,$A135,6)=\"\",\"\",INDEX(メイン!$A$9:$M$108,$A135,6))","v":""},{"$f":"IF(INDEX(メイン!$A$9:$M$108,$A135,9)=\"\",\"\",INDEX(メイン!$A$9:$M$108,$A135,9))","v":""},{"$f":"IF(INDEX(メイン!$A$9:$M$108,$A135,11)=\"\",\"\",INDEX(メイン!$A$9:$M$108,$A135,11))","v":""},{"$f":"IF(INDEX(メイン!$A$9:$M$108,$A135,13)=\"\",\"\",INDEX(メイン!$A$9:$M$108,$A135,13))","v":""}]
[55,{"$f":"IF(INDEX(メイン!$A$9:$M$108,$A137,3)=\"\",\"\",INDEX(メイン!$A$9:$M$108,$A137,3))","v":""},{"$f":"IF(INDEX(メイン!$A$9:$M$108,$A137,5)=\"\",\"\",INDEX(メイン!$A$9:$M$108,$A137,5))","v":""},{"$f":"IF(INDEX(メイン!$A$9:$M$108,$A137,7)=\"\",\"\",INDEX(メイン!$A$9:$M$108,$A137,7))","v":""},{"$f":"IF(INDEX(メイン!$A$9:$M$108,$A137,8)=\"\",\"\",INDEX(メイン!$A$9:$M$108,$A137,8))","v":""},{"$f":"IF(INDEX(メイン!$A$9:$M$108,$A137,10)=\"\",\"\",INDEX(メイン!$A$9:$M$108,$A137,10))","v":""},{"$f":"IF(INDEX(メイン!$A$9:$M$108,$A137,12)=\"\",\"\",INDEX(メイン!$A$9:$M$108,$A137,12))","v":""}]
[null,null,{"$f":"IF(INDEX(メイン!$A$9:$M$108,$A137,4)=\"\",\"\",INDEX(メイン!$A$9:$M$108,$A137,4))","v":""},{"$f":"IF(INDEX(メイン!$A$9:$M$108,$A137,6)=\"\",\"\",INDEX(メイン!$A$9:$M$108,$A137,6))","v":""},{"$f":"IF(INDEX(メイン!$A$9:$M$108,$A137,9)=\"\",\"\",INDEX(メイン!$A$9:$M$108,$A137,9))","v":""},{"$f":"IF(INDEX(メイン!$A$9:$M$108,$A137,11)=\"\",\"\",INDEX(メイン!$A$9:$M$108,$A137,11))","v":""},{"$f":"IF(INDEX(メイン!$A$9:$M$108,$A137,13)=\"\",\"\",INDEX(メイン!$A$9:$M$108,$A137,13))","v":""}]
[56,{"$f":"IF(INDEX(メイン!$A$9:$M$108,$A139,3)=\"\",\"\",INDEX(メイン!$A$9:$M$108,$A139,3))","v":""},{"$f":"IF(INDEX(メイン!$A$9:$M$108,$A139,5)=\"\",\"\",INDEX(メイン!$A$9:$M$108,$A139,5))","v":""},{"$f":"IF(INDEX(メイン!$A$9:$M$108,$A139,7)=\"\",\"\",INDEX(メイン!$A$9:$M$108,$A139,7))","v":""},{"$f":"IF(INDEX(メイン!$A$9:$M$108,$A139,8)=\"\",\"\",INDEX(メイン!$A$9:$M$108,$A139,8))","v":""},{"$f":"IF(INDEX(メイン!$A$9:$M$108,$A139,10)=\"\",\"\",INDEX(メイン!$A$9:$M$108,$A139,10))","v":""},{"$f":"IF(INDEX(メイン!$A$9:$M$108,$A139,12)=\"\",\"\",INDEX(メイン!$A$9:$M$108,$A139,12))","v":""}]
[null,null,{"$f":"IF(INDEX(メイン!$A$9:$M$108,$A139,4)=\"\",\"\",INDEX(メイン!$A$9:$M$108,$A139,4))","v":""},{"$f":"IF(INDEX(メイン!$A$9:$M$108,$A139,6)=\"\",\"\",INDEX(メイン!$A$9:$M$108,$A139,6))","v":""},{"$f":"IF(INDEX(メイン!$A$9:$M$108,$A139,9)=\"\",\"\",INDEX(メイン!$A$9:$M$108,$A139,9))","v":""},{"$f":"IF(INDEX(メイン!$A$9:$M$108,$A139,11)=\"\",\"\",INDEX(メイン!$A$9:$M$108,$A139,11))","v":""},{"$f":"IF(INDEX(メイン!$A$9:$M$108,$A139,13)=\"\",\"\",INDEX(メイン!$A$9:$M$108,$A139,13))","v":""}]
[57,{"$f":"IF(INDEX(メイン!$A$9:$M$108,$A141,3)=\"\",\"\",INDEX(メイン!$A$9:$M$108,$A141,3))","v":""},{"$f":"IF(INDEX(メイン!$A$9:$M$108,$A141,5)=\"\",\"\",INDEX(メイン!$A$9:$M$108,$A141,5))","v":""},{"$f":"IF(INDEX(メイン!$A$9:$M$108,$A141,7)=\"\",\"\",INDEX(メイン!$A$9:$M$108,$A141,7))","v":""},{"$f":"IF(INDEX(メイン!$A$9:$M$108,$A141,8)=\"\",\"\",INDEX(メイン!$A$9:$M$108,$A141,8))","v":""},{"$f":"IF(INDEX(メイン!$A$9:$M$108,$A141,10)=\"\",\"\",INDEX(メイン!$A$9:$M$108,$A141,10))","v":""},{"$f":"IF(INDEX(メイン!$A$9:$M$108,$A141,12)=\"\",\"\",INDEX(メイン!$A$9:$M$108,$A141,12))","v":""}]
[null,null,{"$f":"IF(INDEX(メイン!$A$9:$M$108,$A141,4)=\"\",\"\",INDEX(メイン!$A$9:$M$108,$A141,4))","v":""},{"$f":"IF(INDEX(メイン!$A$9:$M$108,$A141,6)=\"\",\"\",INDEX(メイン!$A$9:$M$108,$A141,6))","v":""},{"$f":"IF(INDEX(メイン!$A$9:$M$108,$A141,9)=\"\",\"\",INDEX(メイン!$A$9:$M$108,$A141,9))","v":""},{"$f":"IF(INDEX(メイン!$A$9:$M$108,$A141,11)=\"\",\"\",INDEX(メイン!$A$9:$M$108,$A141,11))","v":""},{"$f":"IF(INDEX(メイン!$A$9:$M$108,$A141,13)=\"\",\"\",INDEX(メイン!$A$9:$M$108,$A141,13))","v":""}]
[58,{"$f":"IF(INDEX(メイン!$A$9:$M$108,$A143,3)=\"\",\"\",INDEX(メイン!$A$9:$M$108,$A143,3))","v":""},{"$f":"IF(INDEX(メイン!$A$9:$M$108,$A143,5)=\"\",\"\",INDEX(メイン!$A$9:$M$108,$A143,5))","v":""},{"$f":"IF(INDEX(メイン!$A$9:$M$108,$A143,7)=\"\",\"\",INDEX(メイン!$A$9:$M$108,$A143,7))","v":""},{"$f":"IF(INDEX(メイン!$A$9:$M$108,$A143,8)=\"\",\"\",INDEX(メイン!$A$9:$M$108,$A143,8))","v":""},{"$f":"IF(INDEX(メイン!$A$9:$M$108,$A143,10)=\"\",\"\",INDEX(メイン!$A$9:$M$108,$A143,10))","v":""},{"$f":"IF(INDEX(メイン!$A$9:$M$108,$A143,12)=\"\",\"\",INDEX(メイン!$A$9:$M$108,$A143,12))","v":""}]
[null,null,{"$f":"IF(INDEX(メイン!$A$9:$M$108,$A143,4)=\"\",\"\",INDEX(メイン!$A$9:$M$108,$A143,4))","v":""},{"$f":"IF(INDEX(メイン!$A$9:$M$108,$A143,6)=\"\",\"\",INDEX(メイン!$A$9:$M$108,$A143,6))","v":""},{"$f":"IF(INDEX(メイン!$A$9:$M$108,$A143,9)=\"\",\"\",INDEX(メイン!$A$9:$M$108,$A143,9))","v":""},{"$f":"IF(INDEX(メイン!$A$9:$M$108,$A143,11)=\"\",\"\",INDEX(メイン!$A$9:$M$108,$A143,11))","v":""},{"$f":"IF(INDEX(メイン!$A$9:$M$108,$A143,13)=\"\",\"\",INDEX(メイン!$A$9:$M$108,$A143,13))","v":""}]
[59,{"$f":"IF(INDEX(メイン!$A$9:$M$108,$A145,3)=\"\",\"\",INDEX(メイン!$A$9:$M$108,$A145,3))","v":""},{"$f":"IF(INDEX(メイン!$A$9:$M$108,$A145,5)=\"\",\"\",INDEX(メイン!$A$9:$M$108,$A145,5))","v":""},{"$f":"IF(INDEX(メイン!$A$9:$M$108,$A145,7)=\"\",\"\",INDEX(メイン!$A$9:$M$108,$A145,7))","v":""},{"$f":"IF(INDEX(メイン!$A$9:$M$108,$A145,8)=\"\",\"\",INDEX(メイン!$A$9:$M$108,$A145,8))","v":""},{"$f":"IF(INDEX(メイン!$A$9:$M$108,$A145,10)=\"\",\"\",INDEX(メイン!$A$9:$M$108,$A145,10))","v":""},{"$f":"IF(INDEX(メイン!$A$9:$M$108,$A145,12)=\"\",\"\",INDEX(メイン!$A$9:$M$108,$A145,12))","v":""}]
[null,null,{"$f":"IF(INDEX(メイン!$A$9:$M$108,$A145,4)=\"\",\"\",INDEX(メイン!$A$9:$M$108,$A145,4))","v":""},{"$f":"IF(INDEX(メイン!$A$9:$M$108,$A145,6)=\"\",\"\",INDEX(メイン!$A$9:$M$108,$A145,6))","v":""},{"$f":"IF(INDEX(メイン!$A$9:$M$108,$A145,9)=\"\",\"\",INDEX(メイン!$A$9:$M$108,$A145,9))","v":""},{"$f":"IF(INDEX(メイン!$A$9:$M$108,$A145,11)=\"\",\"\",INDEX(メイン!$A$9:$M$108,$A145,11))","v":""},{"$f":"IF(INDEX(メイン!$A$9:$M$108,$A145,13)=\"\",\"\",INDEX(メイン!$A$9:$M$108,$A145,13))","v":""}]
[60,{"$f":"IF(INDEX(メイン!$A$9:$M$108,$A147,3)=\"\",\"\",INDEX(メイン!$A$9:$M$108,$A147,3))","v":""},{"$f":"IF(INDEX(メイン!$A$9:$M$108,$A147,5)=\"\",\"\",INDEX(メイン!$A$9:$M$108,$A147,5))","v":""},{"$f":"IF(INDEX(メイン!$A$9:$M$108,$A147,7)=\"\",\"\",INDEX(メイン!$A$9:$M$108,$A147,7))","v":""},{"$f":"IF(INDEX(メイン!$A$9:$M$108,$A147,8)=\"\",\"\",INDEX(メイン!$A$9:$M$108,$A147,8))","v":""},{"$f":"IF(INDEX(メイン!$A$9:$M$108,$A147,10)=\"\",\"\",INDEX(メイン!$A$9:$M$108,$A147,10))","v":""},{"$f":"IF(INDEX(メイン!$A$9:$M$108,$A147,12)=\"\",\"\",INDEX(メイン!$A$9:$M$108,$A147,12))","v":""}]
[null,null,{"$f":"IF(INDEX(メイン!$A$9:$M$108,$A147,4)=\"\",\"\",INDEX(メイン!$A$9:$M$108,$A147,4))","v":""},{"$f":"IF(INDEX(メイン!$A$9:$M$108,$A147,6)=\"\",\"\",INDEX(メイン!$A$9:$M$108,$A147,6))","v":""},{"$f":"IF(INDEX(メイン!$A$9:$M$108,$A147,9)=\"\",\"\",INDEX(メイン!$A$9:$M$108,$A147,9))","v":""},{"$f":"IF(INDEX(メイン!$A$9:$M$108,$A147,11)=\"\",\"\",INDEX(メイン!$A$9:$M$108,$A147,11))","v":""},{"$f":"IF(INDEX(メイン!$A$9:$M$108,$A147,13)=\"\",\"\",INDEX(メイン!$A$9:$M$108,$A147,13))","v":""}]
[61,{"$f":"IF(INDEX(メイン!$A$9:$M$108,$A149,3)=\"\",\"\",INDEX(メイン!$A$9:$M$108,$A149,3))","v":""},{"$f":"IF(INDEX(メイン!$A$9:$M$108,$A149,5)=\"\",\"\",INDEX(メイン!$A$9:$M$108,$A149,5))","v":""},{"$f":"IF(INDEX(メイン!$A$9:$M$108,$A149,7)=\"\",\"\",INDEX(メイン!$A$9:$M$108,$A149,7))","v":""},{"$f":"IF(INDEX(メイン!$A$9:$M$108,$A149,8)=\"\",\"\",INDEX(メイン!$A$9:$M$108,$A149,8))","v":""},{"$f":"IF(INDEX(メイン!$A$9:$M$108,$A149,10)=\"\",\"\",INDEX(メイン!$A$9:$M$108,$A149,10))","v":""},{"$f":"IF(INDEX(メイン!$A$9:$M$108,$A149,12)=\"\",\"\",INDEX(メイン!$A$9:$M$108,$A149,12))","v":""}]
[null,null,{"$f":"IF(INDEX(メイン!$A$9:$M$108,$A149,4)=\"\",\"\",INDEX(メイン!$A$9:$M$108,$A149,4))","v":""},{"$f":"IF(INDEX(メイン!$A$9:$M$108,$A149,6)=\"\",\"\",INDEX(メイン!$A$9:$M$108,$A149,6))","v":""},{"$f":"IF(INDEX(メイン!$A$9:$M$108,$A149,9)=\"\",\"\",INDEX(メイン!$A$9:$M$108,$A149,9))","v":""},{"$f":"IF(INDEX(メイン!$A$9:$M$108,$A149,11)=\"\",\"\",INDEX(メイン!$A$9:$M$108,$A149,11))","v":""},{"$f":"IF(INDEX(メイン!$A$9:$M$108,$A149,13)=\"\",\"\",INDEX(メイン!$A$9:$M$108,$A149,13))","v":""}]
[62,{"$f":"IF(INDEX(メイン!$A$9:$M$108,$A151,3)=\"\",\"\",INDEX(メイン!$A$9:$M$108,$A151,3))","v":""},{"$f":"IF(INDEX(メイン!$A$9:$M$108,$A151,5)=\"\",\"\",INDEX(メイン!$A$9:$M$108,$A151,5))","v":""},{"$f":"IF(INDEX(メイン!$A$9:$M$108,$A151,7)=\"\",\"\",INDEX(メイン!$A$9:$M$108,$A151,7))","v":""},{"$f":"IF(INDEX(メイン!$A$9:$M$108,$A151,8)=\"\",\"\",INDEX(メイン!$A$9:$M$108,$A151,8))","v":""},{"$f":"IF(INDEX(メイン!$A$9:$M$108,$A151,10)=\"\",\"\",INDEX(メイン!$A$9:$M$108,$A151,10))","v":""},{"$f":"IF(INDEX(メイン!$A$9:$M$108,$A151,12)=\"\",\"\",INDEX(メイン!$A$9:$M$108,$A151,12))","v":""}]
[null,null,{"$f":"IF(INDEX(メイン!$A$9:$M$108,$A151,4)=\"\",\"\",INDEX(メイン!$A$9:$M$108,$A151,4))","v":""},{"$f":"IF(INDEX(メイン!$A$9:$M$108,$A151,6)=\"\",\"\",INDEX(メイン!$A$9:$M$108,$A151,6))","v":""},{"$f":"IF(INDEX(メイン!$A$9:$M$108,$A151,9)=\"\",\"\",INDEX(メイン!$A$9:$M$108,$A151,9))","v":""},{"$f":"IF(INDEX(メイン!$A$9:$M$108,$A151,11)=\"\",\"\",INDEX(メイン!$A$9:$M$108,$A151,11))","v":""},{"$f":"IF(INDEX(メイン!$A$9:$M$108,$A151,13)=\"\",\"\",INDEX(メイン!$A$9:$M$108,$A151,13))","v":""}]
[63,{"$f":"IF(INDEX(メイン!$A$9:$M$108,$A153,3)=\"\",\"\",INDEX(メイン!$A$9:$M$108,$A153,3))","v":""},{"$f":"IF(INDEX(メイン!$A$9:$M$108,$A153,5)=\"\",\"\",INDEX(メイン!$A$9:$M$108,$A153,5))","v":""},{"$f":"IF(INDEX(メイン!$A$9:$M$108,$A153,7)=\"\",\"\",INDEX(メイン!$A$9:$M$108,$A153,7))","v":""},{"$f":"IF(INDEX(メイン!$A$9:$M$108,$A153,8)=\"\",\"\",INDEX(メイン!$A$9:$M$108,$A153,8))","v":""},{"$f":"IF(INDEX(メイン!$A$9:$M$108,$A153,10)=\"\",\"\",INDEX(メイン!$A$9:$M$108,$A153,10))","v":""},{"$f":"IF(INDEX(メイン!$A$9:$M$108,$A153,12)=\"\",\"\",INDEX(メイン!$A$9:$M$108,$A153,12))","v":""}]
[null,null,{"$f":"IF(INDEX(メイン!$A$9:$M$108,$A153,4)=\"\",\"\",INDEX(メイン!$A$9:$M$108,$A153,4))","v":""},{"$f":"IF(INDEX(メイン!$A$9:$M$108,$A153,6)=\"\",\"\",INDEX(メイン!$A$9:$M$108,$A153,6))","v":""},{"$f":"IF(INDEX(メイン!$A$9:$M$108,$A153,9)=\"\",\"\",INDEX(メイン!$A$9:$M$108,$A153,9))","v":""},{"$f":"IF(INDEX(メイン!$A$9:$M$108,$A153,11)=\"\",\"\",INDEX(メイン!$A$9:$M$108,$A153,11))","v":""},{"$f":"IF(INDEX(メイン!$A$9:$M$108,$A153,13)=\"\",\"\",INDEX(メイン!$A$9:$M$108,$A153,13))","v":""}]
[64,{"$f":"IF(INDEX(メイン!$A$9:$M$108,$A155,3)=\"\",\"\",INDEX(メイン!$A$9:$M$108,$A155,3))","v":""},{"$f":"IF(INDEX(メイン!$A$9:$M$108,$A155,5)=\"\",\"\",INDEX(メイン!$A$9:$M$108,$A155,5))","v":""},{"$f":"IF(INDEX(メイン!$A$9:$M$108,$A155,7)=\"\",\"\",INDEX(メイン!$A$9:$M$108,$A155,7))","v":""},{"$f":"IF(INDEX(メイン!$A$9:$M$108,$A155,8)=\"\",\"\",INDEX(メイン!$A$9:$M$108,$A155,8))","v":""},{"$f":"IF(INDEX(メイン!$A$9:$M$108,$A155,10)=\"\",\"\",INDEX(メイン!$A$9:$M$108,$A155,10))","v":""},{"$f":"IF(INDEX(メイン!$A$9:$M$108,$A155,12)=\"\",\"\",INDEX(メイン!$A$9:$M$108,$A155,12))","v":""}]
[null,null,{"$f":"IF(INDEX(メイン!$A$9:$M$108,$A155,4)=\"\",\"\",INDEX(メイン!$A$9:$M$108,$A155,4))","v":""},{"$f":"IF(INDEX(メイン!$A$9:$M$108,$A155,6)=\"\",\"\",INDEX(メイン!$A$9:$M$108,$A155,6))","v":""},{"$f":"IF(INDEX(メイン!$A$9:$M$108,$A155,9)=\"\",\"\",INDEX(メイン!$A$9:$M$108,$A155,9))","v":""},{"$f":"IF(INDEX(メイン!$A$9:$M$108,$A155,11)=\"\",\"\",INDEX(メイン!$A$9:$M$108,$A155,11))","v":""},{"$f":"IF(INDEX(メイン!$A$9:$M$108,$A155,13)=\"\",\"\",INDEX(メイン!$A$9:$M$108,$A155,13))","v":""}]
[65,{"$f":"IF(INDEX(メイン!$A$9:$M$108,$A157,3)=\"\",\"\",INDEX(メイン!$A$9:$M$108,$A157,3))","v":""},{"$f":"IF(INDEX(メイン!$A$9:$M$108,$A157,5)=\"\",\"\",INDEX(メイン!$A$9:$M$108,$A157,5))","v":""},{"$f":"IF(INDEX(メイン!$A$9:$M$108,$A157,7)=\"\",\"\",INDEX(メイン!$A$9:$M$108,$A157,7))","v":""},{"$f":"IF(INDEX(メイン!$A$9:$M$108,$A157,8)=\"\",\"\",INDEX(メイン!$A$9:$M$108,$A157,8))","v":""},{"$f":"IF(INDEX(メイン!$A$9:$M$108,$A157,10)=\"\",\"\",INDEX(メイン!$A$9:$M$108,$A157,10))","v":""},{"$f":"IF(INDEX(メイン!$A$9:$M$108,$A157,12)=\"\",\"\",INDEX(メイン!$A$9:$M$108,$A157,12))","v":""}]
[null,null,{"$f":"IF(INDEX(メイン!$A$9:$M$108,$A157,4)=\"\",\"\",INDEX(メイン!$A$9:$M$108,$A157,4))","v":""},{"$f":"IF(INDEX(メイン!$A$9:$M$108,$A157,6)=\"\",\"\",INDEX(メイン!$A$9:$M$108,$A157,6))","v":""},{"$f":"IF(INDEX(メイン!$A$9:$M$108,$A157,9)=\"\",\"\",INDEX(メイン!$A$9:$M$108,$A157,9))","v":""},{"$f":"IF(INDEX(メイン!$A$9:$M$108,$A157,11)=\"\",\"\",INDEX(メイン!$A$9:$M$108,$A157,11))","v":""},{"$f":"IF(INDEX(メイン!$A$9:$M$108,$A157,13)=\"\",\"\",INDEX(メイン!$A$9:$M$108,$A157,13))","v":""}]
[66,{"$f":"IF(INDEX(メイン!$A$9:$M$108,$A159,3)=\"\",\"\",INDEX(メイン!$A$9:$M$108,$A159,3))","v":""},{"$f":"IF(INDEX(メイン!$A$9:$M$108,$A159,5)=\"\",\"\",INDEX(メイン!$A$9:$M$108,$A159,5))","v":""},{"$f":"IF(INDEX(メイン!$A$9:$M$108,$A159,7)=\"\",\"\",INDEX(メイン!$A$9:$M$108,$A159,7))","v":""},{"$f":"IF(INDEX(メイン!$A$9:$M$108,$A159,8)=\"\",\"\",INDEX(メイン!$A$9:$M$108,$A159,8))","v":""},{"$f":"IF(INDEX(メイン!$A$9:$M$108,$A159,10)=\"\",\"\",INDEX(メイン!$A$9:$M$108,$A159,10))","v":""},{"$f":"IF(INDEX(メイン!$A$9:$M$108,$A159,12)=\"\",\"\",INDEX(メイン!$A$9:$M$108,$A159,12))","v":""}]
[null,null,{"$f":"IF(INDEX(メイン!$A$9:$M$108,$A159,4)=\"\",\"\",INDEX(メイン!$A$9:$M$108,$A159,4))","v":""},{"$f":"IF(INDEX(メイン!$A$9:$M$108,$A159,6)=\"\",\"\",INDEX(メイン!$A$9:$M$108,$A159,6))","v":""},{"$f":"IF(INDEX(メイン!$A$9:$M$108,$A159,9)=\"\",\"\",INDEX(メイン!$A$9:$M$108,$A159,9))","v":""},{"$f":"IF(INDEX(メイン!$A$9:$M$108,$A159,11)=\"\",\"\",INDEX(メイン!$A$9:$M$108,$A159,11))","v":""},{"$f":"IF(INDEX(メイン!$A$9:$M$108,$A159,13)=\"\",\"\",INDEX(メイン!$A$9:$M$108,$A159,13))","v":""}]
["大会名",null,{"$f":"メイン!$C$1","v":"第25回岩手県中学校新人大会陸上競技"},null,null,null,null,"NO.4"]
["                                               陸上競技大会参加申込一覧表"]
[]
["所属名",null,{"$f":"メイン!$C$2","v":0}]
["所属電話番号",null,{"$f":"メイン!$C$5","v":0},null,"監督電話番号",null,{"$f":"メイン!$C$6","v":0}]
["所属長",{"$f":"メイン!$C$3","v":0},null,"印","監督名",{"$f":"メイン!$C$4","v":0}]
[]
["整理番号","ナンバー　　カード","フリガナ","学年","申込種目",null,null,"データ　　バンク"]
[null,null,"氏名",null,"種目1","種目2","リレー出場　　　　記入欄"]
[67,{"$f":"IF(INDEX(メイン!$A$9:$M$108,$A170,3)=\"\",\"\",INDEX(メイン!$A$9:$M$108,$A170,3))","v":""},{"$f":"IF(INDEX(メイン!$A$9:$M$108,$A170,5)=\"\",\"\",INDEX(メイン!$A$9:$M$108,$A170,5))","v":""},{"$f":"IF(INDEX(メイン!$A$9:$M$108,$A170,7)=\"\",\"\",INDEX(メイン!$A$9:$M$108,$A170,7))","v":""},{"$f":"IF(INDEX(メイン!$A$9:$M$108,$A170,8)=\"\",\"\",INDEX(メイン!$A$9:$M$108,$A170,8))","v":""},{"$f":"IF(INDEX(メイン!$A$9:$M$108,$A170,10)=\"\",\"\",INDEX(メイン!$A$9:$M$108,$A170,10))","v":""},{"$f":"IF(INDEX(メイン!$A$9:$M$108,$A170,12)=\"\",\"\",INDEX(メイン!$A$9:$M$108,$A170,12))","v":""}]
[null,null,{"$f":"IF(INDEX(メイン!$A$9:$M$108,$A170,4)=\"\",\"\",INDEX(メイン!$A$9:$M$108,$A170,4))","v":""},{"$f":"IF(INDEX(メイン!$A$9:$M$108,$A170,6)=\"\",\"\",INDEX(メイン!$A$9:$M$108,$A170,6))","v":""},{"$f":"IF(INDEX(メイン!$A$9:$M$108,$A170,9)=\"\",\"\",INDEX(メイン!$A$9:$M$108,$A170,9))","v":""},{"$f":"IF(INDEX(メイン!$A$9:$M$108,$A170,11)=\"\",\"\",INDEX(メイン!$A$9:$M$108,$A170,11))","v":""},{"$f":"IF(INDEX(メイン!$A$9:$M$108,$A170,13)=\"\",\"\",INDEX(メイン!$A$9:$M$108,$A170,13))","v":""}]
[68,{"$f":"IF(INDEX(メイン!$A$9:$M$108,$A172,3)=\"\",\"\",INDEX(メイン!$A$9:$M$108,$A172,3))","v":""},{"$f":"IF(INDEX(メイン!$A$9:$M$108,$A172,5)=\"\",\"\",INDEX(メイン!$A$9:$M$108,$A172,5))","v":""},{"$f":"IF(INDEX(メイン!$A$9:$M$108,$A172,7)=\"\",\"\",INDEX(メイン!$A$9:$M$108,$A172,7))","v":""},{"$f":"IF(INDEX(メイン!$A$9:$M$108,$A172,8)=\"\",\"\",INDEX(メイン!$A$9:$M$108,$A172,8))","v":""},{"$f":"IF(INDEX(メイン!$A$9:$M$108,$A172,10)=\"\",\"\",INDEX(メイン!$A$9:$M$108,$A172,10))","v":""},{"$f":"IF(INDEX(メイン!$A$9:$M$108,$A172,12)=\"\",\"\",INDEX(メイン!$A$9:$M$108,$A172,12))","v":""}]
[null,null,{"$f":"IF(INDEX(メイン!$A$9:$M$108,$A172,4)=\"\",\"\",INDEX(メイン!$A$9:$M$108,$A172,4))","v":""},{"$f":"IF(INDEX(メイン!$A$9:$M$108,$A172,6)=\"\",\"\",INDEX(メイン!$A$9:$M$108,$A172,6))","v":""},{"$f":"IF(INDEX(メイン!$A$9:$M$108,$A172,9)=\"\",\"\",INDEX(メイン!$A$9:$M$108,$A172,9))","v":""},{"$f":"IF(INDEX(メイン!$A$9:$M$108,$A172,11)=\"\",\"\",INDEX(メイン!$A$9:$M$108,$A172,11))","v":""},{"$f":"IF(INDEX(メイン!$A$9:$M$108,$A172,13)=\"\",\"\",INDEX(メイン!$A$9:$M$108,$A172,13))","v":""}]
[69,{"$f":"IF(INDEX(メイン!$A$9:$M$108,$A174,3)=\"\",\"\",INDEX(メイン!$A$9:$M$108,$A174,3))","v":""},{"$f":"IF(INDEX(メイン!$A$9:$M$108,$A174,5)=\"\",\"\",INDEX(メイン!$A$9:$M$108,$A174,5))","v":""},{"$f":"IF(INDEX(メイン!$A$9:$M$108,$A174,7)=\"\",\"\",INDEX(メイン!$A$9:$M$108,$A174,7))","v":""},{"$f":"IF(INDEX(メイン!$A$9:$M$108,$A174,8)=\"\",\"\",INDEX(メイン!$A$9:$M$108,$A174,8))","v":""},{"$f":"IF(INDEX(メイン!$A$9:$M$108,$A174,10)=\"\",\"\",INDEX(メイン!$A$9:$M$108,$A174,10))","v":""},{"$f":"IF(INDEX(メイン!$A$9:$M$108,$A174,12)=\"\",\"\",INDEX(メイン!$A$9:$M$108,$A174,12))","v":""}]
[null,null,{"$f":"IF(INDEX(メイン!$A$9:$M$108,$A174,4)=\"\",\"\",INDEX(メイン!$A$9:$M$108,$A174,4))","v":""},{"$f":"IF(INDEX(メイン!$A$9:$M$108,$A174,6)=\"\",\"\",INDEX(メイン!$A$9:$M$108,$A174,6))","v":""},{"$f":"IF(INDEX(メイン!$A$9:$M$108,$A174,9)=\"\",\"\",INDEX(メイン!$A$9:$M$108,$A174,9))","v":""},{"$f":"IF(INDEX(メイン!$A$9:$M$108,$A174,11)=\"\",\"\",INDEX(メイン!$A$9:$M$108,$A174,11))","v":""},{"$f":"IF(INDEX(メイン!$A$9:$M$108,$A174,13)=\"\",\"\",INDEX(メイン!$A$9:$M$108,$A174,13))","v":""}]
[70,{"$f":"IF(INDEX(メイン!$A$9:$M$108,$A176,3)=\"\",\"\",INDEX(メイン!$A$9:$M$108,$A176,3))","v":""},{"$f":"IF(INDEX(メイン!$A$9:$M$108,$A176,5)=\"\",\"\",INDEX(メイン!$A$9:$M$108,$A176,5))","v":""},{"$f":"IF(INDEX(メイン!$A$9:$M$108,$A176,7)=\"\",\"\",INDEX(メイン!$A$9:$M$108,$A176,7))","v":""},{"$f":"IF(INDEX(メイン!$A$9:$M$108,$A176,8)=\"\",\"\",INDEX(メイン!$A$9:$M$108,$A176,8))","v":""},{"$f":"IF(INDEX(メイン!$A$9:$M$108,$A176,10)=\"\",\"\",INDEX(メイン!$A$9:$M$108,$A176,10))","v":""},{"$f":"IF(INDEX(メイン!$A$9:$M$108,$A176,12)=\"\",\"\",INDEX(メイン!$A$9:$M$108,$A176,12))","v":""}]
[null,null,{"$f":"IF(INDEX(メイン!$A$9:$M$108,$A176,4)=\"\",\"\",INDEX(メイン!$A$9:$M$108,$A176,4))","v":""},{"$f":"IF(INDEX(メイン!$A$9:$M$108,$A176,6)=\"\",\"\",INDEX(メイン!$A$9:$M$108,$A176,6))","v":""},{"$f":"IF(INDEX(メイン!$A$9:$M$108,$A176,9)=\"\",\"\",INDEX(メイン!$A$9:$M$108,$A176,9))","v":""},{"$f":"IF(INDEX(メイン!$A$9:$M$108,$A176,11)=\"\",\"\",INDEX(メイン!$A$9:$M$108,$A176,11))","v":""},{"$f":"IF(INDEX(メイン!$A$9:$M$108,$A176,13)=\"\",\"\",INDEX(メイン!$A$9:$M$108,$A176,13))","v":""}]
[71,{"$f":"IF(INDEX(メイン!$A$9:$M$108,$A178,3)=\"\",\"\",INDEX(メイン!$A$9:$M$108,$A178,3))","v":""},{"$f":"IF(INDEX(メイン!$A$9:$M$108,$A178,5)=\"\",\"\",INDEX(メイン!$A$9:$M$108,$A178,5))","v":""},{"$f":"IF(INDEX(メイン!$A$9:$M$108,$A178,7)=\"\",\"\",INDEX(メイン!$A$9:$M$108,$A178,7))","v":""},{"$f":"IF(INDEX(メイン!$A$9:$M$108,$A178,8)=\"\",\"\",INDEX(メイン!$A$9:$M$108,$A178,8))","v":""},{"$f":"IF(INDEX(メイン!$A$9:$M$108,$A178,10)=\"\",\"\",INDEX(メイン!$A$9:$M$108,$A178,10))","v":""},{"$f":"IF(INDEX(メイン!$A$9:$M$108,$A178,12)=\"\",\"\",INDEX(メイン!$A$9:$M$108,$A178,12))","v":""}]
[null,null,{"$f":"IF(INDEX(メイン!$A$9:$M$108,$A178,4)=\"\",\"\",INDEX(メイン!$A$9:$M$108,$A178,4))","v":""},{"$f":"IF(INDEX(メイン!$A$9:$M$108,$A178,6)=\"\",\"\",INDEX(メイン!$A$9:$M$108,$A178,6))","v":""},{"$f":"IF(INDEX(メイン!$A$9:$M$108,$A178,9)=\"\",\"\",INDEX(メイン!$A$9:$M$108,$A178,9))","v":""},{"$f":"IF(INDEX(メイン!$A$9:$M$108,$A178,11)=\"\",\"\",INDEX(メイン!$A$9:$M$108,$A178,11))","v":""},{"$f":"IF(INDEX(メイン!$A$9:$M$108,$A178,13)=\"\",\"\",INDEX(メイン!$A$9:$M$108,$A178,13))","v":""}]
[72,{"$f":"IF(INDEX(メイン!$A$9:$M$108,$A180,3)=\"\",\"\",INDEX(メイン!$A$9:$M$108,$A180,3))","v":""},{"$f":"IF(INDEX(メイン!$A$9:$M$108,$A180,5)=\"\",\"\",INDEX(メイン!$A$9:$M$108,$A180,5))","v":""},{"$f":"IF(INDEX(メイン!$A$9:$M$108,$A180,7)=\"\",\"\",INDEX(メイン!$A$9:$M$108,$A180,7))","v":""},{"$f":"IF(INDEX(メイン!$A$9:$M$108,$A180,8)=\"\",\"\",INDEX(メイン!$A$9:$M$108,$A180,8))","v":""},{"$f":"IF(INDEX(メイン!$A$9:$M$108,$A180,10)=\"\",\"\",INDEX(メイン!$A$9:$M$108,$A180,10))","v":""},{"$f":"IF(INDEX(メイン!$A$9:$M$108,$A180,12)=\"\",\"\",INDEX(メイン!$A$9:$M$108,$A180,12))","v":""}]
[null,null,{"$f":"IF(INDEX(メイン!$A$9:$M$108,$A180,4)=\"\",\"\",INDEX(メイン!$A$9:$M$108,$A180,4))","v":""},{"$f":"IF(INDEX(メイン!$A$9:$M$108,$A180,6)=\"\",\"\",INDEX(メイン!$A$9:$M$108,$A180,6))","v":""},{"$f":"IF(INDEX(メイン!$A$9:$M$108,$A180,9)=\"\",\"\",INDEX(メイン!$A$9:$M$108,$A180,9))","v":""},{"$f":"IF(INDEX(メイン!$A$9:$M$108,$A180,11)=\"\",\"\",INDEX(メイン!$A$9:$M$108,$A180,11))","v":""},{"$f":"IF(INDEX(メイン!$A$9:$M$108,$A180,13)=\"\",\"\",INDEX(メイン!$A$9:$M$108,$A180,13))","v":""}]
[73,{"$f":"IF(INDEX(メイン!$A$9:$M$108,$A182,3)=\"\",\"\",INDEX(メイン!$A$9:$M$108,$A182,3))","v":""},{"$f":"IF(INDEX(メイン!$A$9:$M$108,$A182,5)=\"\",\"\",INDEX(メイン!$A$9:$M$108,$A182,5))","v":""},{"$f":"IF(INDEX(メイン!$A$9:$M$108,$A182,7)=\"\",\"\",INDEX(メイン!$A$9:$M$108,$A182,7))","v":""},{"$f":"IF(INDEX(メイン!$A$9:$M$108,$A182,8)=\"\",\"\",INDEX(メイン!$A$9:$M$108,$A182,8))","v":""},{"$f":"IF(INDEX(メイン!$A$9:$M$108,$A182,10)=\"\",\"\",INDEX(メイン!$A$9:$M$108,$A182,10))","v":""},{"$f":"IF(INDEX(メイン!$A$9:$M$108,$A182,12)=\"\",\"\",INDEX(メイン!$A$9:$M$108,$A182,12))","v":""}]
[null,null,{"$f":"IF(INDEX(メイン!$A$9:$M$108,$A182,4)=\"\",\"\",INDEX(メイン!$A$9:$M$108,$A182,4))","v":""},{"$f":"IF(INDEX(メイン!$A$9:$M$108,$A182,6)=\"\",\"\",INDEX(メイン!$A$9:$M$108,$A182,6))","v":""},{"$f":"IF(INDEX(メイン!$A$9:$M$108,$A182,9)=\"\",\"\",INDEX(メイン!$A$9:$M$108,$A182,9))","v":""},{"$f":"IF(INDEX(メイン!$A$9:$M$108,$A182,11)=\"\",\"\",INDEX(メイン!$A$9:$M$108,$A182,11))","v":""},{"$f":"IF(INDEX(メイン!$A$9:$M$108,$A182,13)=\"\",\"\",INDEX(メイン!$A$9:$M$108,$A182,13))","v":""}]
[74,{"$f":"IF(INDEX(メイン!$A$9:$M$108,$A184,3)=\"\",\"\",INDEX(メイン!$A$9:$M$108,$A184,3))","v":""},{"$f":"IF(INDEX(メイン!$A$9:$M$108,$A184,5)=\"\",\"\",INDEX(メイン!$A$9:$M$108,$A184,5))","v":""},{"$f":"IF(INDEX(メイン!$A$9:$M$108,$A184,7)=\"\",\"\",INDEX(メイン!$A$9:$M$108,$A184,7))","v":""},{"$f":"IF(INDEX(メイン!$A$9:$M$108,$A184,8)=\"\",\"\",INDEX(メイン!$A$9:$M$108,$A184,8))","v":""},{"$f":"IF(INDEX(メイン!$A$9:$M$108,$A184,10)=\"\",\"\",INDEX(メイン!$A$9:$M$108,$A184,10))","v":""},{"$f":"IF(INDEX(メイン!$A$9:$M$108,$A184,12)=\"\",\"\",INDEX(メイン!$A$9:$M$108,$A184,12))","v":""}]
[null,null,{"$f":"IF(INDEX(メイン!$A$9:$M$108,$A184,4)=\"\",\"\",INDEX(メイン!$A$9:$M$108,$A184,4))","v":""},{"$f":"IF(INDEX(メイン!$A$9:$M$108,$A184,6)=\"\",\"\",INDEX(メイン!$A$9:$M$108,$A184,6))","v":""},{"$f":"IF(INDEX(メイン!$A$9:$M$108,$A184,9)=\"\",\"\",INDEX(メイン!$A$9:$M$108,$A184,9))","v":""},{"$f":"IF(INDEX(メイン!$A$9:$M$108,$A184,11)=\"\",\"\",INDEX(メイン!$A$9:$M$108,$A184,11))","v":""},{"$f":"IF(INDEX(メイン!$A$9:$M$108,$A184,13)=\"\",\"\",INDEX(メイン!$A$9:$M$108,$A184,13))","v":""}]
[75,{"$f":"IF(INDEX(メイン!$A$9:$M$108,$A186,3)=\"\",\"\",INDEX(メイン!$A$9:$M$108,$A186,3))","v":""},{"$f":"IF(INDEX(メイン!$A$9:$M$108,$A186,5)=\"\",\"\",INDEX(メイン!$A$9:$M$108,$A186,5))","v":""},{"$f":"IF(INDEX(メイン!$A$9:$M$108,$A186,7)=\"\",\"\",INDEX(メイン!$A$9:$M$108,$A186,7))","v":""},{"$f":"IF(INDEX(メイン!$A$9:$M$108,$A186,8)=\"\",\"\",INDEX(メイン!$A$9:$M$108,$A186,8))","v":""},{"$f":"IF(INDEX(メイン!$A$9:$M$108,$A186,10)=\"\",\"\",INDEX(メイン!$A$9:$M$108,$A186,10))","v":""},{"$f":"IF(INDEX(メイン!$A$9:$M$108,$A186,12)=\"\",\"\",INDEX(メイン!$A$9:$M$108,$A186,12))","v":""}]
[null,null,{"$f":"IF(INDEX(メイン!$A$9:$M$108,$A186,4)=\"\",\"\",INDEX(メイン!$A$9:$M$108,$A186,4))","v":""},{"$f":"IF(INDEX(メイン!$A$9:$M$108,$A186,6)=\"\",\"\",INDEX(メイン!$A$9:$M$108,$A186,6))","v":""},{"$f":"IF(INDEX(メイン!$A$9:$M$108,$A186,9)=\"\",\"\",INDEX(メイン!$A$9:$M$108,$A186,9))","v":""},{"$f":"IF(INDEX(メイン!$A$9:$M$108,$A186,11)=\"\",\"\",INDEX(メイン!$A$9:$M$108,$A186,11))","v":""},{"$f":"IF(INDEX(メイン!$A$9:$M$108,$A186,13)=\"\",\"\",INDEX(メイン!$A$9:$M$108,$A186,13))","v":""}]
[76,{"$f":"IF(INDEX(メイン!$A$9:$M$108,$A188,3)=\"\",\"\",INDEX(メイン!$A$9:$M$108,$A188,3))","v":""},{"$f":"IF(INDEX(メイン!$A$9:$M$108,$A188,5)=\"\",\"\",INDEX(メイン!$A$9:$M$108,$A188,5))","v":""},{"$f":"IF(INDEX(メイン!$A$9:$M$108,$A188,7)=\"\",\"\",INDEX(メイン!$A$9:$M$108,$A188,7))","v":""},{"$f":"IF(INDEX(メイン!$A$9:$M$108,$A188,8)=\"\",\"\",INDEX(メイン!$A$9:$M$108,$A188,8))","v":""},{"$f":"IF(INDEX(メイン!$A$9:$M$108,$A188,10)=\"\",\"\",INDEX(メイン!$A$9:$M$108,$A188,10))","v":""},{"$f":"IF(INDEX(メイン!$A$9:$M$108,$A188,12)=\"\",\"\",INDEX(メイン!$A$9:$M$108,$A188,12))","v":""}]
[null,null,{"$f":"IF(INDEX(メイン!$A$9:$M$108,$A188,4)=\"\",\"\",INDEX(メイン!$A$9:$M$108,$A188,4))","v":""},{"$f":"IF(INDEX(メイン!$A$9:$M$108,$A188,6)=\"\",\"\",INDEX(メイン!$A$9:$M$108,$A188,6))","v":""},{"$f":"IF(INDEX(メイン!$A$9:$M$108,$A188,9)=\"\",\"\",INDEX(メイン!$A$9:$M$108,$A188,9))","v":""},{"$f":"IF(INDEX(メイン!$A$9:$M$108,$A188,11)=\"\",\"\",INDEX(メイン!$A$9:$M$108,$A188,11))","v":""},{"$f":"IF(INDEX(メイン!$A$9:$M$108,$A188,13)=\"\",\"\",INDEX(メイン!$A$9:$M$108,$A188,13))","v":""}]
[77,{"$f":"IF(INDEX(メイン!$A$9:$M$108,$A190,3)=\"\",\"\",INDEX(メイン!$A$9:$M$108,$A190,3))","v":""},{"$f":"IF(INDEX(メイン!$A$9:$M$108,$A190,5)=\"\",\"\",INDEX(メイン!$A$9:$M$108,$A190,5))","v":""},{"$f":"IF(INDEX(メイン!$A$9:$M$108,$A190,7)=\"\",\"\",INDEX(メイン!$A$9:$M$108,$A190,7))","v":""},{"$f":"IF(INDEX(メイン!$A$9:$M$108,$A190,8)=\"\",\"\",INDEX(メイン!$A$9:$M$108,$A190,8))","v":""},{"$f":"IF(INDEX(メイン!$A$9:$M$108,$A190,10)=\"\",\"\",INDEX(メイン!$A$9:$M$108,$A190,10))","v":""},{"$f":"IF(INDEX(メイン!$A$9:$M$108,$A190,12)=\"\",\"\",INDEX(メイン!$A$9:$M$108,$A190,12))","v":""}]
[null,null,{"$f":"IF(INDEX(メイン!$A$9:$M$108,$A190,4)=\"\",\"\",INDEX(メイン!$A$9:$M$108,$A190,4))","v":""},{"$f":"IF(INDEX(メイン!$A$9:$M$108,$A190,6)=\"\",\"\",INDEX(メイン!$A$9:$M$108,$A190,6))","v":""},{"$f":"IF(INDEX(メイン!$A$9:$M$108,$A190,9)=\"\",\"\",INDEX(メイン!$A$9:$M$108,$A190,9))","v":""},{"$f":"IF(INDEX(メイン!$A$9:$M$108,$A190,11)=\"\",\"\",INDEX(メイン!$A$9:$M$108,$A190,11))","v":""},{"$f":"IF(INDEX(メイン!$A$9:$M$108,$A190,13)=\"\",\"\",INDEX(メイン!$A$9:$M$108,$A190,13))","v":""}]
[78,{"$f":"IF(INDEX(メイン!$A$9:$M$108,$A192,3)=\"\",\"\",INDEX(メイン!$A$9:$M$108,$A192,3))","v":""},{"$f":"IF(INDEX(メイン!$A$9:$M$108,$A192,5)=\"\",\"\",INDEX(メイン!$A$9:$M$108,$A192,5))","v":""},{"$f":"IF(INDEX(メイン!$A$9:$M$108,$A192,7)=\"\",\"\",INDEX(メイン!$A$9:$M$108,$A192,7))","v":""},{"$f":"IF(INDEX(メイン!$A$9:$M$108,$A192,8)=\"\",\"\",INDEX(メイン!$A$9:$M$108,$A192,8))","v":""},{"$f":"IF(INDEX(メイン!$A$9:$M$108,$A192,10)=\"\",\"\",INDEX(メイン!$A$9:$M$108,$A192,10))","v":""},{"$f":"IF(INDEX(メイン!$A$9:$M$108,$A192,12)=\"\",\"\",INDEX(メイン!$A$9:$M$108,$A192,12))","v":""}]
[null,null,{"$f":"IF(INDEX(メイン!$A$9:$M$108,$A192,4)=\"\",\"\",INDEX(メイン!$A$9:$M$108,$A192,4))","v":""},{"$f":"IF(INDEX(メイン!$A$9:$M$108,$A192,6)=\"\",\"\",INDEX(メイン!$A$9:$M$108,$A192,6))","v":""},{"$f":"IF(INDEX(メイン!$A$9:$M$108,$A192,9)=\"\",\"\",INDEX(メイン!$A$9:$M$108,$A192,9))","v":""},{"$f":"IF(INDEX(メイン!$A$9:$M$108,$A192,11)=\"\",\"\",INDEX(メイン!$A$9:$M$108,$A192,11))","v":""},{"$f":"IF(INDEX(メイン!$A$9:$M$108,$A192,13)=\"\",\"\",INDEX(メイン!$A$9:$M$108,$A192,13))","v":""}]
[79,{"$f":"IF(INDEX(メイン!$A$9:$M$108,$A194,3)=\"\",\"\",INDEX(メイン!$A$9:$M$108,$A194,3))","v":""},{"$f":"IF(INDEX(メイン!$A$9:$M$108,$A194,5)=\"\",\"\",INDEX(メイン!$A$9:$M$108,$A194,5))","v":""},{"$f":"IF(INDEX(メイン!$A$9:$M$108,$A194,7)=\"\",\"\",INDEX(メイン!$A$9:$M$108,$A194,7))","v":""},{"$f":"IF(INDEX(メイン!$A$9:$M$108,$A194,8)=\"\",\"\",INDEX(メイン!$A$9:$M$108,$A194,8))","v":""},{"$f":"IF(INDEX(メイン!$A$9:$M$108,$A194,10)=\"\",\"\",INDEX(メイン!$A$9:$M$108,$A194,10))","v":""},{"$f":"IF(INDEX(メイン!$A$9:$M$108,$A194,12)=\"\",\"\",INDEX(メイン!$A$9:$M$108,$A194,12))","v":""}]
[null,null,{"$f":"IF(INDEX(メイン!$A$9:$M$108,$A194,4)=\"\",\"\",INDEX(メイン!$A$9:$M$108,$A194,4))","v":""},{"$f":"IF(INDEX(メイン!$A$9:$M$108,$A194,6)=\"\",\"\",INDEX(メイン!$A$9:$M$108,$A194,6))","v":""},{"$f":"IF(INDEX(メイン!$A$9:$M$108,$A194,9)=\"\",\"\",INDEX(メイン!$A$9:$M$108,$A194,9))","v":""},{"$f":"IF(INDEX(メイン!$A$9:$M$108,$A194,11)=\"\",\"\",INDEX(メイン!$A$9:$M$108,$A194,11))","v":""},{"$f":"IF(INDEX(メイン!$A$9:$M$108,$A194,13)=\"\",\"\",INDEX(メイン!$A$9:$M$108,$A194,13))","v":""}]
[80,{"$f":"IF(INDEX(メイン!$A$9:$M$108,$A196,3)=\"\",\"\",INDEX(メイン!$A$9:$M$108,$A196,3))","v":""},{"$f":"IF(INDEX(メイン!$A$9:$M$108,$A196,5)=\"\",\"\",INDEX(メイン!$A$9:$M$108,$A196,5))","v":""},{"$f":"IF(INDEX(メイン!$A$9:$M$108,$A196,7)=\"\",\"\",INDEX(メイン!$A$9:$M$108,$A196,7))","v":""},{"$f":"IF(INDEX(メイン!$A$9:$M$108,$A196,8)=\"\",\"\",INDEX(メイン!$A$9:$M$108,$A196,8))","v":""},{"$f":"IF(INDEX(メイン!$A$9:$M$108,$A196,10)=\"\",\"\",INDEX(メイン!$A$9:$M$108,$A196,10))","v":""},{"$f":"IF(INDEX(メイン!$A$9:$M$108,$A196,12)=\"\",\"\",INDEX(メイン!$A$9:$M$108,$A196,12))","v":""}]
[null,null,{"$f":"IF(INDEX(メイン!$A$9:$M$108,$A196,4)=\"\",\"\",INDEX(メイン!$A$9:$M$108,$A196,4))","v":""},{"$f":"IF(INDEX(メイン!$A$9:$M$108,$A196,6)=\"\",\"\",INDEX(メイン!$A$9:$M$108,$A196,6))","v":""},{"$f":"IF(INDEX(メイン!$A$9:$M$108,$A196,9)=\"\",\"\",INDEX(メイン!$A$9:$M$108,$A196,9))","v":""},{"$f":"IF(INDEX(メイン!$A$9:$M$108,$A196,11)=\"\",\"\",INDEX(メイン!$A$9:$M$108,$A196,11))","v":""},{"$f":"IF(INDEX(メイン!$A$9:$M$108,$A196,13)=\"\",\"\",INDEX(メイン!$A$9:$M$108,$A196,13))","v":""}]
[81,{"$f":"IF(INDEX(メイン!$A$9:$M$108,$A198,3)=\"\",\"\",INDEX(メイン!$A$9:$M$108,$A198,3))","v":""},{"$f":"IF(INDEX(メイン!$A$9:$M$108,$A198,5)=\"\",\"\",INDEX(メイン!$A$9:$M$108,$A198,5))","v":""},{"$f":"IF(INDEX(メイン!$A$9:$M$108,$A198,7)=\"\",\"\",INDEX(メイン!$A$9:$M$108,$A198,7))","v":""},{"$f":"IF(INDEX(メイン!$A$9:$M$108,$A198,8)=\"\",\"\",INDEX(メイン!$A$9:$M$108,$A198,8))","v":""},{"$f":"IF(INDEX(メイン!$A$9:$M$108,$A198,10)=\"\",\"\",INDEX(メイン!$A$9:$M$108,$A198,10))","v":""},{"$f":"IF(INDEX(メイン!$A$9:$M$108,$A198,12)=\"\",\"\",INDEX(メイン!$A$9:$M$108,$A198,12))","v":""}]
[null,null,{"$f":"IF(INDEX(メイン!$A$9:$M$108,$A198,4)=\"\",\"\",INDEX(メイン!$A$9:$M$108,$A198,4))","v":""},{"$f":"IF(INDEX(メイン!$A$9:$M$108,$A198,6)=\"\",\"\",INDEX(メイン!$A$9:$M$108,$A198,6))","v":""},{"$f":"IF(INDEX(メイン!$A$9:$M$108,$A198,9)=\"\",\"\",INDEX(メイン!$A$9:$M$108,$A198,9))","v":""},{"$f":"IF(INDEX(メイン!$A$9:$M$108,$A198,11)=\"\",\"\",INDEX(メイン!$A$9:$M$108,$A198,11))","v":""},{"$f":"IF(INDEX(メイン!$A$9:$M$108,$A198,13)=\"\",\"\",INDEX(メイン!$A$9:$M$108,$A198,13))","v":""}]
[82,{"$f":"IF(INDEX(メイン!$A$9:$M$108,$A200,3)=\"\",\"\",INDEX(メイン!$A$9:$M$108,$A200,3))","v":""},{"$f":"IF(INDEX(メイン!$A$9:$M$108,$A200,5)=\"\",\"\",INDEX(メイン!$A$9:$M$108,$A200,5))","v":""},{"$f":"IF(INDEX(メイン!$A$9:$M$108,$A200,7)=\"\",\"\",INDEX(メイン!$A$9:$M$108,$A200,7))","v":""},{"$f":"IF(INDEX(メイン!$A$9:$M$108,$A200,8)=\"\",\"\",INDEX(メイン!$A$9:$M$108,$A200,8))","v":""},{"$f":"IF(INDEX(メイン!$A$9:$M$108,$A200,10)=\"\",\"\",INDEX(メイン!$A$9:$M$108,$A200,10))","v":""},{"$f":"IF(INDEX(メイン!$A$9:$M$108,$A200,12)=\"\",\"\",INDEX(メイン!$A$9:$M$108,$A200,12))","v":""}]
[null,null,{"$f":"IF(INDEX(メイン!$A$9:$M$108,$A200,4)=\"\",\"\",INDEX(メイン!$A$9:$M$108,$A200,4))","v":""},{"$f":"IF(INDEX(メイン!$A$9:$M$108,$A200,6)=\"\",\"\",INDEX(メイン!$A$9:$M$108,$A200,6))","v":""},{"$f":"IF(INDEX(メイン!$A$9:$M$108,$A200,9)=\"\",\"\",INDEX(メイン!$A$9:$M$108,$A200,9))","v":""},{"$f":"IF(INDEX(メイン!$A$9:$M$108,$A200,11)=\"\",\"\",INDEX(メイン!$A$9:$M$108,$A200,11))","v":""},{"$f":"IF(INDEX(メイン!$A$9:$M$108,$A200,13)=\"\",\"\",INDEX(メイン!$A$9:$M$108,$A200,13))","v":""}]
[83,{"$f":"IF(INDEX(メイン!$A$9:$M$108,$A202,3)=\"\",\"\",INDEX(メイン!$A$9:$M$108,$A202,3))","v":""},{"$f":"IF(INDEX(メイン!$A$9:$M$108,$A202,5)=\"\",\"\",INDEX(メイン!$A$9:$M$108,$A202,5))","v":""},{"$f":"IF(INDEX(メイン!$A$9:$M$108,$A202,7)=\"\",\"\",INDEX(メイン!$A$9:$M$108,$A202,7))","v":""},{"$f":"IF(INDEX(メイン!$A$9:$M$108,$A202,8)=\"\",\"\",INDEX(メイン!$A$9:$M$108,$A202,8))","v":""},{"$f":"IF(INDEX(メイン!$A$9:$M$108,$A202,10)=\"\",\"\",INDEX(メイン!$A$9:$M$108,$A202,10))","v":""},{"$f":"IF(INDEX(メイン!$A$9:$M$108,$A202,12)=\"\",\"\",INDEX(メイン!$A$9:$M$108,$A202,12))","v":""}]
[null,null,{"$f":"IF(INDEX(メイン!$A$9:$M$108,$A202,4)=\"\",\"\",INDEX(メイン!$A$9:$M$108,$A202,4))","v":""},{"$f":"IF(INDEX(メイン!$A$9:$M$108,$A202,6)=\"\",\"\",INDEX(メイン!$A$9:$M$108,$A202,6))","v":""},{"$f":"IF(INDEX(メイン!$A$9:$M$108,$A202,9)=\"\",\"\",INDEX(メイン!$A$9:$M$108,$A202,9))","v":""},{"$f":"IF(INDEX(メイン!$A$9:$M$108,$A202,11)=\"\",\"\",INDEX(メイン!$A$9:$M$108,$A202,11))","v":""},{"$f":"IF(INDEX(メイン!$A$9:$M$108,$A202,13)=\"\",\"\",INDEX(メイン!$A$9:$M$108,$A202,13))","v":""}]
[84,{"$f":"IF(INDEX(メイン!$A$9:$M$108,$A204,3)=\"\",\"\",INDEX(メイン!$A$9:$M$108,$A204,3))","v":""},{"$f":"IF(INDEX(メイン!$A$9:$M$108,$A204,5)=\"\",\"\",INDEX(メイン!$A$9:$M$108,$A204,5))","v":""},{"$f":"IF(INDEX(メイン!$A$9:$M$108,$A204,7)=\"\",\"\",INDEX(メイン!$A$9:$M$108,$A204,7))","v":""},{"$f":"IF(INDEX(メイン!$A$9:$M$108,$A204,8)=\"\",\"\",INDEX(メイン!$A$9:$M$108,$A204,8))","v":""},{"$f":"IF(INDEX(メイン!$A$9:$M$108,$A204,10)=\"\",\"\",INDEX(メイン!$A$9:$M$108,$A204,10))","v":""},{"$f":"IF(INDEX(メイン!$A$9:$M$108,$A204,12)=\"\",\"\",INDEX(メイン!$A$9:$M$108,$A204,12))","v":""}]
[null,null,{"$f":"IF(INDEX(メイン!$A$9:$M$108,$A204,4)=\"\",\"\",INDEX(メイン!$A$9:$M$108,$A204,4))","v":""},{"$f":"IF(INDEX(メイン!$A$9:$M$108,$A204,6)=\"\",\"\",INDEX(メイン!$A$9:$M$108,$A204,6))","v":""},{"$f":"IF(INDEX(メイン!$A$9:$M$108,$A204,9)=\"\",\"\",INDEX(メイン!$A$9:$M$108,$A204,9))","v":""},{"$f":"IF(INDEX(メイン!$A$9:$M$108,$A204,11)=\"\",\"\",INDEX(メイン!$A$9:$M$108,$A204,11))","v":""},{"$f":"IF(INDEX(メイン!$A$9:$M$108,$A204,13)=\"\",\"\",INDEX(メイン!$A$9:$M$108,$A204,13))","v":""}]
[85,{"$f":"IF(INDEX(メイン!$A$9:$M$108,$A206,3)=\"\",\"\",INDEX(メイン!$A$9:$M$108,$A206,3))","v":""},{"$f":"IF(INDEX(メイン!$A$9:$M$108,$A206,5)=\"\",\"\",INDEX(メイン!$A$9:$M$108,$A206,5))","v":""},{"$f":"IF(INDEX(メイン!$A$9:$M$108,$A206,7)=\"\",\"\",INDEX(メイン!$A$9:$M$108,$A206,7))","v":""},{"$f":"IF(INDEX(メイン!$A$9:$M$108,$A206,8)=\"\",\"\",INDEX(メイン!$A$9:$M$108,$A206,8))","v":""},{"$f":"IF(INDEX(メイン!$A$9:$M$108,$A206,10)=\"\",\"\",INDEX(メイン!$A$9:$M$108,$A206,10))","v":""},{"$f":"IF(INDEX(メイン!$A$9:$M$108,$A206,12)=\"\",\"\",INDEX(メイン!$A$9:$M$108,$A206,12))","v":""}]
[null,null,{"$f":"IF(INDEX(メイン!$A$9:$M$108,$A206,4)=\"\",\"\",INDEX(メイン!$A$9:$M$108,$A206,4))","v":""},{"$f":"IF(INDEX(メイン!$A$9:$M$108,$A206,6)=\"\",\"\",INDEX(メイン!$A$9:$M$108,$A206,6))","v":""},{"$f":"IF(INDEX(メイン!$A$9:$M$108,$A206,9)=\"\",\"\",INDEX(メイン!$A$9:$M$108,$A206,9))","v":""},{"$f":"IF(INDEX(メイン!$A$9:$M$108,$A206,11)=\"\",\"\",INDEX(メイン!$A$9:$M$108,$A206,11))","v":""},{"$f":"IF(INDEX(メイン!$A$9:$M$108,$A206,13)=\"\",\"\",INDEX(メイン!$A$9:$M$108,$A206,13))","v":""}]
[86,{"$f":"IF(INDEX(メイン!$A$9:$M$108,$A208,3)=\"\",\"\",INDEX(メイン!$A$9:$M$108,$A208,3))","v":""},{"$f":"IF(INDEX(メイン!$A$9:$M$108,$A208,5)=\"\",\"\",INDEX(メイン!$A$9:$M$108,$A208,5))","v":""},{"$f":"IF(INDEX(メイン!$A$9:$M$108,$A208,7)=\"\",\"\",INDEX(メイン!$A$9:$M$108,$A208,7))","v":""},{"$f":"IF(INDEX(メイン!$A$9:$M$108,$A208,8)=\"\",\"\",INDEX(メイン!$A$9:$M$108,$A208,8))","v":""},{"$f":"IF(INDEX(メイン!$A$9:$M$108,$A208,10)=\"\",\"\",INDEX(メイン!$A$9:$M$108,$A208,10))","v":""},{"$f":"IF(INDEX(メイン!$A$9:$M$108,$A208,12)=\"\",\"\",INDEX(メイン!$A$9:$M$108,$A208,12))","v":""}]
[null,null,{"$f":"IF(INDEX(メイン!$A$9:$M$108,$A208,4)=\"\",\"\",INDEX(メイン!$A$9:$M$108,$A208,4))","v":""},{"$f":"IF(INDEX(メイン!$A$9:$M$108,$A208,6)=\"\",\"\",INDEX(メイン!$A$9:$M$108,$A208,6))","v":""},{"$f":"IF(INDEX(メイン!$A$9:$M$108,$A208,9)=\"\",\"\",INDEX(メイン!$A$9:$M$108,$A208,9))","v":""},{"$f":"IF(INDEX(メイン!$A$9:$M$108,$A208,11)=\"\",\"\",INDEX(メイン!$A$9:$M$108,$A208,11))","v":""},{"$f":"IF(INDEX(メイン!$A$9:$M$108,$A208,13)=\"\",\"\",INDEX(メイン!$A$9:$M$108,$A208,13))","v":""}]
[87,{"$f":"IF(INDEX(メイン!$A$9:$M$108,$A210,3)=\"\",\"\",INDEX(メイン!$A$9:$M$108,$A210,3))","v":""},{"$f":"IF(INDEX(メイン!$A$9:$M$108,$A210,5)=\"\",\"\",INDEX(メイン!$A$9:$M$108,$A210,5))","v":""},{"$f":"IF(INDEX(メイン!$A$9:$M$108,$A210,7)=\"\",\"\",INDEX(メイン!$A$9:$M$108,$A210,7))","v":""},{"$f":"IF(INDEX(メイン!$A$9:$M$108,$A210,8)=\"\",\"\",INDEX(メイン!$A$9:$M$108,$A210,8))","v":""},{"$f":"IF(INDEX(メイン!$A$9:$M$108,$A210,10)=\"\",\"\",INDEX(メイン!$A$9:$M$108,$A210,10))","v":""},{"$f":"IF(INDEX(メイン!$A$9:$M$108,$A210,12)=\"\",\"\",INDEX(メイン!$A$9:$M$108,$A210,12))","v":""}]
[null,null,{"$f":"IF(INDEX(メイン!$A$9:$M$108,$A210,4)=\"\",\"\",INDEX(メイン!$A$9:$M$108,$A210,4))","v":""},{"$f":"IF(INDEX(メイン!$A$9:$M$108,$A210,6)=\"\",\"\",INDEX(メイン!$A$9:$M$108,$A210,6))","v":""},{"$f":"IF(INDEX(メイン!$A$9:$M$108,$A210,9)=\"\",\"\",INDEX(メイン!$A$9:$M$108,$A210,9))","v":""},{"$f":"IF(INDEX(メイン!$A$9:$M$108,$A210,11)=\"\",\"\",INDEX(メイン!$A$9:$M$108,$A210,11))","v":""},{"$f":"IF(INDEX(メイン!$A$9:$M$108,$A210,13)=\"\",\"\",INDEX(メイン!$A$9:$M$108,$A210,13))","v":""}]
[88,{"$f":"IF(INDEX(メイン!$A$9:$M$108,$A212,3)=\"\",\"\",INDEX(メイン!$A$9:$M$108,$A212,3))","v":""},{"$f":"IF(INDEX(メイン!$A$9:$M$108,$A212,5)=\"\",\"\",INDEX(メイン!$A$9:$M$108,$A212,5))","v":""},{"$f":"IF(INDEX(メイン!$A$9:$M$108,$A212,7)=\"\",\"\",INDEX(メイン!$A$9:$M$108,$A212,7))","v":""},{"$f":"IF(INDEX(メイン!$A$9:$M$108,$A212,8)=\"\",\"\",INDEX(メイン!$A$9:$M$108,$A212,8))","v":""},{"$f":"IF(INDEX(メイン!$A$9:$M$108,$A212,10)=\"\",\"\",INDEX(メイン!$A$9:$M$108,$A212,10))","v":""},{"$f":"IF(INDEX(メイン!$A$9:$M$108,$A212,12)=\"\",\"\",INDEX(メイン!$A$9:$M$108,$A212,12))","v":""}]
[null,null,{"$f":"IF(INDEX(メイン!$A$9:$M$108,$A212,4)=\"\",\"\",INDEX(メイン!$A$9:$M$108,$A212,4))","v":""},{"$f":"IF(INDEX(メイン!$A$9:$M$108,$A212,6)=\"\",\"\",INDEX(メイン!$A$9:$M$108,$A212,6))","v":""},{"$f":"IF(INDEX(メイン!$A$9:$M$108,$A212,9)=\"\",\"\",INDEX(メイン!$A$9:$M$108,$A212,9))","v":""},{"$f":"IF(INDEX(メイン!$A$9:$M$108,$A212,11)=\"\",\"\",INDEX(メイン!$A$9:$M$108,$A212,11))","v":""},{"$f":"IF(INDEX(メイン!$A$9:$M$108,$A212,13)=\"\",\"\",INDEX(メイン!$A$9:$M$108,$A212,13))","v":""}]

{"sheet":"個票","index":3,"n_rows":100,"n_cols":9,"rows_kept":100,"cut":false,"hidden":true,"merged":[[22,0,24,0],[0,9,5,9],[6,9,8,9],[9,9,10,9],[12,9,16,9],[18,0,18,3],[19,0,19,3],[20,1,21,1],[20,2,20,3],[21,2,22,2],[21,3,22,3],[22,1,24,1],[23,2,24,2],[23,3,24,3],[7,0,8,0],[7,1,7,2],[25,0,26,0],[25,1,25,2],[25,3,26,3],[26,1,26,2],[27,0,29,0],[27,1,27,2],[27,3,29,3],[28,1,28,2],[29,1,29,2],[7,3,8,3],[8,1,8,2],[9,0,11,0],[9,1,9,2],[9,3,11,3],[10,1,10,2],[11,1,11,2],[0,0,0,3],[1,0,1,3],[2,1,3,1],[2,2,2,3],[3,2,4,2],[3,3,4,3],[4,1,6,1],[5,2,6,2],[5,3,6,3],[4,0,6,0]]}
["申　込　個　表",null,null,null,null,null,null,null,1]
[{"$f":"メイン!$C$1","v":"第25回岩手県中学校新人大会陸上競技"},null,null,null,null,null,null,null,2]
["（部　　別）","性別","記　　　　　録",null,null,null,null,null,3]
["種　　　目",null,"過去の最高記録","",null,null,null,null,4]
[{"$f":"IF(INDEX(個票データ２!$A$2:$L$142,個票!$I$1,12)=\"\",\"\",INDEX(個票データ２!$A$2:$L$142,個票!$I$1,12))","v":""},{"$f":"IF(INDEX(個票データ２!$A$2:$L$142,個票!$I$1,8)=\"\",\"\",INDEX(個票データ２!$A$2:$L$142,個票!$I$1,8))","v":""},null,null,null,null,null,null,5]
[{"$f":"IF(INDEX(所属名!$A$2:$C$177,メイン!$K$2,3)=\"\",\"\",INDEX(所属名!$A$2:$C$177,メイン!$K$2,3))","v":"下橋"},{"$f":"IF(INDEX(所属名!$A$2:$C$177,メイン!$K$2,3)=\"\",\"\",INDEX(所属名!$A$2:$C$177,メイン!$K$2,3))","v":"下橋"},"今年度最高記録",{"$f":"IF(INDEX(個票データ２!$A$2:$L$142,個票!$I$1,11)=\"\",\"\",INDEX(個票データ２!$A$2:$L$142,個票!$I$1,11))","v":""},null,null,null,null,6]
[{"$f":"IF(INDEX(所属名!$A$2:$C$177,メイン!$K$2,3)=\"\",\"\",INDEX(所属名!$A$2:$C$177,メイン!$K$2,3))","v":"下橋"},{"$f":"IF(INDEX(所属名!$A$2:$C$177,メイン!$K$2,3)=\"\",\"\",INDEX(所属名!$A$2:$C$177,メイン!$K$2,3))","v":"下橋"},null,null,null,null,null,null,7]
["登録番号","フリガナ",null,"所属・学校名",null,null,null,null,8]
[null,"氏　　名　　　　　　　　　　　　生年月日 (年齢または学年)",null,null,null,null,null,null,9]
[{"$f":"IF(INDEX(個票データ２!$A$2:$L$142,個票!$I$1,4)=\"\",\"\",INDEX(個票データ２!$A$2:$L$142,個票!$I$1,4))","v":""},{"$f":"IF(INDEX(個票データ２!$A$2:$L$142,個票!$I$1,6)=\"\",\"\",INDEX(個票データ２!$A$2:$L$142,個票!$I$1,6))","v":""},null,{"$f":"IF(INDEX(個票データ２!$A$2:$L$142,個票!$I$1,3)=\"\",\"\",INDEX(個票データ２!$A$2:$L$142,個票!$I$1,3))","v":""},null,null,null,null,10]
[{"$f":"IF(INDEX(所属名!$A$2:$C$177,メイン!$K$2,3)=\"\",\"\",INDEX(所属名!$A$2:$C$177,メイン!$K$2,3))","v":"下橋"},{"$f":"IF(INDEX(個票データ２!$A$2:$L$142,個票!$I$1,5)=\"\",\"\",INDEX(個票データ２!$A$2:$L$142,個票!$I$1,5))","v":""},null,{"$f":"IF(INDEX(所属名!$A$2:$C$177,メイン!$K$2,3)=\"\",\"\",INDEX(所属名!$A$2:$C$177,メイン!$K$2,3))","v":"下橋"},null,null,null,null,11]
[{"$f":"IF(INDEX(所属名!$A$2:$C$177,メイン!$K$2,3)=\"\",\"\",INDEX(所属名!$A$2:$C$177,メイン!$K$2,3))","v":"下橋"},{"$f":"IF(INDEX(個票データ２!$A$2:$L$142,個票!$I$1,9)=\"\",\"\",INDEX(個票データ２!$A$2:$L$142,個票!$I$1,9))","v":""},null,{"$f":"IF(INDEX(所属名!$A$2:$C$177,メイン!$K$2,3)=\"\",\"\",INDEX(所属名!$A$2:$C$177,メイン!$K$2,3))","v":"下橋"},null,null,null,null,12]
[null,null,null,null,null,null,null,null,13]
["・作業の効率を図るために、必ずA４ 1/2版サイズで提出してください。",null,null,null,null,null,null,null,14]
[null,null,null,null,null,null,null,null,15]
[null,null,null,null,null,null,null,null,16]
[null,null,null,null,null,null,null,null,17]
[null,null,null,null,null,null,null,null,18]
["申　込　個　表",null,null,null,null,null,null,null,19]
[{"$f":"メイン!$C$1","v":"第25回岩手県中学校新人大会陸上競技"},null,null,null,null,null,null,null,20]
["（部　　別）","性別","記　　　　　録",null,null,null,null,null,21]
["種　　　目",null,"過去の最高記録","",null,null,null,null,22]
[{"$f":"IF(INDEX(個票データ２!$A$2:$L$142,個票!$I$2,12)=\"\",\"\",INDEX(個票データ２!$A$2:$L$142,個票!$I$2,12))","v":""},{"$f":"IF(INDEX(個票データ２!$A$2:$L$142,個票!$I$2,8)=\"\",\"\",INDEX(個票データ２!$A$2:$L$142,個票!$I$2,8))","v":""},null,null,null,null,null,null,23]
[{"$f":"IF(INDEX(所属名!$A$2:$C$177,メイン!$K$2,3)=\"\",\"\",INDEX(所属名!$A$2:$C$177,メイン!$K$2,3))","v":"下橋"},{"$f":"IF(INDEX(所属名!$A$2:$C$177,メイン!$K$2,3)=\"\",\"\",INDEX(所属名!$A$2:$C$177,メイン!$K$2,3))","v":"下橋"},"今年度最高記録",{"$f":"IF(INDEX(個票データ２!$A$2:$L$142,個票!$I$2,11)=\"\",\"\",INDEX(個票データ２!$A$2:$L$142,個票!$I$2,11))","v":""},null,null,null,null,24]
[{"$f":"IF(INDEX(所属名!$A$2:$C$177,メイン!$K$2,3)=\"\",\"\",INDEX(所属名!$A$2:$C$177,メイン!$K$2,3))","v":"下橋"},{"$f":"IF(INDEX(所属名!$A$2:$C$177,メイン!$K$2,3)=\"\",\"\",INDEX(所属名!$A$2:$C$177,メイン!$K$2,3))","v":"下橋"},null,null,null,null,null,null,25]
["登録番号","フリガナ",null,"所属・学校名",null,null,null,null,26]
[null,"氏　　名　　　　　　　　　　　　生年月日 (年齢または学年)",null,null,null,null,null,null,27]
[{"$f":"IF(INDEX(個票データ２!$A$2:$L$142,個票!$I$2,4)=\"\",\"\",INDEX(個票データ２!$A$2:$L$142,個票!$I$2,4))","v":""},{"$f":"IF(INDEX(個票データ２!$A$2:$L$142,個票!$I$2,6)=\"\",\"\",INDEX(個票データ２!$A$2:$L$142,個票!$I$2,6))","v":""},null,{"$f":"IF(INDEX(個票データ２!$A$2:$L$142,個票!$I$2,3)=\"\",\"\",INDEX(個票データ２!$A$2:$L$142,個票!$I$2,3))","v":""},null,null,null,null,28]
[{"$f":"IF(INDEX(所属名!$A$2:$C$177,メイン!$K$2,3)=\"\",\"\",INDEX(所属名!$A$2:$C$177,メイン!$K$2,3))","v":"下橋"},{"$f":"IF(INDEX(個票データ２!$A$2:$L$142,個票!$I$2,5)=\"\",\"\",INDEX(個票データ２!$A$2:$L$142,個票!$I$2,5))","v":""},null,{"$f":"IF(INDEX(所属名!$A$2:$C$177,メイン!$K$2,3)=\"\",\"\",INDEX(所属名!$A$2:$C$177,メイン!$K$2,3))","v":"下橋"},null,null,null,null,29]
[{"$f":"IF(INDEX(所属名!$A$2:$C$177,メイン!$K$2,3)=\"\",\"\",INDEX(所属名!$A$2:$C$177,メイン!$K$2,3))","v":"下橋"},{"$f":"IF(INDEX(個票データ２!$A$2:$L$142,個票!$I$2,9)=\"\",\"\",INDEX(個票データ２!$A$2:$L$142,個票!$I$2,9))","v":""},null,{"$f":"IF(INDEX(所属名!$A$2:$C$177,メイン!$K$2,3)=\"\",\"\",INDEX(所属名!$A$2:$C$177,メイン!$K$2,3))","v":"下橋"},null,null,null,null,30]
[null,null,null,null,null,null,null,null,31]
["・作業の効率を図るために、必ずA４ 1/2版サイズで提出してください。",null,null,null,null,null,null,null,32]
[null,null,null,null,null,null,null,null,33]
[null,null,null,null,null,null,null,null,34]
[null,null,null,null,null,null,null,null,35]
[null,null,null,null,null,null,null,null,36]
[null,null,null,null,null,null,null,null,37]
[null,null,null,null,null,null,null,null,38]
[null,null,null,null,null,null,null,null,39]
[null,null,null,null,null,null,null,null,40]
[null,null,null,null,null,null,null,null,41]
[null,null,null,null,null,null,null,null,42]
[null,null,null,null,null,null,null,null,43]
[null,null,null,null,null,null,null,null,44]
[null,null,null,null,null,null,null,null,45]
[null,null,null,null,null,null,null,null,46]
[null,null,null,null,null,null,null,null,47]
[null,null,null,null,null,null,null,null,48]
[null,null,null,null,null,null,null,null,49]
[null,null,null,null,null,null,null,null,50]
[null,null,null,null,null,null,null,null,51]
[null,null,null,null,null,null,null,null,52]
[null,null,null,null,null,null,null,null,53]
[null,null,null,null,null,null,null,null,54]
[null,null,null,null,null,null,null,null,55]
[null,null,null,null,null,null,null,null,56]
[null,null,null,null,null,null,null,null,57]
[null,null,null,null,null,null,null,null,58]
[null,null,null,null,null,null,null,null,59]
[null,null,null,null,null,null,null,null,60]
[null,null,null,null,null,null,null,null,61]
[null,null,null,null,null,null,null,null,62]
[null,null,null,null,null,null,null,null,63]
[null,null,null,null,null,null,null,null,64]
[null,null,null,null,null,null,null,null,65]
[null,null,null,null,null,null,null,null,66]
[null,null,null,null,null,null,null,null,67]
[null,null,null,null,null,null,null,null,68]
[null,null,null,null,null,null,null,null,69]
[null,null,null,null,null,null,null,null,70]
[null,null,null,null,null,null,null,null,71]
[null,null,null,null,null,null,null,null,72]
[null,null,null,null,null,null,null,null,73]
[null,null,null,null,null,null,null,null,74]
[null,null,null,null,null,null,null,null,75]
[null,null,null,null,null,null,null,null,76]
[null,null,null,null,null,null,null,null,77]
[null,null,null,null,null,null,null,null,78]
[null,null,null,null,null,null,null,null,79]
[null,null,null,null,null,null,null,null,80]
[null,null,null,null,null,null,null,null,81]
[null,null,null,null,null,null,null,null,82]
[null,null,null,null,null,null,null,null,83]
[null,null,null,null,null,null,null,null,84]
[null,null,null,null,null,null,null,null,85]
[null,null,null,null,null,null,null,null,86]
[null,null,null,null,null,null,null,null,87]
[null,null,null,null,null,null,null,null,88]
[null,null,null,null,null,null,null,null,89]
[null,null,null,null,null,null,null,null,90]
[null,null,null,null,null,null,null,null,91]
[null,null,null,null,null,null,null,null,92]
[null,null,null,null,null,null,null,null,93]
[null,null,null,null,null,null,null,null,94]
[null,null,null,null,null,null,null,null,95]
[null,null,null,null,null,null,null,null,96]
[null,null,null,null,null,null,null,null,97]
[null,null,null,null,null,null,null,null,98]
[null,null,null,null,null,null,null,null,99]
[null,null,null,null,null,null,null,null,100]

{"sheet":"リレー個票","index":4,"n_rows":116,"n_cols":14,"rows_kept":116,"cut":false,"hidden":true,"merged":[[29,0,29,1],[29,4,29,6],[29,7,29,8],[2,0,2,5],[3,0,3,5],[27,0,27,1],[27,4,27,6],[27,7,27,8],[28,0,28,1],[28,4,28,6],[28,7,28,8],[24,0,24,1],[24,2,29,3],[24,4,24,6],[24,7,24,8],[25,0,25,1],[25,4,25,6],[25,7,25,8],[26,0,26,1],[26,4,26,6],[26,7,26,8],[22,6,22,7],[22,8,22,9],[23,0,23,1],[23,2,23,3],[23,4,23,6],[23,7,23,8],[22,0,22,5],[21,6,21,7],[21,8,21,9],[8,0,8,1],[8,4,8,6],[8,7,8,8],[9,0,9,1],[9,4,9,6],[9,7,9,8],[10,0,10,1],[10,4,10,6],[10,7,10,8],[19,0,19,9],[20,0,20,9],[6,4,6,6],[6,7,6,8],[7,0,7,1],[7,4,7,6],[7,7,7,8],[0,0,0,9],[1,0,1,9],[2,6,2,7],[2,8,2,9],[21,0,21,5],[3,6,3,7],[3,8,3,9],[4,0,4,1],[4,2,4,3],[4,4,4,6],[4,7,4,8],[5,0,5,1],[5,2,10,3],[5,4,5,6],[5,7,5,8],[6,0,6,1]]}
["申　込　個　票　(リレー）",null,null,null,null,null,null,null,null,null,null,null,null,1]
[{"$f":"メイン!$C$1","v":"第25回岩手県中学校新人大会陸上競技"},null,null,null,null,null,null,null,null,null,null,null,null,2]
["部別　種目",null,null,null,null,null,"過去の最高記録",null,"",null,null,null,null,3]
[{"$f":"IF(INDEX(リレー個データ２!$A$3:$L$130,リレー個票!$N$1,5)=\"\",\"\",INDEX(リレー個データ２!$A$3:$L$130,リレー個票!$N$1,5))","v":""},null,null,null,null,null,"今年度最高記録",null,{"$f":"IF(INDEX(リレー個データ２!$A$3:$L$130,リレー個票!$N$1,6)=\"\",\"\",INDEX(リレー個データ２!$A$3:$L$130,リレー個票!$N$1,6))","v":""},null,null,null,null,4]
["ナンバー",null,"チーム名",null,"氏　　　名",null,null,"（チーム名）",null,"年齢,学年",null,null,null,5]
[{"$f":"IF(INDEX(リレー個データ２!$A$3:$L$130,リレー個票!$N$1,3)=\"\",\"\",INDEX(リレー個データ２!$A$3:$L$130,リレー個票!$N$1,3))","v":""},null,{"$f":"IF(INDEX(リレー個データ２!$A$3:$L$130,リレー個票!$N$1,2)=\"\",\"\",INDEX(リレー個データ２!$A$3:$L$130,リレー個票!$N$1,2))","v":""},null,{"$f":"IF(INDEX(リレー個データ２!$A$3:$L$130,リレー個票!$N$1,4)=\"\",\"\",INDEX(リレー個データ２!$A$3:$L$130,リレー個票!$N$1,4))","v":""},null,null,{"$f":"IF(INDEX(リレー個データ２!$A$3:$L$130,リレー個票!$N$1,2)=\"\",\"\",INDEX(リレー個データ２!$A$3:$L$130,リレー個票!$N$1,2))","v":""},null,{"$f":"IF(INDEX(リレー個データ２!$A$3:$L$130,リレー個票!$N$1,7)=\"\",\"\",INDEX(リレー個データ２!$A$3:$L$130,リレー個票!$N$1,7))","v":""},null,null,null,6]
[{"$f":"IF(INDEX(リレー個データ２!$A$3:$L$130,リレー個票!$N$2,3)=\"\",\"\",INDEX(リレー個データ２!$A$3:$L$130,リレー個票!$N$2,3))","v":""},null,null,null,{"$f":"IF(INDEX(リレー個データ２!$A$3:$L$130,リレー個票!$N$2,4)=\"\",\"\",INDEX(リレー個データ２!$A$3:$L$130,リレー個票!$N$2,4))","v":""},null,null,{"$f":"IF(INDEX(リレー個データ２!$A$3:$L$130,リレー個票!$N$2,2)=\"\",\"\",INDEX(リレー個データ２!$A$3:$L$130,リレー個票!$N$2,2))","v":""},null,{"$f":"IF(INDEX(リレー個データ２!$A$3:$L$130,リレー個票!$N$2,7)=\"\",\"\",INDEX(リレー個データ２!$A$3:$L$130,リレー個票!$N$2,7))","v":""},null,null,null,7]
[{"$f":"IF(INDEX(リレー個データ２!$A$3:$L$130,リレー個票!$N$3,3)=\"\",\"\",INDEX(リレー個データ２!$A$3:$L$130,リレー個票!$N$3,3))","v":""},null,null,null,{"$f":"IF(INDEX(リレー個データ２!$A$3:$L$130,リレー個票!$N$3,4)=\"\",\"\",INDEX(リレー個データ２!$A$3:$L$130,リレー個票!$N$3,4))","v":""},null,null,{"$f":"IF(INDEX(リレー個データ２!$A$3:$L$130,リレー個票!$N$3,2)=\"\",\"\",INDEX(リレー個データ２!$A$3:$L$130,リレー個票!$N$3,2))","v":""},null,{"$f":"IF(INDEX(リレー個データ２!$A$3:$L$130,リレー個票!$N$3,7)=\"\",\"\",INDEX(リレー個データ２!$A$3:$L$130,リレー個票!$N$3,7))","v":""},null,null,null,8]
[{"$f":"IF(INDEX(リレー個データ２!$A$3:$L$130,リレー個票!$N$4,3)=\"\",\"\",INDEX(リレー個データ２!$A$3:$L$130,リレー個票!$N$4,3))","v":""},null,null,null,{"$f":"IF(INDEX(リレー個データ２!$A$3:$L$130,リレー個票!$N$4,4)=\"\",\"\",INDEX(リレー個データ２!$A$3:$L$130,リレー個票!$N$4,4))","v":""},null,null,{"$f":"IF(INDEX(リレー個データ２!$A$3:$L$130,リレー個票!$N$4,2)=\"\",\"\",INDEX(リレー個データ２!$A$3:$L$130,リレー個票!$N$4,2))","v":""},null,{"$f":"IF(INDEX(リレー個データ２!$A$3:$L$130,リレー個票!$N$4,7)=\"\",\"\",INDEX(リレー個データ２!$A$3:$L$130,リレー個票!$N$4,7))","v":""},null,null,null,9]
[{"$f":"IF(INDEX(リレー個データ２!$A$3:$L$130,リレー個票!$N$5,3)=\"\",\"\",INDEX(リレー個データ２!$A$3:$L$130,リレー個票!$N$5,3))","v":""},null,null,null,{"$f":"IF(INDEX(リレー個データ２!$A$3:$L$130,リレー個票!$N$5,4)=\"\",\"\",INDEX(リレー個データ２!$A$3:$L$130,リレー個票!$N$5,4))","v":""},null,null,{"$f":"IF(INDEX(リレー個データ２!$A$3:$L$130,リレー個票!$N$5,2)=\"\",\"\",INDEX(リレー個データ２!$A$3:$L$130,リレー個票!$N$5,2))","v":""},null,{"$f":"IF(INDEX(リレー個データ２!$A$3:$L$130,リレー個票!$N$4,7)=\"\",\"\",INDEX(リレー個データ２!$A$3:$L$130,リレー個票!$N$4,7))","v":""},null,null,null,10]
[{"$f":"IF(INDEX(リレー個データ２!$A$3:$L$130,リレー個票!$N$6,3)=\"\",\"\",INDEX(リレー個データ２!$A$3:$L$130,リレー個票!$N$6,3))","v":""},null,null,null,{"$f":"IF(INDEX(リレー個データ２!$A$3:$L$130,リレー個票!$N$6,4)=\"\",\"\",INDEX(リレー個データ２!$A$3:$L$130,リレー個票!$N$6,4))","v":""},null,null,{"$f":"IF(INDEX(リレー個データ２!$A$3:$L$130,リレー個票!$N$6,2)=\"\",\"\",INDEX(リレー個データ２!$A$3:$L$130,リレー個票!$N$6,2))","v":""},null,{"$f":"IF(INDEX(リレー個データ２!$A$3:$L$130,リレー個票!$N$6,7)=\"\",\"\",INDEX(リレー個データ２!$A$3:$L$130,リレー個票!$N$6,7))","v":""},null,null,null,11]
[null,null,null,null,null,null,null,null,null,null,null,null,null,12]
["・作業の効率を図るために、必ずA４ 1/2版サイズで提出してください。",null,null,null,null,null,null,null,null,null,null,null,null,13]
[null,null,null,null,null,null,null,null,null,null,null,null,null,14]
[null,null,null,null,null,null,null,null,null,null,null,null,null,15]
[null,null,null,null,null,null,null,null,null,null,null,null,null,16]
[null,null,null,null,null,null,null,null,null,null,null,null,null,17]
[null,null,null,null,null,null,null,null,null,null,null,null,null,18]
[null,null,null,null,null,null,null,null,null,null,null,null,null,19]
["申　込　個　票　(リレー）",null,null,null,null,null,null,null,null,null,null,null,null,20]
[{"$f":"メイン!$C$1","v":"第25回岩手県中学校新人大会陸上競技"},null,null,null,null,null,null,null,null,null,null,null,null,21]
["部別　種目",null,null,null,null,null,"過去の最高記録",null,"",null,null,null,null,22]
[{"$f":"IF(INDEX(リレー個データ２!$A$3:$L$130,リレー個票!$N$7,5)=\"\",\"\",INDEX(リレー個データ２!$A$3:$L$130,リレー個票!$N$7,5))","v":""},null,null,null,null,null,"今年度最高記録",null,{"$f":"IF(INDEX(リレー個データ２!$A$3:$L$130,リレー個票!$N$7,6)=\"\",\"\",INDEX(リレー個データ２!$A$3:$L$130,リレー個票!$N$7,6))","v":""},null,null,null,null,23]
["ナンバー",null,"チーム名",null,"氏　　　名",null,null,"（チーム名）",null,"年齢,学年",null,null,null,24]
[{"$f":"IF(INDEX(リレー個データ２!$A$3:$L$130,リレー個票!$N$7,3)=\"\",\"\",INDEX(リレー個データ２!$A$3:$L$130,リレー個票!$N$7,3))","v":""},null,{"$f":"IF(INDEX(リレー個データ２!$A$3:$L$130,リレー個票!$N$7,2)=\"\",\"\",INDEX(リレー個データ２!$A$3:$L$130,リレー個票!$N$7,2))","v":""},null,{"$f":"IF(INDEX(リレー個データ２!$A$3:$L$130,リレー個票!$N$7,4)=\"\",\"\",INDEX(リレー個データ２!$A$3:$L$130,リレー個票!$N$7,4))","v":""},null,null,{"$f":"IF(INDEX(リレー個データ２!$A$3:$L$130,リレー個票!$N$7,2)=\"\",\"\",INDEX(リレー個データ２!$A$3:$L$130,リレー個票!$N$7,2))","v":""},null,{"$f":"IF(INDEX(リレー個データ２!$A$3:$L$130,リレー個票!$N$7,7)=\"\",\"\",INDEX(リレー個データ２!$A$3:$L$130,リレー個票!$N$7,7))","v":""},null,null,null,25]
[{"$f":"IF(INDEX(リレー個データ２!$A$3:$L$130,リレー個票!$N$8,3)=\"\",\"\",INDEX(リレー個データ２!$A$3:$L$130,リレー個票!$N$8,3))","v":""},null,null,null,{"$f":"IF(INDEX(リレー個データ２!$A$3:$L$130,リレー個票!$N$8,4)=\"\",\"\",INDEX(リレー個データ２!$A$3:$L$130,リレー個票!$N$8,4))","v":""},null,null,{"$f":"IF(INDEX(リレー個データ２!$A$3:$L$130,リレー個票!$N$8,2)=\"\",\"\",INDEX(リレー個データ２!$A$3:$L$130,リレー個票!$N$8,2))","v":""},null,{"$f":"IF(INDEX(リレー個データ２!$A$3:$L$130,リレー個票!$N$8,7)=\"\",\"\",INDEX(リレー個データ２!$A$3:$L$130,リレー個票!$N$8,7))","v":""},null,null,null,26]
[{"$f":"IF(INDEX(リレー個データ２!$A$3:$L$130,リレー個票!$N$9,3)=\"\",\"\",INDEX(リレー個データ２!$A$3:$L$130,リレー個票!$N$9,3))","v":""},null,null,null,{"$f":"IF(INDEX(リレー個データ２!$A$3:$L$130,リレー個票!$N$9,4)=\"\",\"\",INDEX(リレー個データ２!$A$3:$L$130,リレー個票!$N$9,4))","v":""},null,null,{"$f":"IF(INDEX(リレー個データ２!$A$3:$L$130,リレー個票!$N$9,2)=\"\",\"\",INDEX(リレー個データ２!$A$3:$L$130,リレー個票!$N$9,2))","v":""},null,{"$f":"IF(INDEX(リレー個データ２!$A$3:$L$130,リレー個票!$N$9,7)=\"\",\"\",INDEX(リレー個データ２!$A$3:$L$130,リレー個票!$N$9,7))","v":""},null,null,null,27]
[{"$f":"IF(INDEX(リレー個データ２!$A$3:$L$130,リレー個票!$N$10,3)=\"\",\"\",INDEX(リレー個データ２!$A$3:$L$130,リレー個票!$N$10,3))","v":""},null,null,null,{"$f":"IF(INDEX(リレー個データ２!$A$3:$L$130,リレー個票!$N$10,4)=\"\",\"\",INDEX(リレー個データ２!$A$3:$L$130,リレー個票!$N$10,4))","v":""},null,null,{"$f":"IF(INDEX(リレー個データ２!$A$3:$L$130,リレー個票!$N$10,2)=\"\",\"\",INDEX(リレー個データ２!$A$3:$L$130,リレー個票!$N$10,2))","v":""},null,{"$f":"IF(INDEX(リレー個データ２!$A$3:$L$130,リレー個票!$N$10,7)=\"\",\"\",INDEX(リレー個データ２!$A$3:$L$130,リレー個票!$N$10,7))","v":""},null,null,null,28]
[{"$f":"IF(INDEX(リレー個データ２!$A$3:$L$130,リレー個票!$N$11,3)=\"\",\"\",INDEX(リレー個データ２!$A$3:$L$130,リレー個票!$N$11,3))","v":""},null,null,null,{"$f":"IF(INDEX(リレー個データ２!$A$3:$L$130,リレー個票!$N$11,4)=\"\",\"\",INDEX(リレー個データ２!$A$3:$L$130,リレー個票!$N$11,4))","v":""},null,null,{"$f":"IF(INDEX(リレー個データ２!$A$3:$L$130,リレー個票!$N$11,2)=\"\",\"\",INDEX(リレー個データ２!$A$3:$L$130,リレー個票!$N$11,2))","v":""},null,{"$f":"IF(INDEX(リレー個データ２!$A$3:$L$130,リレー個票!$N$11,7)=\"\",\"\",INDEX(リレー個データ２!$A$3:$L$130,リレー個票!$N$11,7))","v":""},null,null,null,29]
[{"$f":"IF(INDEX(リレー個データ２!$A$3:$L$130,リレー個票!$N$12,3)=\"\",\"\",INDEX(リレー個データ２!$A$3:$L$130,リレー個票!$N$12,3))","v":""},null,null,null,{"$f":"IF(INDEX(リレー個データ２!$A$3:$L$130,リレー個票!$N$12,4)=\"\",\"\",INDEX(リレー個データ２!$A$3:$L$130,リレー個票!$N$12,4))","v":""},null,null,{"$f":"IF(INDEX(リレー個データ２!$A$3:$L$130,リレー個票!$N$12,2)=\"\",\"\",INDEX(リレー個データ２!$A$3:$L$130,リレー個票!$N$12,2))","v":""},null,{"$f":"IF(INDEX(リレー個データ２!$A$3:$L$130,リレー個票!$N$12,7)=\"\",\"\",INDEX(リレー個データ２!$A$3:$L$130,リレー個票!$N$12,7))","v":""},null,null,null,30]
[null,null,null,null,null,null,null,null,null,null,null,null,null,31]
["・作業の効率を図るために、必ずA４ 1/2版サイズで提出してください。",null,null,null,null,null,null,null,null,null,null,null,null,32]
[null,null,null,null,null,null,null,null,null,null,null,null,null,33]
[null,null,null,null,null,null,null,null,null,null,null,null,null,34]
[null,null,null,null,null,null,null,null,null,null,null,null,null,35]
[null,null,null,null,null,null,null,null,null,null,null,null,null,36]
[null,null,null,null,null,null,null,null,null,null,null,null,null,37]
[null,null,null,null,null,null,null,null,null,null,null,null,null,38]
[null,null,null,null,null,null,null,null,null,null,null,null,null,39]
[null,null,null,null,null,null,null,null,null,null,null,null,null,40]
[null,null,null,null,null,null,null,null,null,null,null,null,null,41]
[null,null,null,null,null,null,null,null,null,null,null,null,null,42]
[null,null,null,null,null,null,null,null,null,null,null,null,null,43]
[null,null,null,null,null,null,null,null,null,null,null,null,null,44]
[null,null,null,null,null,null,null,null,null,null,null,null,null,45]
[null,null,null,null,null,null,null,null,null,null,null,null,null,46]
[null,null,null,null,null,null,null,null,null,null,null,null,null,47]
[null,null,null,null,null,null,null,null,null,null,null,null,null,48]
[null,null,null,null,null,null,null,null,null,null,null,null,null,49]
[null,null,null,null,null,null,null,null,null,null,null,null,null,50]
[null,null,null,null,null,null,null,null,null,null,null,null,null,51]
[null,null,null,null,null,null,null,null,null,null,null,null,null,52]
[null,null,null,null,null,null,null,null,null,null,null,null,null,53]
[null,null,null,null,null,null,null,null,null,null,null,null,null,54]
[null,null,null,null,null,null,null,null,null,null,null,null,null,55]
[null,null,null,null,null,null,null,null,null,null,null,null,null,56]
[null,null,null,null,null,null,null,null,null,null,null,null,null,57]
[null,null,null,null,null,null,null,null,null,null,null,null,null,58]
[null,null,null,null,null,null,null,null,null,null,null,null,null,59]
[null,null,null,null,null,null,null,null,null,null,null,null,null,60]
[null,null,null,null,null,null,null,null,null,null,null,null,null,61]
[null,null,null,null,null,null,null,null,null,null,null,null,null,62]
[null,null,null,null,null,null,null,null,null,null,null,null,null,63]
[null,null,null,null,null,null,null,null,null,null,null,null,null,64]
[null,null,null,null,null,null,null,null,null,null,null,null,null,65]
[null,null,null,null,null,null,null,null,null,null,null,null,null,66]
[null,null,null,null,null,null,null,null,null,null,null,null,null,67]
[null,null,null,null,null,null,null,null,null,null,null,null,null,68]
[null,null,null,null,null,null,null,null,null,null,null,null,null,69]
[null,null,null,null,null,null,null,null,null,null,null,null,null,70]
[null,null,null,null,null,null,null,null,null,null,null,null,null,71]
[null,null,null,null,null,null,null,null,null,null,null,null,null,72]
[null,null,null,null,null,null,null,null,null,null,null,null,null,73]
[null,null,null,null,null,null,null,null,null,null,null,null,null,74]
[null,null,null,null,null,null,null,null,null,null,null,null,null,75]
[null,null,null,null,null,null,null,null,null,null,null,null,null,76]
[null,null,null,null,null,null,null,null,null,null,null,null,null,77]
[null,null,null,null,null,null,null,null,null,null,null,null,null,78]
[null,null,null,null,null,null,null,null,null,null,null,null,null,79]
[null,null,null,null,null,null,null,null,null,null,null,null,null,80]
[null,null,null,null,null,null,null,null,null,null,null,null,null,81]
[null,null,null,null,null,null,null,null,null,null,null,null,null,82]
[null,null,null,null,null,null,null,null,null,null,null,null,null,83]
[null,null,null,null,null,null,null,null,null,null,null,null,null,84]
[null,null,null,null,null,null,null,null,null,null,null,null,null,85]
[null,null,null,null,null,null,null,null,null,null,null,null,null,86]
[null,null,null,null,null,null,null,null,null,null,null,null,null,87]
[null,null,null,null,null,null,null,null,null,null,null,null,null,88]
[null,null,null,null,null,null,null,null,null,null,null,null,null,89]
[null,null,null,null,null,null,null,null,null,null,null,null,null,90]
[null,null,null,null,null,null,null,null,null,null,null,null,null,91]
[null,null,null,null,null,null,null,null,null,null,null,null,null,92]
[null,null,null,null,null,null,null,null,null,null,null,null,null,93]
[null,null,null,null,null,null,null,null,null,null,null,null,null,94]
[null,null,null,null,null,null,null,null,null,null,null,null,null,95]
[null,null,null,null,null,null,null,null,null,null,null,null,null,96]
[null,null,null,null,null,null,null,null,null,null,null,null,null,97]
[null,null,null,null,null,null,null,null,null,null,null,null,null,98]
[null,null,null,null,null,null,null,null,null,null,null,null,null,99]
[null,null,null,null,null,null,null,null,null,null,null,null,null,100]
[null,null,null,null,null,null,null,null,null,null,null,null,null,101]
[null,null,null,null,null,null,null,null,null,null,null,null,null,102]
[null,null,null,null,null,null,null,null,null,null,null,null,null,103]
[null,null,null,null,null,null,null,null,null,null,null,null,null,104]
[null,null,null,null,null,null,null,null,null,null,null,null,null,105]
[null,null,null,null,null,null,null,null,null,null,null,null,null,106]
[null,null,null,null,null,null,null,null,null,null,null,null,null,107]
[null,null,null,null,null,null,null,null,null,null,null,null,null,108]
[null,null,null,null,null,null,null,null,null,null,null,null,null,109]
[null,null,null,null,null,null,null,null,null,null,null,null,null,110]
[null,null,null,null,null,null,null,null,null,null,null,null,null,111]
[null,null,null,null,null,null,null,null,null,null,null,null,null,112]
[null,null,null,null,null,null,null,null,null,null,null,null,null,113]
[null,null,null,null,null,null,null,null,null,null,null,null,null,114]
[null,null,null,null,null,null,null,null,null,null,null,null,null,115]
[null,null,null,null,null,null,null,null,null,null,null,null,null,116]

{"sheet":"個人種目データ（いじらない）","index":5,"n_rows":99,"n_cols":34,"rows_kept":99,"cut":false,"hidden":false,"merged":[]}
["競技者NO","所属コード1","所属コード2","ナンバー","ナンバー2","競技者名","競技者名カナ","競技者名略称","性別","学年","生年","月日","個人所属地名","陸連コード","参加競技-競技コード1","参加競技-自己記録1","参加競技-オープン参加FLG1","参加競技-記録FLG1","参加競技-競技コード2","参加競技-自己記録2","参加競技-オープン参加FLG2","参加競技-記録FLG2","参加競技-競技コード3","参加競技-自己記録3","参加競技-オープン参加FLG3","参加競技-記録FLG3","参加競技-競技コード4","参加競技-自己記録4","参加競技-オープン参加FLG4","参加競技-記録FLG4","参加競技-競技コード5","参加競技-自己記録5","参加競技-オープン参加FLG5","参加競技-記録FLG5"]
[1,{"$f":"VLOOKUP(メイン!B9,所属名!$C$2:$D$178,2,FALSE)","v":1},null,null,{"$f":"IF(INDEX( メイン!$A$9:$M$108, メイン!$A9,3)=\"\",\"\",INDEX( メイン!$A$9:$M$108, メイン!$A9,3))","v":""},{"$f":"IF(INDEX( メイン!$A$9:$M$108, メイン!$A9,4)=\"\",\"\",INDEX( メイン!$A$9:$M$108, メイン!$A9,4))","v":""},{"$f":"IF(INDEX( メイン!$A$9:$M$108, メイン!$A9,5)=\"\",\"\",INDEX( メイン!$A$9:$M$108, メイン!$A9,5))","v":""},null,{"$f":"IF(ISERROR(VLOOKUP( メイン!F9, 所属名!$F$2:$G$3,2,0)),\"\",VLOOKUP( メイン!F9, 所属名!$F$2:$G$3,2,0))","v":""},{"$f":"IF(INDEX( メイン!$A$9:$M$108, メイン!$A9,7)=\"\",\"\",INDEX( メイン!$A$9:$M$108, メイン!$A9,7))","v":""},null,null,null,null,{"$f":"IF(ISERROR(VLOOKUP( メイン!H9,競技名一覧!$B$2:$C$87,2,0)),\"\",VLOOKUP( メイン!H9,競技名一覧!$B$2:$C$87,2,0))","v":""},{"$f":"IF(INDEX( メイン!$A$9:$M$108, メイン!$A9,9)=\"\",\"\",INDEX( メイン!$A$9:$M$108, メイン!$A9,9))","v":""},null,null,{"$f":"IF(ISERROR(VLOOKUP( メイン!J9,競技名一覧!$B$2:$C$87,2,0)),\"\",VLOOKUP( メイン!J9,競技名一覧!$B$2:$C$87,2,0))","v":""},{"$f":"IF(INDEX( メイン!$A$9:$M$108, メイン!$A9,11)=\"\",\"\",INDEX( メイン!$A$9:$M$108, メイン!$A9,11))","v":""},null,null,{"$f":"IF(ISERROR(VLOOKUP( メイン!L9,競技名一覧!$J$2:$K$5,2,0)),\"\",VLOOKUP( メイン!L9,競技名一覧!$J$2:$K$44,2,0))","v":""},{"$f":"IF(INDEX( メイン!$A$9:$M$108, メイン!$A9,13)=\"\",\"\",INDEX( メイン!$A$9:$M$108, メイン!$A9,13))","v":""}]
[2,{"$f":"VLOOKUP(メイン!B10,所属名!$C$2:$D$178,2,FALSE)","v":1},null,null,{"$f":"IF(INDEX( メイン!$A$9:$M$108, メイン!$A10,3)=\"\",\"\",INDEX( メイン!$A$9:$M$108, メイン!$A10,3))","v":""},{"$f":"IF(INDEX( メイン!$A$9:$M$108, メイン!$A10,4)=\"\",\"\",INDEX( メイン!$A$9:$M$108, メイン!$A10,4))","v":""},{"$f":"IF(INDEX( メイン!$A$9:$M$108, メイン!$A10,5)=\"\",\"\",INDEX( メイン!$A$9:$M$108, メイン!$A10,5))","v":""},null,{"$f":"IF(ISERROR(VLOOKUP( メイン!F10, 所属名!$F$2:$G$3,2,0)),\"\",VLOOKUP( メイン!F10, 所属名!$F$2:$G$3,2,0))","v":""},{"$f":"IF(INDEX( メイン!$A$9:$M$108, メイン!$A10,7)=\"\",\"\",INDEX( メイン!$A$9:$M$108, メイン!$A10,7))","v":""},null,null,null,null,{"$f":"IF(ISERROR(VLOOKUP( メイン!H10,競技名一覧!$B$2:$C$87,2,0)),\"\",VLOOKUP( メイン!H10,競技名一覧!$B$2:$C$87,2,0))","v":""},{"$f":"IF(INDEX( メイン!$A$9:$M$108, メイン!$A10,9)=\"\",\"\",INDEX( メイン!$A$9:$M$108, メイン!$A10,9))","v":""},null,null,{"$f":"IF(ISERROR(VLOOKUP( メイン!J10,競技名一覧!$B$2:$C$87,2,0)),\"\",VLOOKUP( メイン!J10,競技名一覧!$B$2:$C$87,2,0))","v":""},{"$f":"IF(INDEX( メイン!$A$9:$M$108, メイン!$A10,11)=\"\",\"\",INDEX( メイン!$A$9:$M$108, メイン!$A10,11))","v":""},null,null,{"$f":"IF(ISERROR(VLOOKUP( メイン!L10,競技名一覧!$J$2:$K$5,2,0)),\"\",VLOOKUP( メイン!L10,競技名一覧!$J$2:$K$44,2,0))","v":""},{"$f":"IF(INDEX( メイン!$A$9:$M$108, メイン!$A10,13)=\"\",\"\",INDEX( メイン!$A$9:$M$108, メイン!$A10,13))","v":""}]
[3,{"$f":"VLOOKUP(メイン!B11,所属名!$C$2:$D$178,2,FALSE)","v":1},null,null,{"$f":"IF(INDEX( メイン!$A$9:$M$108, メイン!$A11,3)=\"\",\"\",INDEX( メイン!$A$9:$M$108, メイン!$A11,3))","v":""},{"$f":"IF(INDEX( メイン!$A$9:$M$108, メイン!$A11,4)=\"\",\"\",INDEX( メイン!$A$9:$M$108, メイン!$A11,4))","v":""},{"$f":"IF(INDEX( メイン!$A$9:$M$108, メイン!$A11,5)=\"\",\"\",INDEX( メイン!$A$9:$M$108, メイン!$A11,5))","v":""},null,{"$f":"IF(ISERROR(VLOOKUP( メイン!F11, 所属名!$F$2:$G$3,2,0)),\"\",VLOOKUP( メイン!F11, 所属名!$F$2:$G$3,2,0))","v":""},{"$f":"IF(INDEX( メイン!$A$9:$M$108, メイン!$A11,7)=\"\",\"\",INDEX( メイン!$A$9:$M$108, メイン!$A11,7))","v":""},null,null,null,null,{"$f":"IF(ISERROR(VLOOKUP( メイン!H11,競技名一覧!$B$2:$C$87,2,0)),\"\",VLOOKUP( メイン!H11,競技名一覧!$B$2:$C$87,2,0))","v":""},{"$f":"IF(INDEX( メイン!$A$9:$M$108, メイン!$A11,9)=\"\",\"\",INDEX( メイン!$A$9:$M$108, メイン!$A11,9))","v":""},null,null,{"$f":"IF(ISERROR(VLOOKUP( メイン!J11,競技名一覧!$B$2:$C$87,2,0)),\"\",VLOOKUP( メイン!J11,競技名一覧!$B$2:$C$87,2,0))","v":""},{"$f":"IF(INDEX( メイン!$A$9:$M$108, メイン!$A11,11)=\"\",\"\",INDEX( メイン!$A$9:$M$108, メイン!$A11,11))","v":""},null,null,{"$f":"IF(ISERROR(VLOOKUP( メイン!L11,競技名一覧!$J$2:$K$5,2,0)),\"\",VLOOKUP( メイン!L11,競技名一覧!$J$2:$K$44,2,0))","v":""},{"$f":"IF(INDEX( メイン!$A$9:$M$108, メイン!$A11,13)=\"\",\"\",INDEX( メイン!$A$9:$M$108, メイン!$A11,13))","v":""}]
[4,{"$f":"VLOOKUP(メイン!B12,所属名!$C$2:$D$178,2,FALSE)","v":1},null,null,{"$f":"IF(INDEX( メイン!$A$9:$M$108, メイン!$A12,3)=\"\",\"\",INDEX( メイン!$A$9:$M$108, メイン!$A12,3))","v":""},{"$f":"IF(INDEX( メイン!$A$9:$M$108, メイン!$A12,4)=\"\",\"\",INDEX( メイン!$A$9:$M$108, メイン!$A12,4))","v":""},{"$f":"IF(INDEX( メイン!$A$9:$M$108, メイン!$A12,5)=\"\",\"\",INDEX( メイン!$A$9:$M$108, メイン!$A12,5))","v":""},null,{"$f":"IF(ISERROR(VLOOKUP( メイン!F12, 所属名!$F$2:$G$3,2,0)),\"\",VLOOKUP( メイン!F12, 所属名!$F$2:$G$3,2,0))","v":""},{"$f":"IF(INDEX( メイン!$A$9:$M$108, メイン!$A12,7)=\"\",\"\",INDEX( メイン!$A$9:$M$108, メイン!$A12,7))","v":""},null,null,null,null,{"$f":"IF(ISERROR(VLOOKUP( メイン!H12,競技名一覧!$B$2:$C$87,2,0)),\"\",VLOOKUP( メイン!H12,競技名一覧!$B$2:$C$87,2,0))","v":""},{"$f":"IF(INDEX( メイン!$A$9:$M$108, メイン!$A12,9)=\"\",\"\",INDEX( メイン!$A$9:$M$108, メイン!$A12,9))","v":""},null,null,{"$f":"IF(ISERROR(VLOOKUP( メイン!J12,競技名一覧!$B$2:$C$87,2,0)),\"\",VLOOKUP( メイン!J12,競技名一覧!$B$2:$C$87,2,0))","v":""},{"$f":"IF(INDEX( メイン!$A$9:$M$108, メイン!$A12,11)=\"\",\"\",INDEX( メイン!$A$9:$M$108, メイン!$A12,11))","v":""},null,null,{"$f":"IF(ISERROR(VLOOKUP( メイン!L12,競技名一覧!$J$2:$K$5,2,0)),\"\",VLOOKUP( メイン!L12,競技名一覧!$J$2:$K$44,2,0))","v":""},{"$f":"IF(INDEX( メイン!$A$9:$M$108, メイン!$A12,13)=\"\",\"\",INDEX( メイン!$A$9:$M$108, メイン!$A12,13))","v":""}]
[5,{"$f":"VLOOKUP(メイン!B13,所属名!$C$2:$D$178,2,FALSE)","v":1},null,null,{"$f":"IF(INDEX( メイン!$A$9:$M$108, メイン!$A13,3)=\"\",\"\",INDEX( メイン!$A$9:$M$108, メイン!$A13,3))","v":""},{"$f":"IF(INDEX( メイン!$A$9:$M$108, メイン!$A13,4)=\"\",\"\",INDEX( メイン!$A$9:$M$108, メイン!$A13,4))","v":""},{"$f":"IF(INDEX( メイン!$A$9:$M$108, メイン!$A13,5)=\"\",\"\",INDEX( メイン!$A$9:$M$108, メイン!$A13,5))","v":""},null,{"$f":"IF(ISERROR(VLOOKUP( メイン!F13, 所属名!$F$2:$G$3,2,0)),\"\",VLOOKUP( メイン!F13, 所属名!$F$2:$G$3,2,0))","v":""},{"$f":"IF(INDEX( メイン!$A$9:$M$108, メイン!$A13,7)=\"\",\"\",INDEX( メイン!$A$9:$M$108, メイン!$A13,7))","v":""},null,null,null,null,{"$f":"IF(ISERROR(VLOOKUP( メイン!H13,競技名一覧!$B$2:$C$87,2,0)),\"\",VLOOKUP( メイン!H13,競技名一覧!$B$2:$C$87,2,0))","v":""},{"$f":"IF(INDEX( メイン!$A$9:$M$108, メイン!$A13,9)=\"\",\"\",INDEX( メイン!$A$9:$M$108, メイン!$A13,9))","v":""},null,null,{"$f":"IF(ISERROR(VLOOKUP( メイン!J13,競技名一覧!$B$2:$C$87,2,0)),\"\",VLOOKUP( メイン!J13,競技名一覧!$B$2:$C$87,2,0))","v":""},{"$f":"IF(INDEX( メイン!$A$9:$M$108, メイン!$A13,11)=\"\",\"\",INDEX( メイン!$A$9:$M$108, メイン!$A13,11))","v":""},null,null,{"$f":"IF(ISERROR(VLOOKUP( メイン!L13,競技名一覧!$J$2:$K$5,2,0)),\"\",VLOOKUP( メイン!L13,競技名一覧!$J$2:$K$44,2,0))","v":""},{"$f":"IF(INDEX( メイン!$A$9:$M$108, メイン!$A13,13)=\"\",\"\",INDEX( メイン!$A$9:$M$108, メイン!$A13,13))","v":""}]
[6,{"$f":"VLOOKUP(メイン!B14,所属名!$C$2:$D$178,2,FALSE)","v":1},null,null,{"$f":"IF(INDEX( メイン!$A$9:$M$108, メイン!$A14,3)=\"\",\"\",INDEX( メイン!$A$9:$M$108, メイン!$A14,3))","v":""},{"$f":"IF(INDEX( メイン!$A$9:$M$108, メイン!$A14,4)=\"\",\"\",INDEX( メイン!$A$9:$M$108, メイン!$A14,4))","v":""},{"$f":"IF(INDEX( メイン!$A$9:$M$108, メイン!$A14,5)=\"\",\"\",INDEX( メイン!$A$9:$M$108, メイン!$A14,5))","v":""},null,{"$f":"IF(ISERROR(VLOOKUP( メイン!F14, 所属名!$F$2:$G$3,2,0)),\"\",VLOOKUP( メイン!F14, 所属名!$F$2:$G$3,2,0))","v":""},{"$f":"IF(INDEX( メイン!$A$9:$M$108, メイン!$A14,7)=\"\",\"\",INDEX( メイン!$A$9:$M$108, メイン!$A14,7))","v":""},null,null,null,null,{"$f":"IF(ISERROR(VLOOKUP( メイン!H14,競技名一覧!$B$2:$C$87,2,0)),\"\",VLOOKUP( メイン!H14,競技名一覧!$B$2:$C$87,2,0))","v":""},{"$f":"IF(INDEX( メイン!$A$9:$M$108, メイン!$A14,9)=\"\",\"\",INDEX( メイン!$A$9:$M$108, メイン!$A14,9))","v":""},null,null,{"$f":"IF(ISERROR(VLOOKUP( メイン!J14,競技名一覧!$B$2:$C$87,2,0)),\"\",VLOOKUP( メイン!J14,競技名一覧!$B$2:$C$87,2,0))","v":""},{"$f":"IF(INDEX( メイン!$A$9:$M$108, メイン!$A14,11)=\"\",\"\",INDEX( メイン!$A$9:$M$108, メイン!$A14,11))","v":""},null,null,{"$f":"IF(ISERROR(VLOOKUP( メイン!L14,競技名一覧!$J$2:$K$5,2,0)),\"\",VLOOKUP( メイン!L14,競技名一覧!$J$2:$K$44,2,0))","v":""},{"$f":"IF(INDEX( メイン!$A$9:$M$108, メイン!$A14,13)=\"\",\"\",INDEX( メイン!$A$9:$M$108, メイン!$A14,13))","v":""}]
[7,{"$f":"VLOOKUP(メイン!B15,所属名!$C$2:$D$178,2,FALSE)","v":1},null,null,{"$f":"IF(INDEX( メイン!$A$9:$M$108, メイン!$A15,3)=\"\",\"\",INDEX( メイン!$A$9:$M$108, メイン!$A15,3))","v":""},{"$f":"IF(INDEX( メイン!$A$9:$M$108, メイン!$A15,4)=\"\",\"\",INDEX( メイン!$A$9:$M$108, メイン!$A15,4))","v":""},{"$f":"IF(INDEX( メイン!$A$9:$M$108, メイン!$A15,5)=\"\",\"\",INDEX( メイン!$A$9:$M$108, メイン!$A15,5))","v":""},null,{"$f":"IF(ISERROR(VLOOKUP( メイン!F15, 所属名!$F$2:$G$3,2,0)),\"\",VLOOKUP( メイン!F15, 所属名!$F$2:$G$3,2,0))","v":""},{"$f":"IF(INDEX( メイン!$A$9:$M$108, メイン!$A15,7)=\"\",\"\",INDEX( メイン!$A$9:$M$108, メイン!$A15,7))","v":""},null,null,null,null,{"$f":"IF(ISERROR(VLOOKUP( メイン!H15,競技名一覧!$B$2:$C$87,2,0)),\"\",VLOOKUP( メイン!H15,競技名一覧!$B$2:$C$87,2,0))","v":""},{"$f":"IF(INDEX( メイン!$A$9:$M$108, メイン!$A15,9)=\"\",\"\",INDEX( メイン!$A$9:$M$108, メイン!$A15,9))","v":""},null,null,{"$f":"IF(ISERROR(VLOOKUP( メイン!J15,競技名一覧!$B$2:$C$87,2,0)),\"\",VLOOKUP( メイン!J15,競技名一覧!$B$2:$C$87,2,0))","v":""},{"$f":"IF(INDEX( メイン!$A$9:$M$108, メイン!$A15,11)=\"\",\"\",INDEX( メイン!$A$9:$M$108, メイン!$A15,11))","v":""},null,null,{"$f":"IF(ISERROR(VLOOKUP( メイン!L15,競技名一覧!$J$2:$K$5,2,0)),\"\",VLOOKUP( メイン!L15,競技名一覧!$J$2:$K$44,2,0))","v":""},{"$f":"IF(INDEX( メイン!$A$9:$M$108, メイン!$A15,13)=\"\",\"\",INDEX( メイン!$A$9:$M$108, メイン!$A15,13))","v":""}]
[8,{"$f":"VLOOKUP(メイン!B16,所属名!$C$2:$D$178,2,FALSE)","v":1},null,null,{"$f":"IF(INDEX( メイン!$A$9:$M$108, メイン!$A16,3)=\"\",\"\",INDEX( メイン!$A$9:$M$108, メイン!$A16,3))","v":""},{"$f":"IF(INDEX( メイン!$A$9:$M$108, メイン!$A16,4)=\"\",\"\",INDEX( メイン!$A$9:$M$108, メイン!$A16,4))","v":""},{"$f":"IF(INDEX( メイン!$A$9:$M$108, メイン!$A16,5)=\"\",\"\",INDEX( メイン!$A$9:$M$108, メイン!$A16,5))","v":""},null,{"$f":"IF(ISERROR(VLOOKUP( メイン!F16, 所属名!$F$2:$G$3,2,0)),\"\",VLOOKUP( メイン!F16, 所属名!$F$2:$G$3,2,0))","v":""},{"$f":"IF(INDEX( メイン!$A$9:$M$108, メイン!$A16,7)=\"\",\"\",INDEX( メイン!$A$9:$M$108, メイン!$A16,7))","v":""},null,null,null,null,{"$f":"IF(ISERROR(VLOOKUP( メイン!H16,競技名一覧!$B$2:$C$87,2,0)),\"\",VLOOKUP( メイン!H16,競技名一覧!$B$2:$C$87,2,0))","v":""},{"$f":"IF(INDEX( メイン!$A$9:$M$108, メイン!$A16,9)=\"\",\"\",INDEX( メイン!$A$9:$M$108, メイン!$A16,9))","v":""},null,null,{"$f":"IF(ISERROR(VLOOKUP( メイン!J16,競技名一覧!$B$2:$C$87,2,0)),\"\",VLOOKUP( メイン!J16,競技名一覧!$B$2:$C$87,2,0))","v":""},{"$f":"IF(INDEX( メイン!$A$9:$M$108, メイン!$A16,11)=\"\",\"\",INDEX( メイン!$A$9:$M$108, メイン!$A16,11))","v":""},null,null,{"$f":"IF(ISERROR(VLOOKUP( メイン!L16,競技名一覧!$J$2:$K$5,2,0)),\"\",VLOOKUP( メイン!L16,競技名一覧!$J$2:$K$44,2,0))","v":""},{"$f":"IF(INDEX( メイン!$A$9:$M$108, メイン!$A16,13)=\"\",\"\",INDEX( メイン!$A$9:$M$108, メイン!$A16,13))","v":""}]
[9,{"$f":"VLOOKUP(メイン!B17,所属名!$C$2:$D$178,2,FALSE)","v":1},null,null,{"$f":"IF(INDEX( メイン!$A$9:$M$108, メイン!$A17,3)=\"\",\"\",INDEX( メイン!$A$9:$M$108, メイン!$A17,3))","v":""},{"$f":"IF(INDEX( メイン!$A$9:$M$108, メイン!$A17,4)=\"\",\"\",INDEX( メイン!$A$9:$M$108, メイン!$A17,4))","v":""},{"$f":"IF(INDEX( メイン!$A$9:$M$108, メイン!$A17,5)=\"\",\"\",INDEX( メイン!$A$9:$M$108, メイン!$A17,5))","v":""},null,{"$f":"IF(ISERROR(VLOOKUP( メイン!F17, 所属名!$F$2:$G$3,2,0)),\"\",VLOOKUP( メイン!F17, 所属名!$F$2:$G$3,2,0))","v":""},{"$f":"IF(INDEX( メイン!$A$9:$M$108, メイン!$A17,7)=\"\",\"\",INDEX( メイン!$A$9:$M$108, メイン!$A17,7))","v":""},null,null,null,null,{"$f":"IF(ISERROR(VLOOKUP( メイン!H17,競技名一覧!$B$2:$C$87,2,0)),\"\",VLOOKUP( メイン!H17,競技名一覧!$B$2:$C$87,2,0))","v":""},{"$f":"IF(INDEX( メイン!$A$9:$M$108, メイン!$A17,9)=\"\",\"\",INDEX( メイン!$A$9:$M$108, メイン!$A17,9))","v":""},null,null,{"$f":"IF(ISERROR(VLOOKUP( メイン!J17,競技名一覧!$B$2:$C$87,2,0)),\"\",VLOOKUP( メイン!J17,競技名一覧!$B$2:$C$87,2,0))","v":""},{"$f":"IF(INDEX( メイン!$A$9:$M$108, メイン!$A17,11)=\"\",\"\",INDEX( メイン!$A$9:$M$108, メイン!$A17,11))","v":""},null,null,{"$f":"IF(ISERROR(VLOOKUP( メイン!L17,競技名一覧!$J$2:$K$5,2,0)),\"\",VLOOKUP( メイン!L17,競技名一覧!$J$2:$K$44,2,0))","v":""},{"$f":"IF(INDEX( メイン!$A$9:$M$108, メイン!$A17,13)=\"\",\"\",INDEX( メイン!$A$9:$M$108, メイン!$A17,13))","v":""}]
[10,{"$f":"VLOOKUP(メイン!B18,所属名!$C$2:$D$178,2,FALSE)","v":1},null,null,{"$f":"IF(INDEX( メイン!$A$9:$M$108, メイン!$A18,3)=\"\",\"\",INDEX( メイン!$A$9:$M$108, メイン!$A18,3))","v":""},{"$f":"IF(INDEX( メイン!$A$9:$M$108, メイン!$A18,4)=\"\",\"\",INDEX( メイン!$A$9:$M$108, メイン!$A18,4))","v":""},{"$f":"IF(INDEX( メイン!$A$9:$M$108, メイン!$A18,5)=\"\",\"\",INDEX( メイン!$A$9:$M$108, メイン!$A18,5))","v":""},null,{"$f":"IF(ISERROR(VLOOKUP( メイン!F18, 所属名!$F$2:$G$3,2,0)),\"\",VLOOKUP( メイン!F18, 所属名!$F$2:$G$3,2,0))","v":""},{"$f":"IF(INDEX( メイン!$A$9:$M$108, メイン!$A18,7)=\"\",\"\",INDEX( メイン!$A$9:$M$108, メイン!$A18,7))","v":""},null,null,null,null,{"$f":"IF(ISERROR(VLOOKUP( メイン!H18,競技名一覧!$B$2:$C$87,2,0)),\"\",VLOOKUP( メイン!H18,競技名一覧!$B$2:$C$87,2,0))","v":""},{"$f":"IF(INDEX( メイン!$A$9:$M$108, メイン!$A18,9)=\"\",\"\",INDEX( メイン!$A$9:$M$108, メイン!$A18,9))","v":""},null,null,{"$f":"IF(ISERROR(VLOOKUP( メイン!J18,競技名一覧!$B$2:$C$87,2,0)),\"\",VLOOKUP( メイン!J18,競技名一覧!$B$2:$C$87,2,0))","v":""},{"$f":"IF(INDEX( メイン!$A$9:$M$108, メイン!$A18,11)=\"\",\"\",INDEX( メイン!$A$9:$M$108, メイン!$A18,11))","v":""},null,null,{"$f":"IF(ISERROR(VLOOKUP( メイン!L18,競技名一覧!$J$2:$K$5,2,0)),\"\",VLOOKUP( メイン!L18,競技名一覧!$J$2:$K$44,2,0))","v":""},{"$f":"IF(INDEX( メイン!$A$9:$M$108, メイン!$A18,13)=\"\",\"\",INDEX( メイン!$A$9:$M$108, メイン!$A18,13))","v":""}]
[11,{"$f":"VLOOKUP(メイン!B19,所属名!$C$2:$D$178,2,FALSE)","v":1},null,null,{"$f":"IF(INDEX( メイン!$A$9:$M$108, メイン!$A19,3)=\"\",\"\",INDEX( メイン!$A$9:$M$108, メイン!$A19,3))","v":""},{"$f":"IF(INDEX( メイン!$A$9:$M$108, メイン!$A19,4)=\"\",\"\",INDEX( メイン!$A$9:$M$108, メイン!$A19,4))","v":""},{"$f":"IF(INDEX( メイン!$A$9:$M$108, メイン!$A19,5)=\"\",\"\",INDEX( メイン!$A$9:$M$108, メイン!$A19,5))","v":""},null,{"$f":"IF(ISERROR(VLOOKUP( メイン!F19, 所属名!$F$2:$G$3,2,0)),\"\",VLOOKUP( メイン!F19, 所属名!$F$2:$G$3,2,0))","v":""},{"$f":"IF(INDEX( メイン!$A$9:$M$108, メイン!$A19,7)=\"\",\"\",INDEX( メイン!$A$9:$M$108, メイン!$A19,7))","v":""},null,null,null,null,{"$f":"IF(ISERROR(VLOOKUP( メイン!H19,競技名一覧!$B$2:$C$87,2,0)),\"\",VLOOKUP( メイン!H19,競技名一覧!$B$2:$C$87,2,0))","v":""},{"$f":"IF(INDEX( メイン!$A$9:$M$108, メイン!$A19,9)=\"\",\"\",INDEX( メイン!$A$9:$M$108, メイン!$A19,9))","v":""},null,null,{"$f":"IF(ISERROR(VLOOKUP( メイン!J19,競技名一覧!$B$2:$C$87,2,0)),\"\",VLOOKUP( メイン!J19,競技名一覧!$B$2:$C$87,2,0))","v":""},{"$f":"IF(INDEX( メイン!$A$9:$M$108, メイン!$A19,11)=\"\",\"\",INDEX( メイン!$A$9:$M$108, メイン!$A19,11))","v":""},null,null,{"$f":"IF(ISERROR(VLOOKUP( メイン!L19,競技名一覧!$J$2:$K$5,2,0)),\"\",VLOOKUP( メイン!L19,競技名一覧!$J$2:$K$44,2,0))","v":""},{"$f":"IF(INDEX( メイン!$A$9:$M$108, メイン!$A19,13)=\"\",\"\",INDEX( メイン!$A$9:$M$108, メイン!$A19,13))","v":""}]
[12,{"$f":"VLOOKUP(メイン!B20,所属名!$C$2:$D$178,2,FALSE)","v":1},null,null,{"$f":"IF(INDEX( メイン!$A$9:$M$108, メイン!$A20,3)=\"\",\"\",INDEX( メイン!$A$9:$M$108, メイン!$A20,3))","v":""},{"$f":"IF(INDEX( メイン!$A$9:$M$108, メイン!$A20,4)=\"\",\"\",INDEX( メイン!$A$9:$M$108, メイン!$A20,4))","v":""},{"$f":"IF(INDEX( メイン!$A$9:$M$108, メイン!$A20,5)=\"\",\"\",INDEX( メイン!$A$9:$M$108, メイン!$A20,5))","v":""},null,{"$f":"IF(ISERROR(VLOOKUP( メイン!F20, 所属名!$F$2:$G$3,2,0)),\"\",VLOOKUP( メイン!F20, 所属名!$F$2:$G$3,2,0))","v":""},{"$f":"IF(INDEX( メイン!$A$9:$M$108, メイン!$A20,7)=\"\",\"\",INDEX( メイン!$A$9:$M$108, メイン!$A20,7))","v":""},null,null,null,null,{"$f":"IF(ISERROR(VLOOKUP( メイン!H20,競技名一覧!$B$2:$C$87,2,0)),\"\",VLOOKUP( メイン!H20,競技名一覧!$B$2:$C$87,2,0))","v":""},{"$f":"IF(INDEX( メイン!$A$9:$M$108, メイン!$A20,9)=\"\",\"\",INDEX( メイン!$A$9:$M$108, メイン!$A20,9))","v":""},null,null,{"$f":"IF(ISERROR(VLOOKUP( メイン!J20,競技名一覧!$B$2:$C$87,2,0)),\"\",VLOOKUP( メイン!J20,競技名一覧!$B$2:$C$87,2,0))","v":""},{"$f":"IF(INDEX( メイン!$A$9:$M$108, メイン!$A20,11)=\"\",\"\",INDEX( メイン!$A$9:$M$108, メイン!$A20,11))","v":""},null,null,{"$f":"IF(ISERROR(VLOOKUP( メイン!L20,競技名一覧!$J$2:$K$5,2,0)),\"\",VLOOKUP( メイン!L20,競技名一覧!$J$2:$K$44,2,0))","v":""},{"$f":"IF(INDEX( メイン!$A$9:$M$108, メイン!$A20,13)=\"\",\"\",INDEX( メイン!$A$9:$M$108, メイン!$A20,13))","v":""}]
[13,{"$f":"VLOOKUP(メイン!B21,所属名!$C$2:$D$178,2,FALSE)","v":1},null,null,{"$f":"IF(INDEX( メイン!$A$9:$M$108, メイン!$A21,3)=\"\",\"\",INDEX( メイン!$A$9:$M$108, メイン!$A21,3))","v":""},{"$f":"IF(INDEX( メイン!$A$9:$M$108, メイン!$A21,4)=\"\",\"\",INDEX( メイン!$A$9:$M$108, メイン!$A21,4))","v":""},{"$f":"IF(INDEX( メイン!$A$9:$M$108, メイン!$A21,5)=\"\",\"\",INDEX( メイン!$A$9:$M$108, メイン!$A21,5))","v":""},null,{"$f":"IF(ISERROR(VLOOKUP( メイン!F21, 所属名!$F$2:$G$3,2,0)),\"\",VLOOKUP( メイン!F21, 所属名!$F$2:$G$3,2,0))","v":""},{"$f":"IF(INDEX( メイン!$A$9:$M$108, メイン!$A21,7)=\"\",\"\",INDEX( メイン!$A$9:$M$108, メイン!$A21,7))","v":""},null,null,null,null,{"$f":"IF(ISERROR(VLOOKUP( メイン!H21,競技名一覧!$B$2:$C$87,2,0)),\"\",VLOOKUP( メイン!H21,競技名一覧!$B$2:$C$87,2,0))","v":""},{"$f":"IF(INDEX( メイン!$A$9:$M$108, メイン!$A21,9)=\"\",\"\",INDEX( メイン!$A$9:$M$108, メイン!$A21,9))","v":""},null,null,{"$f":"IF(ISERROR(VLOOKUP( メイン!J21,競技名一覧!$B$2:$C$87,2,0)),\"\",VLOOKUP( メイン!J21,競技名一覧!$B$2:$C$87,2,0))","v":""},{"$f":"IF(INDEX( メイン!$A$9:$M$108, メイン!$A21,11)=\"\",\"\",INDEX( メイン!$A$9:$M$108, メイン!$A21,11))","v":""},null,null,{"$f":"IF(ISERROR(VLOOKUP( メイン!L21,競技名一覧!$J$2:$K$5,2,0)),\"\",VLOOKUP( メイン!L21,競技名一覧!$J$2:$K$44,2,0))","v":""},{"$f":"IF(INDEX( メイン!$A$9:$M$108, メイン!$A21,13)=\"\",\"\",INDEX( メイン!$A$9:$M$108, メイン!$A21,13))","v":""}]
[14,{"$f":"VLOOKUP(メイン!B22,所属名!$C$2:$D$178,2,FALSE)","v":1},null,null,{"$f":"IF(INDEX( メイン!$A$9:$M$108, メイン!$A22,3)=\"\",\"\",INDEX( メイン!$A$9:$M$108, メイン!$A22,3))","v":""},{"$f":"IF(INDEX( メイン!$A$9:$M$108, メイン!$A22,4)=\"\",\"\",INDEX( メイン!$A$9:$M$108, メイン!$A22,4))","v":""},{"$f":"IF(INDEX( メイン!$A$9:$M$108, メイン!$A22,5)=\"\",\"\",INDEX( メイン!$A$9:$M$108, メイン!$A22,5))","v":""},null,{"$f":"IF(ISERROR(VLOOKUP( メイン!F22, 所属名!$F$2:$G$3,2,0)),\"\",VLOOKUP( メイン!F22, 所属名!$F$2:$G$3,2,0))","v":""},{"$f":"IF(INDEX( メイン!$A$9:$M$108, メイン!$A22,7)=\"\",\"\",INDEX( メイン!$A$9:$M$108, メイン!$A22,7))","v":""},null,null,null,null,{"$f":"IF(ISERROR(VLOOKUP( メイン!H22,競技名一覧!$B$2:$C$87,2,0)),\"\",VLOOKUP( メイン!H22,競技名一覧!$B$2:$C$87,2,0))","v":""},{"$f":"IF(INDEX( メイン!$A$9:$M$108, メイン!$A22,9)=\"\",\"\",INDEX( メイン!$A$9:$M$108, メイン!$A22,9))","v":""},null,null,{"$f":"IF(ISERROR(VLOOKUP( メイン!J22,競技名一覧!$B$2:$C$87,2,0)),\"\",VLOOKUP( メイン!J22,競技名一覧!$B$2:$C$87,2,0))","v":""},{"$f":"IF(INDEX( メイン!$A$9:$M$108, メイン!$A22,11)=\"\",\"\",INDEX( メイン!$A$9:$M$108, メイン!$A22,11))","v":""},null,null,{"$f":"IF(ISERROR(VLOOKUP( メイン!L22,競技名一覧!$J$2:$K$5,2,0)),\"\",VLOOKUP( メイン!L22,競技名一覧!$J$2:$K$44,2,0))","v":""},{"$f":"IF(INDEX( メイン!$A$9:$M$108, メイン!$A22,13)=\"\",\"\",INDEX( メイン!$A$9:$M$108, メイン!$A22,13))","v":""}]
[15,{"$f":"VLOOKUP(メイン!B23,所属名!$C$2:$D$178,2,FALSE)","v":1},null,null,{"$f":"IF(INDEX( メイン!$A$9:$M$108, メイン!$A23,3)=\"\",\"\",INDEX( メイン!$A$9:$M$108, メイン!$A23,3))","v":""},{"$f":"IF(INDEX( メイン!$A$9:$M$108, メイン!$A23,4)=\"\",\"\",INDEX( メイン!$A$9:$M$108, メイン!$A23,4))","v":""},{"$f":"IF(INDEX( メイン!$A$9:$M$108, メイン!$A23,5)=\"\",\"\",INDEX( メイン!$A$9:$M$108, メイン!$A23,5))","v":""},null,{"$f":"IF(ISERROR(VLOOKUP( メイン!F23, 所属名!$F$2:$G$3,2,0)),\"\",VLOOKUP( メイン!F23, 所属名!$F$2:$G$3,2,0))","v":""},{"$f":"IF(INDEX( メイン!$A$9:$M$108, メイン!$A23,7)=\"\",\"\",INDEX( メイン!$A$9:$M$108, メイン!$A23,7))","v":""},null,null,null,null,{"$f":"IF(ISERROR(VLOOKUP( メイン!H23,競技名一覧!$B$2:$C$87,2,0)),\"\",VLOOKUP( メイン!H23,競技名一覧!$B$2:$C$87,2,0))","v":""},{"$f":"IF(INDEX( メイン!$A$9:$M$108, メイン!$A23,9)=\"\",\"\",INDEX( メイン!$A$9:$M$108, メイン!$A23,9))","v":""},null,null,{"$f":"IF(ISERROR(VLOOKUP( メイン!J23,競技名一覧!$B$2:$C$87,2,0)),\"\",VLOOKUP( メイン!J23,競技名一覧!$B$2:$C$87,2,0))","v":""},{"$f":"IF(INDEX( メイン!$A$9:$M$108, メイン!$A23,11)=\"\",\"\",INDEX( メイン!$A$9:$M$108, メイン!$A23,11))","v":""},null,null,{"$f":"IF(ISERROR(VLOOKUP( メイン!L23,競技名一覧!$J$2:$K$5,2,0)),\"\",VLOOKUP( メイン!L23,競技名一覧!$J$2:$K$44,2,0))","v":""},{"$f":"IF(INDEX( メイン!$A$9:$M$108, メイン!$A23,13)=\"\",\"\",INDEX( メイン!$A$9:$M$108, メイン!$A23,13))","v":""}]
[16,{"$f":"VLOOKUP(メイン!B24,所属名!$C$2:$D$178,2,FALSE)","v":1},null,null,{"$f":"IF(INDEX( メイン!$A$9:$M$108, メイン!$A24,3)=\"\",\"\",INDEX( メイン!$A$9:$M$108, メイン!$A24,3))","v":""},{"$f":"IF(INDEX( メイン!$A$9:$M$108, メイン!$A24,4)=\"\",\"\",INDEX( メイン!$A$9:$M$108, メイン!$A24,4))","v":""},{"$f":"IF(INDEX( メイン!$A$9:$M$108, メイン!$A24,5)=\"\",\"\",INDEX( メイン!$A$9:$M$108, メイン!$A24,5))","v":""},null,{"$f":"IF(ISERROR(VLOOKUP( メイン!F24, 所属名!$F$2:$G$3,2,0)),\"\",VLOOKUP( メイン!F24, 所属名!$F$2:$G$3,2,0))","v":""},{"$f":"IF(INDEX( メイン!$A$9:$M$108, メイン!$A24,7)=\"\",\"\",INDEX( メイン!$A$9:$M$108, メイン!$A24,7))","v":""},null,null,null,null,{"$f":"IF(ISERROR(VLOOKUP( メイン!H24,競技名一覧!$B$2:$C$87,2,0)),\"\",VLOOKUP( メイン!H24,競技名一覧!$B$2:$C$87,2,0))","v":""},{"$f":"IF(INDEX( メイン!$A$9:$M$108, メイン!$A24,9)=\"\",\"\",INDEX( メイン!$A$9:$M$108, メイン!$A24,9))","v":""},null,null,{"$f":"IF(ISERROR(VLOOKUP( メイン!J24,競技名一覧!$B$2:$C$87,2,0)),\"\",VLOOKUP( メイン!J24,競技名一覧!$B$2:$C$87,2,0))","v":""},{"$f":"IF(INDEX( メイン!$A$9:$M$108, メイン!$A24,11)=\"\",\"\",INDEX( メイン!$A$9:$M$108, メイン!$A24,11))","v":""},null,null,{"$f":"IF(ISERROR(VLOOKUP( メイン!L24,競技名一覧!$J$2:$K$5,2,0)),\"\",VLOOKUP( メイン!L24,競技名一覧!$J$2:$K$44,2,0))","v":""},{"$f":"IF(INDEX( メイン!$A$9:$M$108, メイン!$A24,13)=\"\",\"\",INDEX( メイン!$A$9:$M$108, メイン!$A24,13))","v":""}]
[17,{"$f":"VLOOKUP(メイン!B25,所属名!$C$2:$D$178,2,FALSE)","v":1},null,null,{"$f":"IF(INDEX( メイン!$A$9:$M$108, メイン!$A25,3)=\"\",\"\",INDEX( メイン!$A$9:$M$108, メイン!$A25,3))","v":""},{"$f":"IF(INDEX( メイン!$A$9:$M$108, メイン!$A25,4)=\"\",\"\",INDEX( メイン!$A$9:$M$108, メイン!$A25,4))","v":""},{"$f":"IF(INDEX( メイン!$A$9:$M$108, メイン!$A25,5)=\"\",\"\",INDEX( メイン!$A$9:$M$108, メイン!$A25,5))","v":""},null,{"$f":"IF(ISERROR(VLOOKUP( メイン!F25, 所属名!$F$2:$G$3,2,0)),\"\",VLOOKUP( メイン!F25, 所属名!$F$2:$G$3,2,0))","v":""},{"$f":"IF(INDEX( メイン!$A$9:$M$108, メイン!$A25,7)=\"\",\"\",INDEX( メイン!$A$9:$M$108, メイン!$A25,7))","v":""},null,null,null,null,{"$f":"IF(ISERROR(VLOOKUP( メイン!H25,競技名一覧!$B$2:$C$87,2,0)),\"\",VLOOKUP( メイン!H25,競技名一覧!$B$2:$C$87,2,0))","v":""},{"$f":"IF(INDEX( メイン!$A$9:$M$108, メイン!$A25,9)=\"\",\"\",INDEX( メイン!$A$9:$M$108, メイン!$A25,9))","v":""},null,null,{"$f":"IF(ISERROR(VLOOKUP( メイン!J25,競技名一覧!$B$2:$C$87,2,0)),\"\",VLOOKUP( メイン!J25,競技名一覧!$B$2:$C$87,2,0))","v":""},{"$f":"IF(INDEX( メイン!$A$9:$M$108, メイン!$A25,11)=\"\",\"\",INDEX( メイン!$A$9:$M$108, メイン!$A25,11))","v":""},null,null,{"$f":"IF(ISERROR(VLOOKUP( メイン!L25,競技名一覧!$J$2:$K$5,2,0)),\"\",VLOOKUP( メイン!L25,競技名一覧!$J$2:$K$44,2,0))","v":""},{"$f":"IF(INDEX( メイン!$A$9:$M$108, メイン!$A25,13)=\"\",\"\",INDEX( メイン!$A$9:$M$108, メイン!$A25,13))","v":""}]
[18,{"$f":"VLOOKUP(メイン!B26,所属名!$C$2:$D$178,2,FALSE)","v":1},null,null,{"$f":"IF(INDEX( メイン!$A$9:$M$108, メイン!$A26,3)=\"\",\"\",INDEX( メイン!$A$9:$M$108, メイン!$A26,3))","v":""},{"$f":"IF(INDEX( メイン!$A$9:$M$108, メイン!$A26,4)=\"\",\"\",INDEX( メイン!$A$9:$M$108, メイン!$A26,4))","v":""},{"$f":"IF(INDEX( メイン!$A$9:$M$108, メイン!$A26,5)=\"\",\"\",INDEX( メイン!$A$9:$M$108, メイン!$A26,5))","v":""},null,{"$f":"IF(ISERROR(VLOOKUP( メイン!F26, 所属名!$F$2:$G$3,2,0)),\"\",VLOOKUP( メイン!F26, 所属名!$F$2:$G$3,2,0))","v":""},{"$f":"IF(INDEX( メイン!$A$9:$M$108, メイン!$A26,7)=\"\",\"\",INDEX( メイン!$A$9:$M$108, メイン!$A26,7))","v":""},null,null,null,null,{"$f":"IF(ISERROR(VLOOKUP( メイン!H26,競技名一覧!$B$2:$C$87,2,0)),\"\",VLOOKUP( メイン!H26,競技名一覧!$B$2:$C$87,2,0))","v":""},{"$f":"IF(INDEX( メイン!$A$9:$M$108, メイン!$A26,9)=\"\",\"\",INDEX( メイン!$A$9:$M$108, メイン!$A26,9))","v":""},null,null,{"$f":"IF(ISERROR(VLOOKUP( メイン!J26,競技名一覧!$B$2:$C$87,2,0)),\"\",VLOOKUP( メイン!J26,競技名一覧!$B$2:$C$87,2,0))","v":""},{"$f":"IF(INDEX( メイン!$A$9:$M$108, メイン!$A26,11)=\"\",\"\",INDEX( メイン!$A$9:$M$108, メイン!$A26,11))","v":""},null,null,{"$f":"IF(ISERROR(VLOOKUP( メイン!L26,競技名一覧!$J$2:$K$5,2,0)),\"\",VLOOKUP( メイン!L26,競技名一覧!$J$2:$K$44,2,0))","v":""},{"$f":"IF(INDEX( メイン!$A$9:$M$108, メイン!$A26,13)=\"\",\"\",INDEX( メイン!$A$9:$M$108, メイン!$A26,13))","v":""}]
[19,{"$f":"VLOOKUP(メイン!B27,所属名!$C$2:$D$178,2,FALSE)","v":1},null,null,{"$f":"IF(INDEX( メイン!$A$9:$M$108, メイン!$A27,3)=\"\",\"\",INDEX( メイン!$A$9:$M$108, メイン!$A27,3))","v":""},{"$f":"IF(INDEX( メイン!$A$9:$M$108, メイン!$A27,4)=\"\",\"\",INDEX( メイン!$A$9:$M$108, メイン!$A27,4))","v":""},{"$f":"IF(INDEX( メイン!$A$9:$M$108, メイン!$A27,5)=\"\",\"\",INDEX( メイン!$A$9:$M$108, メイン!$A27,5))","v":""},null,{"$f":"IF(ISERROR(VLOOKUP( メイン!F27, 所属名!$F$2:$G$3,2,0)),\"\",VLOOKUP( メイン!F27, 所属名!$F$2:$G$3,2,0))","v":""},{"$f":"IF(INDEX( メイン!$A$9:$M$108, メイン!$A27,7)=\"\",\"\",INDEX( メイン!$A$9:$M$108, メイン!$A27,7))","v":""},null,null,null,null,{"$f":"IF(ISERROR(VLOOKUP( メイン!H27,競技名一覧!$B$2:$C$87,2,0)),\"\",VLOOKUP( メイン!H27,競技名一覧!$B$2:$C$87,2,0))","v":""},{"$f":"IF(INDEX( メイン!$A$9:$M$108, メイン!$A27,9)=\"\",\"\",INDEX( メイン!$A$9:$M$108, メイン!$A27,9))","v":""},null,null,{"$f":"IF(ISERROR(VLOOKUP( メイン!J27,競技名一覧!$B$2:$C$87,2,0)),\"\",VLOOKUP( メイン!J27,競技名一覧!$B$2:$C$87,2,0))","v":""},{"$f":"IF(INDEX( メイン!$A$9:$M$108, メイン!$A27,11)=\"\",\"\",INDEX( メイン!$A$9:$M$108, メイン!$A27,11))","v":""},null,null,{"$f":"IF(ISERROR(VLOOKUP( メイン!L27,競技名一覧!$J$2:$K$5,2,0)),\"\",VLOOKUP( メイン!L27,競技名一覧!$J$2:$K$44,2,0))","v":""},{"$f":"IF(INDEX( メイン!$A$9:$M$108, メイン!$A27,13)=\"\",\"\",INDEX( メイン!$A$9:$M$108, メイン!$A27,13))","v":""}]
[20,{"$f":"VLOOKUP(メイン!B28,所属名!$C$2:$D$178,2,FALSE)","v":1},null,null,{"$f":"IF(INDEX( メイン!$A$9:$M$108, メイン!$A28,3)=\"\",\"\",INDEX( メイン!$A$9:$M$108, メイン!$A28,3))","v":""},{"$f":"IF(INDEX( メイン!$A$9:$M$108, メイン!$A28,4)=\"\",\"\",INDEX( メイン!$A$9:$M$108, メイン!$A28,4))","v":""},{"$f":"IF(INDEX( メイン!$A$9:$M$108, メイン!$A28,5)=\"\",\"\",INDEX( メイン!$A$9:$M$108, メイン!$A28,5))","v":""},null,{"$f":"IF(ISERROR(VLOOKUP( メイン!F28, 所属名!$F$2:$G$3,2,0)),\"\",VLOOKUP( メイン!F28, 所属名!$F$2:$G$3,2,0))","v":""},{"$f":"IF(INDEX( メイン!$A$9:$M$108, メイン!$A28,7)=\"\",\"\",INDEX( メイン!$A$9:$M$108, メイン!$A28,7))","v":""},null,null,null,null,{"$f":"IF(ISERROR(VLOOKUP( メイン!H28,競技名一覧!$B$2:$C$87,2,0)),\"\",VLOOKUP( メイン!H28,競技名一覧!$B$2:$C$87,2,0))","v":""},{"$f":"IF(INDEX( メイン!$A$9:$M$108, メイン!$A28,9)=\"\",\"\",INDEX( メイン!$A$9:$M$108, メイン!$A28,9))","v":""},null,null,{"$f":"IF(ISERROR(VLOOKUP( メイン!J28,競技名一覧!$B$2:$C$87,2,0)),\"\",VLOOKUP( メイン!J28,競技名一覧!$B$2:$C$87,2,0))","v":""},{"$f":"IF(INDEX( メイン!$A$9:$M$108, メイン!$A28,11)=\"\",\"\",INDEX( メイン!$A$9:$M$108, メイン!$A28,11))","v":""},null,null,{"$f":"IF(ISERROR(VLOOKUP( メイン!L28,競技名一覧!$J$2:$K$5,2,0)),\"\",VLOOKUP( メイン!L28,競技名一覧!$J$2:$K$44,2,0))","v":""},{"$f":"IF(INDEX( メイン!$A$9:$M$108, メイン!$A28,13)=\"\",\"\",INDEX( メイン!$A$9:$M$108, メイン!$A28,13))","v":""}]
[21,{"$f":"VLOOKUP(メイン!B29,所属名!$C$2:$D$178,2,FALSE)","v":1},null,null,{"$f":"IF(INDEX( メイン!$A$9:$M$108, メイン!$A29,3)=\"\",\"\",INDEX( メイン!$A$9:$M$108, メイン!$A29,3))","v":""},{"$f":"IF(INDEX( メイン!$A$9:$M$108, メイン!$A29,4)=\"\",\"\",INDEX( メイン!$A$9:$M$108, メイン!$A29,4))","v":""},{"$f":"IF(INDEX( メイン!$A$9:$M$108, メイン!$A29,5)=\"\",\"\",INDEX( メイン!$A$9:$M$108, メイン!$A29,5))","v":""},null,{"$f":"IF(ISERROR(VLOOKUP( メイン!F29, 所属名!$F$2:$G$3,2,0)),\"\",VLOOKUP( メイン!F29, 所属名!$F$2:$G$3,2,0))","v":""},{"$f":"IF(INDEX( メイン!$A$9:$M$108, メイン!$A29,7)=\"\",\"\",INDEX( メイン!$A$9:$M$108, メイン!$A29,7))","v":""},null,null,null,null,{"$f":"IF(ISERROR(VLOOKUP( メイン!H29,競技名一覧!$B$2:$C$87,2,0)),\"\",VLOOKUP( メイン!H29,競技名一覧!$B$2:$C$87,2,0))","v":""},{"$f":"IF(INDEX( メイン!$A$9:$M$108, メイン!$A29,9)=\"\",\"\",INDEX( メイン!$A$9:$M$108, メイン!$A29,9))","v":""},null,null,{"$f":"IF(ISERROR(VLOOKUP( メイン!J29,競技名一覧!$B$2:$C$87,2,0)),\"\",VLOOKUP( メイン!J29,競技名一覧!$B$2:$C$87,2,0))","v":""},{"$f":"IF(INDEX( メイン!$A$9:$M$108, メイン!$A29,11)=\"\",\"\",INDEX( メイン!$A$9:$M$108, メイン!$A29,11))","v":""},null,null,{"$f":"IF(ISERROR(VLOOKUP( メイン!L29,競技名一覧!$J$2:$K$5,2,0)),\"\",VLOOKUP( メイン!L29,競技名一覧!$J$2:$K$44,2,0))","v":""},{"$f":"IF(INDEX( メイン!$A$9:$M$108, メイン!$A29,13)=\"\",\"\",INDEX( メイン!$A$9:$M$108, メイン!$A29,13))","v":""}]
[22,{"$f":"VLOOKUP(メイン!B30,所属名!$C$2:$D$178,2,FALSE)","v":1},null,null,{"$f":"IF(INDEX( メイン!$A$9:$M$108, メイン!$A30,3)=\"\",\"\",INDEX( メイン!$A$9:$M$108, メイン!$A30,3))","v":""},{"$f":"IF(INDEX( メイン!$A$9:$M$108, メイン!$A30,4)=\"\",\"\",INDEX( メイン!$A$9:$M$108, メイン!$A30,4))","v":""},{"$f":"IF(INDEX( メイン!$A$9:$M$108, メイン!$A30,5)=\"\",\"\",INDEX( メイン!$A$9:$M$108, メイン!$A30,5))","v":""},null,{"$f":"IF(ISERROR(VLOOKUP( メイン!F30, 所属名!$F$2:$G$3,2,0)),\"\",VLOOKUP( メイン!F30, 所属名!$F$2:$G$3,2,0))","v":""},{"$f":"IF(INDEX( メイン!$A$9:$M$108, メイン!$A30,7)=\"\",\"\",INDEX( メイン!$A$9:$M$108, メイン!$A30,7))","v":""},null,null,null,null,{"$f":"IF(ISERROR(VLOOKUP( メイン!H30,競技名一覧!$B$2:$C$87,2,0)),\"\",VLOOKUP( メイン!H30,競技名一覧!$B$2:$C$87,2,0))","v":""},{"$f":"IF(INDEX( メイン!$A$9:$M$108, メイン!$A30,9)=\"\",\"\",INDEX( メイン!$A$9:$M$108, メイン!$A30,9))","v":""},null,null,{"$f":"IF(ISERROR(VLOOKUP( メイン!J30,競技名一覧!$B$2:$C$87,2,0)),\"\",VLOOKUP( メイン!J30,競技名一覧!$B$2:$C$87,2,0))","v":""},{"$f":"IF(INDEX( メイン!$A$9:$M$108, メイン!$A30,11)=\"\",\"\",INDEX( メイン!$A$9:$M$108, メイン!$A30,11))","v":""},null,null,{"$f":"IF(ISERROR(VLOOKUP( メイン!L30,競技名一覧!$J$2:$K$5,2,0)),\"\",VLOOKUP( メイン!L30,競技名一覧!$J$2:$K$44,2,0))","v":""},{"$f":"IF(INDEX( メイン!$A$9:$M$108, メイン!$A30,13)=\"\",\"\",INDEX( メイン!$A$9:$M$108, メイン!$A30,13))","v":""}]
[23,{"$f":"VLOOKUP(メイン!B31,所属名!$C$2:$D$178,2,FALSE)","v":1},null,null,{"$f":"IF(INDEX( メイン!$A$9:$M$108, メイン!$A31,3)=\"\",\"\",INDEX( メイン!$A$9:$M$108, メイン!$A31,3))","v":""},{"$f":"IF(INDEX( メイン!$A$9:$M$108, メイン!$A31,4)=\"\",\"\",INDEX( メイン!$A$9:$M$108, メイン!$A31,4))","v":""},{"$f":"IF(INDEX( メイン!$A$9:$M$108, メイン!$A31,5)=\"\",\"\",INDEX( メイン!$A$9:$M$108, メイン!$A31,5))","v":""},null,{"$f":"IF(ISERROR(VLOOKUP( メイン!F31, 所属名!$F$2:$G$3,2,0)),\"\",VLOOKUP( メイン!F31, 所属名!$F$2:$G$3,2,0))","v":""},{"$f":"IF(INDEX( メイン!$A$9:$M$108, メイン!$A31,7)=\"\",\"\",INDEX( メイン!$A$9:$M$108, メイン!$A31,7))","v":""},null,null,null,null,{"$f":"IF(ISERROR(VLOOKUP( メイン!H31,競技名一覧!$B$2:$C$87,2,0)),\"\",VLOOKUP( メイン!H31,競技名一覧!$B$2:$C$87,2,0))","v":""},{"$f":"IF(INDEX( メイン!$A$9:$M$108, メイン!$A31,9)=\"\",\"\",INDEX( メイン!$A$9:$M$108, メイン!$A31,9))","v":""},null,null,{"$f":"IF(ISERROR(VLOOKUP( メイン!J31,競技名一覧!$B$2:$C$87,2,0)),\"\",VLOOKUP( メイン!J31,競技名一覧!$B$2:$C$87,2,0))","v":""},{"$f":"IF(INDEX( メイン!$A$9:$M$108, メイン!$A31,11)=\"\",\"\",INDEX( メイン!$A$9:$M$108, メイン!$A31,11))","v":""},null,null,{"$f":"IF(ISERROR(VLOOKUP( メイン!L31,競技名一覧!$J$2:$K$5,2,0)),\"\",VLOOKUP( メイン!L31,競技名一覧!$J$2:$K$44,2,0))","v":""},{"$f":"IF(INDEX( メイン!$A$9:$M$108, メイン!$A31,13)=\"\",\"\",INDEX( メイン!$A$9:$M$108, メイン!$A31,13))","v":""}]
[24,{"$f":"VLOOKUP(メイン!B32,所属名!$C$2:$D$178,2,FALSE)","v":1},null,null,{"$f":"IF(INDEX( メイン!$A$9:$M$108, メイン!$A32,3)=\"\",\"\",INDEX( メイン!$A$9:$M$108, メイン!$A32,3))","v":""},{"$f":"IF(INDEX( メイン!$A$9:$M$108, メイン!$A32,4)=\"\",\"\",INDEX( メイン!$A$9:$M$108, メイン!$A32,4))","v":""},{"$f":"IF(INDEX( メイン!$A$9:$M$108, メイン!$A32,5)=\"\",\"\",INDEX( メイン!$A$9:$M$108, メイン!$A32,5))","v":""},null,{"$f":"IF(ISERROR(VLOOKUP( メイン!F32, 所属名!$F$2:$G$3,2,0)),\"\",VLOOKUP( メイン!F32, 所属名!$F$2:$G$3,2,0))","v":""},{"$f":"IF(INDEX( メイン!$A$9:$M$108, メイン!$A32,7)=\"\",\"\",INDEX( メイン!$A$9:$M$108, メイン!$A32,7))","v":""},null,null,null,null,{"$f":"IF(ISERROR(VLOOKUP( メイン!H32,競技名一覧!$B$2:$C$87,2,0)),\"\",VLOOKUP( メイン!H32,競技名一覧!$B$2:$C$87,2,0))","v":""},{"$f":"IF(INDEX( メイン!$A$9:$M$108, メイン!$A32,9)=\"\",\"\",INDEX( メイン!$A$9:$M$108, メイン!$A32,9))","v":""},null,null,{"$f":"IF(ISERROR(VLOOKUP( メイン!J32,競技名一覧!$B$2:$C$87,2,0)),\"\",VLOOKUP( メイン!J32,競技名一覧!$B$2:$C$87,2,0))","v":""},{"$f":"IF(INDEX( メイン!$A$9:$M$108, メイン!$A32,11)=\"\",\"\",INDEX( メイン!$A$9:$M$108, メイン!$A32,11))","v":""},null,null,{"$f":"IF(ISERROR(VLOOKUP( メイン!L32,競技名一覧!$J$2:$K$5,2,0)),\"\",VLOOKUP( メイン!L32,競技名一覧!$J$2:$K$44,2,0))","v":""},{"$f":"IF(INDEX( メイン!$A$9:$M$108, メイン!$A32,13)=\"\",\"\",INDEX( メイン!$A$9:$M$108, メイン!$A32,13))","v":""}]
[25,{"$f":"VLOOKUP(メイン!B33,所属名!$C$2:$D$178,2,FALSE)","v":1},null,null,{"$f":"IF(INDEX( メイン!$A$9:$M$108, メイン!$A33,3)=\"\",\"\",INDEX( メイン!$A$9:$M$108, メイン!$A33,3))","v":""},{"$f":"IF(INDEX( メイン!$A$9:$M$108, メイン!$A33,4)=\"\",\"\",INDEX( メイン!$A$9:$M$108, メイン!$A33,4))","v":""},{"$f":"IF(INDEX( メイン!$A$9:$M$108, メイン!$A33,5)=\"\",\"\",INDEX( メイン!$A$9:$M$108, メイン!$A33,5))","v":""},null,{"$f":"IF(ISERROR(VLOOKUP( メイン!F33, 所属名!$F$2:$G$3,2,0)),\"\",VLOOKUP( メイン!F33, 所属名!$F$2:$G$3,2,0))","v":""},{"$f":"IF(INDEX( メイン!$A$9:$M$108, メイン!$A33,7)=\"\",\"\",INDEX( メイン!$A$9:$M$108, メイン!$A33,7))","v":""},null,null,null,null,{"$f":"IF(ISERROR(VLOOKUP( メイン!H33,競技名一覧!$B$2:$C$87,2,0)),\"\",VLOOKUP( メイン!H33,競技名一覧!$B$2:$C$87,2,0))","v":""},{"$f":"IF(INDEX( メイン!$A$9:$M$108, メイン!$A33,9)=\"\",\"\",INDEX( メイン!$A$9:$M$108, メイン!$A33,9))","v":""},null,null,{"$f":"IF(ISERROR(VLOOKUP( メイン!J33,競技名一覧!$B$2:$C$87,2,0)),\"\",VLOOKUP( メイン!J33,競技名一覧!$B$2:$C$87,2,0))","v":""},{"$f":"IF(INDEX( メイン!$A$9:$M$108, メイン!$A33,11)=\"\",\"\",INDEX( メイン!$A$9:$M$108, メイン!$A33,11))","v":""},null,null,{"$f":"IF(ISERROR(VLOOKUP( メイン!L33,競技名一覧!$J$2:$K$5,2,0)),\"\",VLOOKUP( メイン!L33,競技名一覧!$J$2:$K$44,2,0))","v":""},{"$f":"IF(INDEX( メイン!$A$9:$M$108, メイン!$A33,13)=\"\",\"\",INDEX( メイン!$A$9:$M$108, メイン!$A33,13))","v":""}]
[26,{"$f":"VLOOKUP(メイン!B34,所属名!$C$2:$D$178,2,FALSE)","v":1},null,null,{"$f":"IF(INDEX( メイン!$A$9:$M$108, メイン!$A34,3)=\"\",\"\",INDEX( メイン!$A$9:$M$108, メイン!$A34,3))","v":""},{"$f":"IF(INDEX( メイン!$A$9:$M$108, メイン!$A34,4)=\"\",\"\",INDEX( メイン!$A$9:$M$108, メイン!$A34,4))","v":""},{"$f":"IF(INDEX( メイン!$A$9:$M$108, メイン!$A34,5)=\"\",\"\",INDEX( メイン!$A$9:$M$108, メイン!$A34,5))","v":""},null,{"$f":"IF(ISERROR(VLOOKUP( メイン!F34, 所属名!$F$2:$G$3,2,0)),\"\",VLOOKUP( メイン!F34, 所属名!$F$2:$G$3,2,0))","v":""},{"$f":"IF(INDEX( メイン!$A$9:$M$108, メイン!$A34,7)=\"\",\"\",INDEX( メイン!$A$9:$M$108, メイン!$A34,7))","v":""},null,null,null,null,{"$f":"IF(ISERROR(VLOOKUP( メイン!H34,競技名一覧!$B$2:$C$87,2,0)),\"\",VLOOKUP( メイン!H34,競技名一覧!$B$2:$C$87,2,0))","v":""},{"$f":"IF(INDEX( メイン!$A$9:$M$108, メイン!$A34,9)=\"\",\"\",INDEX( メイン!$A$9:$M$108, メイン!$A34,9))","v":""},null,null,{"$f":"IF(ISERROR(VLOOKUP( メイン!J34,競技名一覧!$B$2:$C$87,2,0)),\"\",VLOOKUP( メイン!J34,競技名一覧!$B$2:$C$87,2,0))","v":""},{"$f":"IF(INDEX( メイン!$A$9:$M$108, メイン!$A34,11)=\"\",\"\",INDEX( メイン!$A$9:$M$108, メイン!$A34,11))","v":""},null,null,{"$f":"IF(ISERROR(VLOOKUP( メイン!L34,競技名一覧!$J$2:$K$5,2,0)),\"\",VLOOKUP( メイン!L34,競技名一覧!$J$2:$K$44,2,0))","v":""},{"$f":"IF(INDEX( メイン!$A$9:$M$108, メイン!$A34,13)=\"\",\"\",INDEX( メイン!$A$9:$M$108, メイン!$A34,13))","v":""}]
[27,{"$f":"VLOOKUP(メイン!B35,所属名!$C$2:$D$178,2,FALSE)","v":1},null,null,{"$f":"IF(INDEX( メイン!$A$9:$M$108, メイン!$A35,3)=\"\",\"\",INDEX( メイン!$A$9:$M$108, メイン!$A35,3))","v":""},{"$f":"IF(INDEX( メイン!$A$9:$M$108, メイン!$A35,4)=\"\",\"\",INDEX( メイン!$A$9:$M$108, メイン!$A35,4))","v":""},{"$f":"IF(INDEX( メイン!$A$9:$M$108, メイン!$A35,5)=\"\",\"\",INDEX( メイン!$A$9:$M$108, メイン!$A35,5))","v":""},null,{"$f":"IF(ISERROR(VLOOKUP( メイン!F35, 所属名!$F$2:$G$3,2,0)),\"\",VLOOKUP( メイン!F35, 所属名!$F$2:$G$3,2,0))","v":""},{"$f":"IF(INDEX( メイン!$A$9:$M$108, メイン!$A35,7)=\"\",\"\",INDEX( メイン!$A$9:$M$108, メイン!$A35,7))","v":""},null,null,null,null,{"$f":"IF(ISERROR(VLOOKUP( メイン!H35,競技名一覧!$B$2:$C$87,2,0)),\"\",VLOOKUP( メイン!H35,競技名一覧!$B$2:$C$87,2,0))","v":""},{"$f":"IF(INDEX( メイン!$A$9:$M$108, メイン!$A35,9)=\"\",\"\",INDEX( メイン!$A$9:$M$108, メイン!$A35,9))","v":""},null,null,{"$f":"IF(ISERROR(VLOOKUP( メイン!J35,競技名一覧!$B$2:$C$87,2,0)),\"\",VLOOKUP( メイン!J35,競技名一覧!$B$2:$C$87,2,0))","v":""},{"$f":"IF(INDEX( メイン!$A$9:$M$108, メイン!$A35,11)=\"\",\"\",INDEX( メイン!$A$9:$M$108, メイン!$A35,11))","v":""},null,null,{"$f":"IF(ISERROR(VLOOKUP( メイン!L35,競技名一覧!$J$2:$K$5,2,0)),\"\",VLOOKUP( メイン!L35,競技名一覧!$J$2:$K$44,2,0))","v":""},{"$f":"IF(INDEX( メイン!$A$9:$M$108, メイン!$A35,13)=\"\",\"\",INDEX( メイン!$A$9:$M$108, メイン!$A35,13))","v":""}]
[28,{"$f":"VLOOKUP(メイン!B36,所属名!$C$2:$D$178,2,FALSE)","v":1},null,null,{"$f":"IF(INDEX( メイン!$A$9:$M$108, メイン!$A36,3)=\"\",\"\",INDEX( メイン!$A$9:$M$108, メイン!$A36,3))","v":""},{"$f":"IF(INDEX( メイン!$A$9:$M$108, メイン!$A36,4)=\"\",\"\",INDEX( メイン!$A$9:$M$108, メイン!$A36,4))","v":""},{"$f":"IF(INDEX( メイン!$A$9:$M$108, メイン!$A36,5)=\"\",\"\",INDEX( メイン!$A$9:$M$108, メイン!$A36,5))","v":""},null,{"$f":"IF(ISERROR(VLOOKUP( メイン!F36, 所属名!$F$2:$G$3,2,0)),\"\",VLOOKUP( メイン!F36, 所属名!$F$2:$G$3,2,0))","v":""},{"$f":"IF(INDEX( メイン!$A$9:$M$108, メイン!$A36,7)=\"\",\"\",INDEX( メイン!$A$9:$M$108, メイン!$A36,7))","v":""},null,null,null,null,{"$f":"IF(ISERROR(VLOOKUP( メイン!H36,競技名一覧!$B$2:$C$87,2,0)),\"\",VLOOKUP( メイン!H36,競技名一覧!$B$2:$C$87,2,0))","v":""},{"$f":"IF(INDEX( メイン!$A$9:$M$108, メイン!$A36,9)=\"\",\"\",INDEX( メイン!$A$9:$M$108, メイン!$A36,9))","v":""},null,null,{"$f":"IF(ISERROR(VLOOKUP( メイン!J36,競技名一覧!$B$2:$C$87,2,0)),\"\",VLOOKUP( メイン!J36,競技名一覧!$B$2:$C$87,2,0))","v":""},{"$f":"IF(INDEX( メイン!$A$9:$M$108, メイン!$A36,11)=\"\",\"\",INDEX( メイン!$A$9:$M$108, メイン!$A36,11))","v":""},null,null,{"$f":"IF(ISERROR(VLOOKUP( メイン!L36,競技名一覧!$J$2:$K$5,2,0)),\"\",VLOOKUP( メイン!L36,競技名一覧!$J$2:$K$44,2,0))","v":""},{"$f":"IF(INDEX( メイン!$A$9:$M$108, メイン!$A36,13)=\"\",\"\",INDEX( メイン!$A$9:$M$108, メイン!$A36,13))","v":""}]
[29,{"$f":"VLOOKUP(メイン!B37,所属名!$C$2:$D$178,2,FALSE)","v":1},null,null,{"$f":"IF(INDEX( メイン!$A$9:$M$108, メイン!$A37,3)=\"\",\"\",INDEX( メイン!$A$9:$M$108, メイン!$A37,3))","v":""},{"$f":"IF(INDEX( メイン!$A$9:$M$108, メイン!$A37,4)=\"\",\"\",INDEX( メイン!$A$9:$M$108, メイン!$A37,4))","v":""},{"$f":"IF(INDEX( メイン!$A$9:$M$108, メイン!$A37,5)=\"\",\"\",INDEX( メイン!$A$9:$M$108, メイン!$A37,5))","v":""},null,{"$f":"IF(ISERROR(VLOOKUP( メイン!F37, 所属名!$F$2:$G$3,2,0)),\"\",VLOOKUP( メイン!F37, 所属名!$F$2:$G$3,2,0))","v":""},{"$f":"IF(INDEX( メイン!$A$9:$M$108, メイン!$A37,7)=\"\",\"\",INDEX( メイン!$A$9:$M$108, メイン!$A37,7))","v":""},null,null,null,null,{"$f":"IF(ISERROR(VLOOKUP( メイン!H37,競技名一覧!$B$2:$C$87,2,0)),\"\",VLOOKUP( メイン!H37,競技名一覧!$B$2:$C$87,2,0))","v":""},{"$f":"IF(INDEX( メイン!$A$9:$M$108, メイン!$A37,9)=\"\",\"\",INDEX( メイン!$A$9:$M$108, メイン!$A37,9))","v":""},null,null,{"$f":"IF(ISERROR(VLOOKUP( メイン!J37,競技名一覧!$B$2:$C$87,2,0)),\"\",VLOOKUP( メイン!J37,競技名一覧!$B$2:$C$87,2,0))","v":""},{"$f":"IF(INDEX( メイン!$A$9:$M$108, メイン!$A37,11)=\"\",\"\",INDEX( メイン!$A$9:$M$108, メイン!$A37,11))","v":""},null,null,{"$f":"IF(ISERROR(VLOOKUP( メイン!L37,競技名一覧!$J$2:$K$5,2,0)),\"\",VLOOKUP( メイン!L37,競技名一覧!$J$2:$K$44,2,0))","v":""},{"$f":"IF(INDEX( メイン!$A$9:$M$108, メイン!$A37,13)=\"\",\"\",INDEX( メイン!$A$9:$M$108, メイン!$A37,13))","v":""}]
[30,{"$f":"VLOOKUP(メイン!B38,所属名!$C$2:$D$178,2,FALSE)","v":1},null,null,{"$f":"IF(INDEX( メイン!$A$9:$M$108, メイン!$A38,3)=\"\",\"\",INDEX( メイン!$A$9:$M$108, メイン!$A38,3))","v":""},{"$f":"IF(INDEX( メイン!$A$9:$M$108, メイン!$A38,4)=\"\",\"\",INDEX( メイン!$A$9:$M$108, メイン!$A38,4))","v":""},{"$f":"IF(INDEX( メイン!$A$9:$M$108, メイン!$A38,5)=\"\",\"\",INDEX( メイン!$A$9:$M$108, メイン!$A38,5))","v":""},null,{"$f":"IF(ISERROR(VLOOKUP( メイン!F38, 所属名!$F$2:$G$3,2,0)),\"\",VLOOKUP( メイン!F38, 所属名!$F$2:$G$3,2,0))","v":""},{"$f":"IF(INDEX( メイン!$A$9:$M$108, メイン!$A38,7)=\"\",\"\",INDEX( メイン!$A$9:$M$108, メイン!$A38,7))","v":""},null,null,null,null,{"$f":"IF(ISERROR(VLOOKUP( メイン!H38,競技名一覧!$B$2:$C$87,2,0)),\"\",VLOOKUP( メイン!H38,競技名一覧!$B$2:$C$87,2,0))","v":""},{"$f":"IF(INDEX( メイン!$A$9:$M$108, メイン!$A38,9)=\"\",\"\",INDEX( メイン!$A$9:$M$108, メイン!$A38,9))","v":""},null,null,{"$f":"IF(ISERROR(VLOOKUP( メイン!J38,競技名一覧!$B$2:$C$87,2,0)),\"\",VLOOKUP( メイン!J38,競技名一覧!$B$2:$C$87,2,0))","v":""},{"$f":"IF(INDEX( メイン!$A$9:$M$108, メイン!$A38,11)=\"\",\"\",INDEX( メイン!$A$9:$M$108, メイン!$A38,11))","v":""},null,null,{"$f":"IF(ISERROR(VLOOKUP( メイン!L38,競技名一覧!$J$2:$K$5,2,0)),\"\",VLOOKUP( メイン!L38,競技名一覧!$J$2:$K$44,2,0))","v":""},{"$f":"IF(INDEX( メイン!$A$9:$M$108, メイン!$A38,13)=\"\",\"\",INDEX( メイン!$A$9:$M$108, メイン!$A38,13))","v":""}]
[31,{"$f":"VLOOKUP(メイン!B39,所属名!$C$2:$D$178,2,FALSE)","v":1},null,null,{"$f":"IF(INDEX( メイン!$A$9:$M$108, メイン!$A39,3)=\"\",\"\",INDEX( メイン!$A$9:$M$108, メイン!$A39,3))","v":""},{"$f":"IF(INDEX( メイン!$A$9:$M$108, メイン!$A39,4)=\"\",\"\",INDEX( メイン!$A$9:$M$108, メイン!$A39,4))","v":""},{"$f":"IF(INDEX( メイン!$A$9:$M$108, メイン!$A39,5)=\"\",\"\",INDEX( メイン!$A$9:$M$108, メイン!$A39,5))","v":""},null,{"$f":"IF(ISERROR(VLOOKUP( メイン!F39, 所属名!$F$2:$G$3,2,0)),\"\",VLOOKUP( メイン!F39, 所属名!$F$2:$G$3,2,0))","v":""},{"$f":"IF(INDEX( メイン!$A$9:$M$108, メイン!$A39,7)=\"\",\"\",INDEX( メイン!$A$9:$M$108, メイン!$A39,7))","v":""},null,null,null,null,{"$f":"IF(ISERROR(VLOOKUP( メイン!H39,競技名一覧!$B$2:$C$87,2,0)),\"\",VLOOKUP( メイン!H39,競技名一覧!$B$2:$C$87,2,0))","v":""},{"$f":"IF(INDEX( メイン!$A$9:$M$108, メイン!$A39,9)=\"\",\"\",INDEX( メイン!$A$9:$M$108, メイン!$A39,9))","v":""},null,null,{"$f":"IF(ISERROR(VLOOKUP( メイン!J39,競技名一覧!$B$2:$C$87,2,0)),\"\",VLOOKUP( メイン!J39,競技名一覧!$B$2:$C$87,2,0))","v":""},{"$f":"IF(INDEX( メイン!$A$9:$M$108, メイン!$A39,11)=\"\",\"\",INDEX( メイン!$A$9:$M$108, メイン!$A39,11))","v":""},null,null,{"$f":"IF(ISERROR(VLOOKUP( メイン!L39,競技名一覧!$J$2:$K$5,2,0)),\"\",VLOOKUP( メイン!L39,競技名一覧!$J$2:$K$44,2,0))","v":""},{"$f":"IF(INDEX( メイン!$A$9:$M$108, メイン!$A39,13)=\"\",\"\",INDEX( メイン!$A$9:$M$108, メイン!$A39,13))","v":""}]
[32,{"$f":"VLOOKUP(メイン!B40,所属名!$C$2:$D$178,2,FALSE)","v":1},null,null,{"$f":"IF(INDEX( メイン!$A$9:$M$108, メイン!$A40,3)=\"\",\"\",INDEX( メイン!$A$9:$M$108, メイン!$A40,3))","v":""},{"$f":"IF(INDEX( メイン!$A$9:$M$108, メイン!$A40,4)=\"\",\"\",INDEX( メイン!$A$9:$M$108, メイン!$A40,4))","v":""},{"$f":"IF(INDEX( メイン!$A$9:$M$108, メイン!$A40,5)=\"\",\"\",INDEX( メイン!$A$9:$M$108, メイン!$A40,5))","v":""},null,{"$f":"IF(ISERROR(VLOOKUP( メイン!F40, 所属名!$F$2:$G$3,2,0)),\"\",VLOOKUP( メイン!F40, 所属名!$F$2:$G$3,2,0))","v":""},{"$f":"IF(INDEX( メイン!$A$9:$M$108, メイン!$A40,7)=\"\",\"\",INDEX( メイン!$A$9:$M$108, メイン!$A40,7))","v":""},null,null,null,null,{"$f":"IF(ISERROR(VLOOKUP( メイン!H40,競技名一覧!$B$2:$C$87,2,0)),\"\",VLOOKUP( メイン!H40,競技名一覧!$B$2:$C$87,2,0))","v":""},{"$f":"IF(INDEX( メイン!$A$9:$M$108, メイン!$A40,9)=\"\",\"\",INDEX( メイン!$A$9:$M$108, メイン!$A40,9))","v":""},null,null,{"$f":"IF(ISERROR(VLOOKUP( メイン!J40,競技名一覧!$B$2:$C$87,2,0)),\"\",VLOOKUP( メイン!J40,競技名一覧!$B$2:$C$87,2,0))","v":""},{"$f":"IF(INDEX( メイン!$A$9:$M$108, メイン!$A40,11)=\"\",\"\",INDEX( メイン!$A$9:$M$108, メイン!$A40,11))","v":""},null,null,{"$f":"IF(ISERROR(VLOOKUP( メイン!L40,競技名一覧!$J$2:$K$5,2,0)),\"\",VLOOKUP( メイン!L40,競技名一覧!$J$2:$K$44,2,0))","v":""},{"$f":"IF(INDEX( メイン!$A$9:$M$108, メイン!$A40,13)=\"\",\"\",INDEX( メイン!$A$9:$M$108, メイン!$A40,13))","v":""}]
[33,{"$f":"VLOOKUP(メイン!B41,所属名!$C$2:$D$178,2,FALSE)","v":1},null,null,{"$f":"IF(INDEX( メイン!$A$9:$M$108, メイン!$A41,3)=\"\",\"\",INDEX( メイン!$A$9:$M$108, メイン!$A41,3))","v":""},{"$f":"IF(INDEX( メイン!$A$9:$M$108, メイン!$A41,4)=\"\",\"\",INDEX( メイン!$A$9:$M$108, メイン!$A41,4))","v":""},{"$f":"IF(INDEX( メイン!$A$9:$M$108, メイン!$A41,5)=\"\",\"\",INDEX( メイン!$A$9:$M$108, メイン!$A41,5))","v":""},null,{"$f":"IF(ISERROR(VLOOKUP( メイン!F41, 所属名!$F$2:$G$3,2,0)),\"\",VLOOKUP( メイン!F41, 所属名!$F$2:$G$3,2,0))","v":""},{"$f":"IF(INDEX( メイン!$A$9:$M$108, メイン!$A41,7)=\"\",\"\",INDEX( メイン!$A$9:$M$108, メイン!$A41,7))","v":""},null,null,null,null,{"$f":"IF(ISERROR(VLOOKUP( メイン!H41,競技名一覧!$B$2:$C$87,2,0)),\"\",VLOOKUP( メイン!H41,競技名一覧!$B$2:$C$87,2,0))","v":""},{"$f":"IF(INDEX( メイン!$A$9:$M$108, メイン!$A41,9)=\"\",\"\",INDEX( メイン!$A$9:$M$108, メイン!$A41,9))","v":""},null,null,{"$f":"IF(ISERROR(VLOOKUP( メイン!J41,競技名一覧!$B$2:$C$87,2,0)),\"\",VLOOKUP( メイン!J41,競技名一覧!$B$2:$C$87,2,0))","v":""},{"$f":"IF(INDEX( メイン!$A$9:$M$108, メイン!$A41,11)=\"\",\"\",INDEX( メイン!$A$9:$M$108, メイン!$A41,11))","v":""},null,null,{"$f":"IF(ISERROR(VLOOKUP( メイン!L41,競技名一覧!$J$2:$K$5,2,0)),\"\",VLOOKUP( メイン!L41,競技名一覧!$J$2:$K$44,2,0))","v":""},{"$f":"IF(INDEX( メイン!$A$9:$M$108, メイン!$A41,13)=\"\",\"\",INDEX( メイン!$A$9:$M$108, メイン!$A41,13))","v":""}]
[34,{"$f":"VLOOKUP(メイン!B42,所属名!$C$2:$D$178,2,FALSE)","v":1},null,null,{"$f":"IF(INDEX( メイン!$A$9:$M$108, メイン!$A42,3)=\"\",\"\",INDEX( メイン!$A$9:$M$108, メイン!$A42,3))","v":""},{"$f":"IF(INDEX( メイン!$A$9:$M$108, メイン!$A42,4)=\"\",\"\",INDEX( メイン!$A$9:$M$108, メイン!$A42,4))","v":""},{"$f":"IF(INDEX( メイン!$A$9:$M$108, メイン!$A42,5)=\"\",\"\",INDEX( メイン!$A$9:$M$108, メイン!$A42,5))","v":""},null,{"$f":"IF(ISERROR(VLOOKUP( メイン!F42, 所属名!$F$2:$G$3,2,0)),\"\",VLOOKUP( メイン!F42, 所属名!$F$2:$G$3,2,0))","v":""},{"$f":"IF(INDEX( メイン!$A$9:$M$108, メイン!$A42,7)=\"\",\"\",INDEX( メイン!$A$9:$M$108, メイン!$A42,7))","v":""},null,null,null,null,{"$f":"IF(ISERROR(VLOOKUP( メイン!H42,競技名一覧!$B$2:$C$87,2,0)),\"\",VLOOKUP( メイン!H42,競技名一覧!$B$2:$C$87,2,0))","v":""},{"$f":"IF(INDEX( メイン!$A$9:$M$108, メイン!$A42,9)=\"\",\"\",INDEX( メイン!$A$9:$M$108, メイン!$A42,9))","v":""},null,null,{"$f":"IF(ISERROR(VLOOKUP( メイン!J42,競技名一覧!$B$2:$C$87,2,0)),\"\",VLOOKUP( メイン!J42,競技名一覧!$B$2:$C$87,2,0))","v":""},{"$f":"IF(INDEX( メイン!$A$9:$M$108, メイン!$A42,11)=\"\",\"\",INDEX( メイン!$A$9:$M$108, メイン!$A42,11))","v":""},null,null,{"$f":"IF(ISERROR(VLOOKUP( メイン!L42,競技名一覧!$J$2:$K$5,2,0)),\"\",VLOOKUP( メイン!L42,競技名一覧!$J$2:$K$44,2,0))","v":""},{"$f":"IF(INDEX( メイン!$A$9:$M$108, メイン!$A42,13)=\"\",\"\",INDEX( メイン!$A$9:$M$108, メイン!$A42,13))","v":""}]
[35,{"$f":"VLOOKUP(メイン!B43,所属名!$C$2:$D$178,2,FALSE)","v":1},null,null,{"$f":"IF(INDEX( メイン!$A$9:$M$108, メイン!$A43,3)=\"\",\"\",INDEX( メイン!$A$9:$M$108, メイン!$A43,3))","v":""},{"$f":"IF(INDEX( メイン!$A$9:$M$108, メイン!$A43,4)=\"\",\"\",INDEX( メイン!$A$9:$M$108, メイン!$A43,4))","v":""},{"$f":"IF(INDEX( メイン!$A$9:$M$108, メイン!$A43,5)=\"\",\"\",INDEX( メイン!$A$9:$M$108, メイン!$A43,5))","v":""},null,{"$f":"IF(ISERROR(VLOOKUP( メイン!F43, 所属名!$F$2:$G$3,2,0)),\"\",VLOOKUP( メイン!F43, 所属名!$F$2:$G$3,2,0))","v":""},{"$f":"IF(INDEX( メイン!$A$9:$M$108, メイン!$A43,7)=\"\",\"\",INDEX( メイン!$A$9:$M$108, メイン!$A43,7))","v":""},null,null,null,null,{"$f":"IF(ISERROR(VLOOKUP( メイン!H43,競技名一覧!$B$2:$C$87,2,0)),\"\",VLOOKUP( メイン!H43,競技名一覧!$B$2:$C$87,2,0))","v":""},{"$f":"IF(INDEX( メイン!$A$9:$M$108, メイン!$A43,9)=\"\",\"\",INDEX( メイン!$A$9:$M$108, メイン!$A43,9))","v":""},null,null,{"$f":"IF(ISERROR(VLOOKUP( メイン!J43,競技名一覧!$B$2:$C$87,2,0)),\"\",VLOOKUP( メイン!J43,競技名一覧!$B$2:$C$87,2,0))","v":""},{"$f":"IF(INDEX( メイン!$A$9:$M$108, メイン!$A43,11)=\"\",\"\",INDEX( メイン!$A$9:$M$108, メイン!$A43,11))","v":""},null,null,{"$f":"IF(ISERROR(VLOOKUP( メイン!L43,競技名一覧!$J$2:$K$5,2,0)),\"\",VLOOKUP( メイン!L43,競技名一覧!$J$2:$K$44,2,0))","v":""},{"$f":"IF(INDEX( メイン!$A$9:$M$108, メイン!$A43,13)=\"\",\"\",INDEX( メイン!$A$9:$M$108, メイン!$A43,13))","v":""}]
[36,{"$f":"VLOOKUP(メイン!B44,所属名!$C$2:$D$178,2,FALSE)","v":1},null,null,{"$f":"IF(INDEX( メイン!$A$9:$M$108, メイン!$A44,3)=\"\",\"\",INDEX( メイン!$A$9:$M$108, メイン!$A44,3))","v":""},{"$f":"IF(INDEX( メイン!$A$9:$M$108, メイン!$A44,4)=\"\",\"\",INDEX( メイン!$A$9:$M$108, メイン!$A44,4))","v":""},{"$f":"IF(INDEX( メイン!$A$9:$M$108, メイン!$A44,5)=\"\",\"\",INDEX( メイン!$A$9:$M$108, メイン!$A44,5))","v":""},null,{"$f":"IF(ISERROR(VLOOKUP( メイン!F44, 所属名!$F$2:$G$3,2,0)),\"\",VLOOKUP( メイン!F44, 所属名!$F$2:$G$3,2,0))","v":""},{"$f":"IF(INDEX( メイン!$A$9:$M$108, メイン!$A44,7)=\"\",\"\",INDEX( メイン!$A$9:$M$108, メイン!$A44,7))","v":""},null,null,null,null,{"$f":"IF(ISERROR(VLOOKUP( メイン!H44,競技名一覧!$B$2:$C$87,2,0)),\"\",VLOOKUP( メイン!H44,競技名一覧!$B$2:$C$87,2,0))","v":""},{"$f":"IF(INDEX( メイン!$A$9:$M$108, メイン!$A44,9)=\"\",\"\",INDEX( メイン!$A$9:$M$108, メイン!$A44,9))","v":""},null,null,{"$f":"IF(ISERROR(VLOOKUP( メイン!J44,競技名一覧!$B$2:$C$87,2,0)),\"\",VLOOKUP( メイン!J44,競技名一覧!$B$2:$C$87,2,0))","v":""},{"$f":"IF(INDEX( メイン!$A$9:$M$108, メイン!$A44,11)=\"\",\"\",INDEX( メイン!$A$9:$M$108, メイン!$A44,11))","v":""},null,null,{"$f":"IF(ISERROR(VLOOKUP( メイン!L44,競技名一覧!$J$2:$K$5,2,0)),\"\",VLOOKUP( メイン!L44,競技名一覧!$J$2:$K$44,2,0))","v":""},{"$f":"IF(INDEX( メイン!$A$9:$M$108, メイン!$A44,13)=\"\",\"\",INDEX( メイン!$A$9:$M$108, メイン!$A44,13))","v":""}]
[37,{"$f":"VLOOKUP(メイン!B45,所属名!$C$2:$D$178,2,FALSE)","v":1},null,null,{"$f":"IF(INDEX( メイン!$A$9:$M$108, メイン!$A45,3)=\"\",\"\",INDEX( メイン!$A$9:$M$108, メイン!$A45,3))","v":""},{"$f":"IF(INDEX( メイン!$A$9:$M$108, メイン!$A45,4)=\"\",\"\",INDEX( メイン!$A$9:$M$108, メイン!$A45,4))","v":""},{"$f":"IF(INDEX( メイン!$A$9:$M$108, メイン!$A45,5)=\"\",\"\",INDEX( メイン!$A$9:$M$108, メイン!$A45,5))","v":""},null,{"$f":"IF(ISERROR(VLOOKUP( メイン!F45, 所属名!$F$2:$G$3,2,0)),\"\",VLOOKUP( メイン!F45, 所属名!$F$2:$G$3,2,0))","v":""},{"$f":"IF(INDEX( メイン!$A$9:$M$108, メイン!$A45,7)=\"\",\"\",INDEX( メイン!$A$9:$M$108, メイン!$A45,7))","v":""},null,null,null,null,{"$f":"IF(ISERROR(VLOOKUP( メイン!H45,競技名一覧!$B$2:$C$87,2,0)),\"\",VLOOKUP( メイン!H45,競技名一覧!$B$2:$C$87,2,0))","v":""},{"$f":"IF(INDEX( メイン!$A$9:$M$108, メイン!$A45,9)=\"\",\"\",INDEX( メイン!$A$9:$M$108, メイン!$A45,9))","v":""},null,null,{"$f":"IF(ISERROR(VLOOKUP( メイン!J45,競技名一覧!$B$2:$C$87,2,0)),\"\",VLOOKUP( メイン!J45,競技名一覧!$B$2:$C$87,2,0))","v":""},{"$f":"IF(INDEX( メイン!$A$9:$M$108, メイン!$A45,11)=\"\",\"\",INDEX( メイン!$A$9:$M$108, メイン!$A45,11))","v":""},null,null,{"$f":"IF(ISERROR(VLOOKUP( メイン!L45,競技名一覧!$J$2:$K$5,2,0)),\"\",VLOOKUP( メイン!L45,競技名一覧!$J$2:$K$44,2,0))","v":""},{"$f":"IF(INDEX( メイン!$A$9:$M$108, メイン!$A45,13)=\"\",\"\",INDEX( メイン!$A$9:$M$108, メイン!$A45,13))","v":""}]
[38,{"$f":"VLOOKUP(メイン!B46,所属名!$C$2:$D$178,2,FALSE)","v":1},null,null,{"$f":"IF(INDEX( メイン!$A$9:$M$108, メイン!$A46,3)=\"\",\"\",INDEX( メイン!$A$9:$M$108, メイン!$A46,3))","v":""},{"$f":"IF(INDEX( メイン!$A$9:$M$108, メイン!$A46,4)=\"\",\"\",INDEX( メイン!$A$9:$M$108, メイン!$A46,4))","v":""},{"$f":"IF(INDEX( メイン!$A$9:$M$108, メイン!$A46,5)=\"\",\"\",INDEX( メイン!$A$9:$M$108, メイン!$A46,5))","v":""},null,{"$f":"IF(ISERROR(VLOOKUP( メイン!F46, 所属名!$F$2:$G$3,2,0)),\"\",VLOOKUP( メイン!F46, 所属名!$F$2:$G$3,2,0))","v":""},{"$f":"IF(INDEX( メイン!$A$9:$M$108, メイン!$A46,7)=\"\",\"\",INDEX( メイン!$A$9:$M$108, メイン!$A46,7))","v":""},null,null,null,null,{"$f":"IF(ISERROR(VLOOKUP( メイン!H46,競技名一覧!$B$2:$C$87,2,0)),\"\",VLOOKUP( メイン!H46,競技名一覧!$B$2:$C$87,2,0))","v":""},{"$f":"IF(INDEX( メイン!$A$9:$M$108, メイン!$A46,9)=\"\",\"\",INDEX( メイン!$A$9:$M$108, メイン!$A46,9))","v":""},null,null,{"$f":"IF(ISERROR(VLOOKUP( メイン!J46,競技名一覧!$B$2:$C$87,2,0)),\"\",VLOOKUP( メイン!J46,競技名一覧!$B$2:$C$87,2,0))","v":""},{"$f":"IF(INDEX( メイン!$A$9:$M$108, メイン!$A46,11)=\"\",\"\",INDEX( メイン!$A$9:$M$108, メイン!$A46,11))","v":""},null,null,{"$f":"IF(ISERROR(VLOOKUP( メイン!L46,競技名一覧!$J$2:$K$5,2,0)),\"\",VLOOKUP( メイン!L46,競技名一覧!$J$2:$K$44,2,0))","v":""},{"$f":"IF(INDEX( メイン!$A$9:$M$108, メイン!$A46,13)=\"\",\"\",INDEX( メイン!$A$9:$M$108, メイン!$A46,13))","v":""}]
[39,{"$f":"VLOOKUP(メイン!B47,所属名!$C$2:$D$178,2,FALSE)","v":1},null,null,{"$f":"IF(INDEX( メイン!$A$9:$M$108, メイン!$A47,3)=\"\",\"\",INDEX( メイン!$A$9:$M$108, メイン!$A47,3))","v":""},{"$f":"IF(INDEX( メイン!$A$9:$M$108, メイン!$A47,4)=\"\",\"\",INDEX( メイン!$A$9:$M$108, メイン!$A47,4))","v":""},{"$f":"IF(INDEX( メイン!$A$9:$M$108, メイン!$A47,5)=\"\",\"\",INDEX( メイン!$A$9:$M$108, メイン!$A47,5))","v":""},null,{"$f":"IF(ISERROR(VLOOKUP( メイン!F47, 所属名!$F$2:$G$3,2,0)),\"\",VLOOKUP( メイン!F47, 所属名!$F$2:$G$3,2,0))","v":""},{"$f":"IF(INDEX( メイン!$A$9:$M$108, メイン!$A47,7)=\"\",\"\",INDEX( メイン!$A$9:$M$108, メイン!$A47,7))","v":""},null,null,null,null,{"$f":"IF(ISERROR(VLOOKUP( メイン!H47,競技名一覧!$B$2:$C$87,2,0)),\"\",VLOOKUP( メイン!H47,競技名一覧!$B$2:$C$87,2,0))","v":""},{"$f":"IF(INDEX( メイン!$A$9:$M$108, メイン!$A47,9)=\"\",\"\",INDEX( メイン!$A$9:$M$108, メイン!$A47,9))","v":""},null,null,{"$f":"IF(ISERROR(VLOOKUP( メイン!J47,競技名一覧!$B$2:$C$87,2,0)),\"\",VLOOKUP( メイン!J47,競技名一覧!$B$2:$C$87,2,0))","v":""},{"$f":"IF(INDEX( メイン!$A$9:$M$108, メイン!$A47,11)=\"\",\"\",INDEX( メイン!$A$9:$M$108, メイン!$A47,11))","v":""},null,null,{"$f":"IF(ISERROR(VLOOKUP( メイン!L47,競技名一覧!$J$2:$K$5,2,0)),\"\",VLOOKUP( メイン!L47,競技名一覧!$J$2:$K$44,2,0))","v":""},{"$f":"IF(INDEX( メイン!$A$9:$M$108, メイン!$A47,13)=\"\",\"\",INDEX( メイン!$A$9:$M$108, メイン!$A47,13))","v":""}]
[40,{"$f":"VLOOKUP(メイン!B48,所属名!$C$2:$D$178,2,FALSE)","v":1},null,null,{"$f":"IF(INDEX( メイン!$A$9:$M$108, メイン!$A48,3)=\"\",\"\",INDEX( メイン!$A$9:$M$108, メイン!$A48,3))","v":""},{"$f":"IF(INDEX( メイン!$A$9:$M$108, メイン!$A48,4)=\"\",\"\",INDEX( メイン!$A$9:$M$108, メイン!$A48,4))","v":""},{"$f":"IF(INDEX( メイン!$A$9:$M$108, メイン!$A48,5)=\"\",\"\",INDEX( メイン!$A$9:$M$108, メイン!$A48,5))","v":""},null,{"$f":"IF(ISERROR(VLOOKUP( メイン!F48, 所属名!$F$2:$G$3,2,0)),\"\",VLOOKUP( メイン!F48, 所属名!$F$2:$G$3,2,0))","v":""},{"$f":"IF(INDEX( メイン!$A$9:$M$108, メイン!$A48,7)=\"\",\"\",INDEX( メイン!$A$9:$M$108, メイン!$A48,7))","v":""},null,null,null,null,{"$f":"IF(ISERROR(VLOOKUP( メイン!H48,競技名一覧!$B$2:$C$87,2,0)),\"\",VLOOKUP( メイン!H48,競技名一覧!$B$2:$C$87,2,0))","v":""},{"$f":"IF(INDEX( メイン!$A$9:$M$108, メイン!$A48,9)=\"\",\"\",INDEX( メイン!$A$9:$M$108, メイン!$A48,9))","v":""},null,null,{"$f":"IF(ISERROR(VLOOKUP( メイン!J48,競技名一覧!$B$2:$C$87,2,0)),\"\",VLOOKUP( メイン!J48,競技名一覧!$B$2:$C$87,2,0))","v":""},{"$f":"IF(INDEX( メイン!$A$9:$M$108, メイン!$A48,11)=\"\",\"\",INDEX( メイン!$A$9:$M$108, メイン!$A48,11))","v":""},null,null,{"$f":"IF(ISERROR(VLOOKUP( メイン!L48,競技名一覧!$J$2:$K$5,2,0)),\"\",VLOOKUP( メイン!L48,競技名一覧!$J$2:$K$44,2,0))","v":""},{"$f":"IF(INDEX( メイン!$A$9:$M$108, メイン!$A48,13)=\"\",\"\",INDEX( メイン!$A$9:$M$108, メイン!$A48,13))","v":""}]
[41,{"$f":"VLOOKUP(メイン!B49,所属名!$C$2:$D$178,2,FALSE)","v":1},null,null,{"$f":"IF(INDEX( メイン!$A$9:$M$108, メイン!$A49,3)=\"\",\"\",INDEX( メイン!$A$9:$M$108, メイン!$A49,3))","v":""},{"$f":"IF(INDEX( メイン!$A$9:$M$108, メイン!$A49,4)=\"\",\"\",INDEX( メイン!$A$9:$M$108, メイン!$A49,4))","v":""},{"$f":"IF(INDEX( メイン!$A$9:$M$108, メイン!$A49,5)=\"\",\"\",INDEX( メイン!$A$9:$M$108, メイン!$A49,5))","v":""},null,{"$f":"IF(ISERROR(VLOOKUP( メイン!F49, 所属名!$F$2:$G$3,2,0)),\"\",VLOOKUP( メイン!F49, 所属名!$F$2:$G$3,2,0))","v":""},{"$f":"IF(INDEX( メイン!$A$9:$M$108, メイン!$A49,7)=\"\",\"\",INDEX( メイン!$A$9:$M$108, メイン!$A49,7))","v":""},null,null,null,null,{"$f":"IF(ISERROR(VLOOKUP( メイン!H49,競技名一覧!$B$2:$C$87,2,0)),\"\",VLOOKUP( メイン!H49,競技名一覧!$B$2:$C$87,2,0))","v":""},{"$f":"IF(INDEX( メイン!$A$9:$M$108, メイン!$A49,9)=\"\",\"\",INDEX( メイン!$A$9:$M$108, メイン!$A49,9))","v":""},null,null,{"$f":"IF(ISERROR(VLOOKUP( メイン!J49,競技名一覧!$B$2:$C$87,2,0)),\"\",VLOOKUP( メイン!J49,競技名一覧!$B$2:$C$87,2,0))","v":""},{"$f":"IF(INDEX( メイン!$A$9:$M$108, メイン!$A49,11)=\"\",\"\",INDEX( メイン!$A$9:$M$108, メイン!$A49,11))","v":""},null,null,{"$f":"IF(ISERROR(VLOOKUP( メイン!L49,競技名一覧!$J$2:$K$5,2,0)),\"\",VLOOKUP( メイン!L49,競技名一覧!$J$2:$K$44,2,0))","v":""},{"$f":"IF(INDEX( メイン!$A$9:$M$108, メイン!$A49,13)=\"\",\"\",INDEX( メイン!$A$9:$M$108, メイン!$A49,13))","v":""}]
[42,{"$f":"VLOOKUP(メイン!B50,所属名!$C$2:$D$178,2,FALSE)","v":1},null,null,{"$f":"IF(INDEX( メイン!$A$9:$M$108, メイン!$A50,3)=\"\",\"\",INDEX( メイン!$A$9:$M$108, メイン!$A50,3))","v":""},{"$f":"IF(INDEX( メイン!$A$9:$M$108, メイン!$A50,4)=\"\",\"\",INDEX( メイン!$A$9:$M$108, メイン!$A50,4))","v":""},{"$f":"IF(INDEX( メイン!$A$9:$M$108, メイン!$A50,5)=\"\",\"\",INDEX( メイン!$A$9:$M$108, メイン!$A50,5))","v":""},null,{"$f":"IF(ISERROR(VLOOKUP( メイン!F50, 所属名!$F$2:$G$3,2,0)),\"\",VLOOKUP( メイン!F50, 所属名!$F$2:$G$3,2,0))","v":""},{"$f":"IF(INDEX( メイン!$A$9:$M$108, メイン!$A50,7)=\"\",\"\",INDEX( メイン!$A$9:$M$108, メイン!$A50,7))","v":""},null,null,null,null,{"$f":"IF(ISERROR(VLOOKUP( メイン!H50,競技名一覧!$B$2:$C$87,2,0)),\"\",VLOOKUP( メイン!H50,競技名一覧!$B$2:$C$87,2,0))","v":""},{"$f":"IF(INDEX( メイン!$A$9:$M$108, メイン!$A50,9)=\"\",\"\",INDEX( メイン!$A$9:$M$108, メイン!$A50,9))","v":""},null,null,{"$f":"IF(ISERROR(VLOOKUP( メイン!J50,競技名一覧!$B$2:$C$87,2,0)),\"\",VLOOKUP( メイン!J50,競技名一覧!$B$2:$C$87,2,0))","v":""},{"$f":"IF(INDEX( メイン!$A$9:$M$108, メイン!$A50,11)=\"\",\"\",INDEX( メイン!$A$9:$M$108, メイン!$A50,11))","v":""},null,null,{"$f":"IF(ISERROR(VLOOKUP( メイン!L50,競技名一覧!$J$2:$K$5,2,0)),\"\",VLOOKUP( メイン!L50,競技名一覧!$J$2:$K$44,2,0))","v":""},{"$f":"IF(INDEX( メイン!$A$9:$M$108, メイン!$A50,13)=\"\",\"\",INDEX( メイン!$A$9:$M$108, メイン!$A50,13))","v":""}]
[43,{"$f":"VLOOKUP(メイン!B51,所属名!$C$2:$D$178,2,FALSE)","v":1},null,null,{"$f":"IF(INDEX( メイン!$A$9:$M$108, メイン!$A51,3)=\"\",\"\",INDEX( メイン!$A$9:$M$108, メイン!$A51,3))","v":""},{"$f":"IF(INDEX( メイン!$A$9:$M$108, メイン!$A51,4)=\"\",\"\",INDEX( メイン!$A$9:$M$108, メイン!$A51,4))","v":""},{"$f":"IF(INDEX( メイン!$A$9:$M$108, メイン!$A51,5)=\"\",\"\",INDEX( メイン!$A$9:$M$108, メイン!$A51,5))","v":""},null,{"$f":"IF(ISERROR(VLOOKUP( メイン!F51, 所属名!$F$2:$G$3,2,0)),\"\",VLOOKUP( メイン!F51, 所属名!$F$2:$G$3,2,0))","v":""},{"$f":"IF(INDEX( メイン!$A$9:$M$108, メイン!$A51,7)=\"\",\"\",INDEX( メイン!$A$9:$M$108, メイン!$A51,7))","v":""},null,null,null,null,{"$f":"IF(ISERROR(VLOOKUP( メイン!H51,競技名一覧!$B$2:$C$87,2,0)),\"\",VLOOKUP( メイン!H51,競技名一覧!$B$2:$C$87,2,0))","v":""},{"$f":"IF(INDEX( メイン!$A$9:$M$108, メイン!$A51,9)=\"\",\"\",INDEX( メイン!$A$9:$M$108, メイン!$A51,9))","v":""},null,null,{"$f":"IF(ISERROR(VLOOKUP( メイン!J51,競技名一覧!$B$2:$C$87,2,0)),\"\",VLOOKUP( メイン!J51,競技名一覧!$B$2:$C$87,2,0))","v":""},{"$f":"IF(INDEX( メイン!$A$9:$M$108, メイン!$A51,11)=\"\",\"\",INDEX( メイン!$A$9:$M$108, メイン!$A51,11))","v":""},null,null,{"$f":"IF(ISERROR(VLOOKUP( メイン!L51,競技名一覧!$J$2:$K$5,2,0)),\"\",VLOOKUP( メイン!L51,競技名一覧!$J$2:$K$44,2,0))","v":""},{"$f":"IF(INDEX( メイン!$A$9:$M$108, メイン!$A51,13)=\"\",\"\",INDEX( メイン!$A$9:$M$108, メイン!$A51,13))","v":""}]
[44,{"$f":"VLOOKUP(メイン!B52,所属名!$C$2:$D$178,2,FALSE)","v":1},null,null,{"$f":"IF(INDEX( メイン!$A$9:$M$108, メイン!$A52,3)=\"\",\"\",INDEX( メイン!$A$9:$M$108, メイン!$A52,3))","v":""},{"$f":"IF(INDEX( メイン!$A$9:$M$108, メイン!$A52,4)=\"\",\"\",INDEX( メイン!$A$9:$M$108, メイン!$A52,4))","v":""},{"$f":"IF(INDEX( メイン!$A$9:$M$108, メイン!$A52,5)=\"\",\"\",INDEX( メイン!$A$9:$M$108, メイン!$A52,5))","v":""},null,{"$f":"IF(ISERROR(VLOOKUP( メイン!F52, 所属名!$F$2:$G$3,2,0)),\"\",VLOOKUP( メイン!F52, 所属名!$F$2:$G$3,2,0))","v":""},{"$f":"IF(INDEX( メイン!$A$9:$M$108, メイン!$A52,7)=\"\",\"\",INDEX( メイン!$A$9:$M$108, メイン!$A52,7))","v":""},null,null,null,null,{"$f":"IF(ISERROR(VLOOKUP( メイン!H52,競技名一覧!$B$2:$C$87,2,0)),\"\",VLOOKUP( メイン!H52,競技名一覧!$B$2:$C$87,2,0))","v":""},{"$f":"IF(INDEX( メイン!$A$9:$M$108, メイン!$A52,9)=\"\",\"\",INDEX( メイン!$A$9:$M$108, メイン!$A52,9))","v":""},null,null,{"$f":"IF(ISERROR(VLOOKUP( メイン!J52,競技名一覧!$B$2:$C$87,2,0)),\"\",VLOOKUP( メイン!J52,競技名一覧!$B$2:$C$87,2,0))","v":""},{"$f":"IF(INDEX( メイン!$A$9:$M$108, メイン!$A52,11)=\"\",\"\",INDEX( メイン!$A$9:$M$108, メイン!$A52,11))","v":""},null,null,{"$f":"IF(ISERROR(VLOOKUP( メイン!L52,競技名一覧!$J$2:$K$5,2,0)),\"\",VLOOKUP( メイン!L52,競技名一覧!$J$2:$K$44,2,0))","v":""},{"$f":"IF(INDEX( メイン!$A$9:$M$108, メイン!$A52,13)=\"\",\"\",INDEX( メイン!$A$9:$M$108, メイン!$A52,13))","v":""}]
[45,{"$f":"VLOOKUP(メイン!B53,所属名!$C$2:$D$178,2,FALSE)","v":1},null,null,{"$f":"IF(INDEX( メイン!$A$9:$M$108, メイン!$A53,3)=\"\",\"\",INDEX( メイン!$A$9:$M$108, メイン!$A53,3))","v":""},{"$f":"IF(INDEX( メイン!$A$9:$M$108, メイン!$A53,4)=\"\",\"\",INDEX( メイン!$A$9:$M$108, メイン!$A53,4))","v":""},{"$f":"IF(INDEX( メイン!$A$9:$M$108, メイン!$A53,5)=\"\",\"\",INDEX( メイン!$A$9:$M$108, メイン!$A53,5))","v":""},null,{"$f":"IF(ISERROR(VLOOKUP( メイン!F53, 所属名!$F$2:$G$3,2,0)),\"\",VLOOKUP( メイン!F53, 所属名!$F$2:$G$3,2,0))","v":""},{"$f":"IF(INDEX( メイン!$A$9:$M$108, メイン!$A53,7)=\"\",\"\",INDEX( メイン!$A$9:$M$108, メイン!$A53,7))","v":""},null,null,null,null,{"$f":"IF(ISERROR(VLOOKUP( メイン!H53,競技名一覧!$B$2:$C$87,2,0)),\"\",VLOOKUP( メイン!H53,競技名一覧!$B$2:$C$87,2,0))","v":""},{"$f":"IF(INDEX( メイン!$A$9:$M$108, メイン!$A53,9)=\"\",\"\",INDEX( メイン!$A$9:$M$108, メイン!$A53,9))","v":""},null,null,{"$f":"IF(ISERROR(VLOOKUP( メイン!J53,競技名一覧!$B$2:$C$87,2,0)),\"\",VLOOKUP( メイン!J53,競技名一覧!$B$2:$C$87,2,0))","v":""},{"$f":"IF(INDEX( メイン!$A$9:$M$108, メイン!$A53,11)=\"\",\"\",INDEX( メイン!$A$9:$M$108, メイン!$A53,11))","v":""},null,null,{"$f":"IF(ISERROR(VLOOKUP( メイン!L53,競技名一覧!$J$2:$K$5,2,0)),\"\",VLOOKUP( メイン!L53,競技名一覧!$J$2:$K$44,2,0))","v":""},{"$f":"IF(INDEX( メイン!$A$9:$M$108, メイン!$A53,13)=\"\",\"\",INDEX( メイン!$A$9:$M$108, メイン!$A53,13))","v":""}]
[46,{"$f":"VLOOKUP(メイン!B54,所属名!$C$2:$D$178,2,FALSE)","v":1},null,null,{"$f":"IF(INDEX( メイン!$A$9:$M$108, メイン!$A54,3)=\"\",\"\",INDEX( メイン!$A$9:$M$108, メイン!$A54,3))","v":""},{"$f":"IF(INDEX( メイン!$A$9:$M$108, メイン!$A54,4)=\"\",\"\",INDEX( メイン!$A$9:$M$108, メイン!$A54,4))","v":""},{"$f":"IF(INDEX( メイン!$A$9:$M$108, メイン!$A54,5)=\"\",\"\",INDEX( メイン!$A$9:$M$108, メイン!$A54,5))","v":""},null,{"$f":"IF(ISERROR(VLOOKUP( メイン!F54, 所属名!$F$2:$G$3,2,0)),\"\",VLOOKUP( メイン!F54, 所属名!$F$2:$G$3,2,0))","v":""},{"$f":"IF(INDEX( メイン!$A$9:$M$108, メイン!$A54,7)=\"\",\"\",INDEX( メイン!$A$9:$M$108, メイン!$A54,7))","v":""},null,null,null,null,{"$f":"IF(ISERROR(VLOOKUP( メイン!H54,競技名一覧!$B$2:$C$87,2,0)),\"\",VLOOKUP( メイン!H54,競技名一覧!$B$2:$C$87,2,0))","v":""},{"$f":"IF(INDEX( メイン!$A$9:$M$108, メイン!$A54,9)=\"\",\"\",INDEX( メイン!$A$9:$M$108, メイン!$A54,9))","v":""},null,null,{"$f":"IF(ISERROR(VLOOKUP( メイン!J54,競技名一覧!$B$2:$C$87,2,0)),\"\",VLOOKUP( メイン!J54,競技名一覧!$B$2:$C$87,2,0))","v":""},{"$f":"IF(INDEX( メイン!$A$9:$M$108, メイン!$A54,11)=\"\",\"\",INDEX( メイン!$A$9:$M$108, メイン!$A54,11))","v":""},null,null,{"$f":"IF(ISERROR(VLOOKUP( メイン!L54,競技名一覧!$J$2:$K$5,2,0)),\"\",VLOOKUP( メイン!L54,競技名一覧!$J$2:$K$44,2,0))","v":""},{"$f":"IF(INDEX( メイン!$A$9:$M$108, メイン!$A54,13)=\"\",\"\",INDEX( メイン!$A$9:$M$108, メイン!$A54,13))","v":""}]
[47,{"$f":"VLOOKUP(メイン!B55,所属名!$C$2:$D$178,2,FALSE)","v":1},null,null,{"$f":"IF(INDEX( メイン!$A$9:$M$108, メイン!$A55,3)=\"\",\"\",INDEX( メイン!$A$9:$M$108, メイン!$A55,3))","v":""},{"$f":"IF(INDEX( メイン!$A$9:$M$108, メイン!$A55,4)=\"\",\"\",INDEX( メイン!$A$9:$M$108, メイン!$A55,4))","v":""},{"$f":"IF(INDEX( メイン!$A$9:$M$108, メイン!$A55,5)=\"\",\"\",INDEX( メイン!$A$9:$M$108, メイン!$A55,5))","v":""},null,{"$f":"IF(ISERROR(VLOOKUP( メイン!F55, 所属名!$F$2:$G$3,2,0)),\"\",VLOOKUP( メイン!F55, 所属名!$F$2:$G$3,2,0))","v":""},{"$f":"IF(INDEX( メイン!$A$9:$M$108, メイン!$A55,7)=\"\",\"\",INDEX( メイン!$A$9:$M$108, メイン!$A55,7))","v":""},null,null,null,null,{"$f":"IF(ISERROR(VLOOKUP( メイン!H55,競技名一覧!$B$2:$C$87,2,0)),\"\",VLOOKUP( メイン!H55,競技名一覧!$B$2:$C$87,2,0))","v":""},{"$f":"IF(INDEX( メイン!$A$9:$M$108, メイン!$A55,9)=\"\",\"\",INDEX( メイン!$A$9:$M$108, メイン!$A55,9))","v":""},null,null,{"$f":"IF(ISERROR(VLOOKUP( メイン!J55,競技名一覧!$B$2:$C$87,2,0)),\"\",VLOOKUP( メイン!J55,競技名一覧!$B$2:$C$87,2,0))","v":""},{"$f":"IF(INDEX( メイン!$A$9:$M$108, メイン!$A55,11)=\"\",\"\",INDEX( メイン!$A$9:$M$108, メイン!$A55,11))","v":""},null,null,{"$f":"IF(ISERROR(VLOOKUP( メイン!L55,競技名一覧!$J$2:$K$5,2,0)),\"\",VLOOKUP( メイン!L55,競技名一覧!$J$2:$K$44,2,0))","v":""},{"$f":"IF(INDEX( メイン!$A$9:$M$108, メイン!$A55,13)=\"\",\"\",INDEX( メイン!$A$9:$M$108, メイン!$A55,13))","v":""}]
[48,{"$f":"VLOOKUP(メイン!B56,所属名!$C$2:$D$178,2,FALSE)","v":1},null,null,{"$f":"IF(INDEX( メイン!$A$9:$M$108, メイン!$A56,3)=\"\",\"\",INDEX( メイン!$A$9:$M$108, メイン!$A56,3))","v":""},{"$f":"IF(INDEX( メイン!$A$9:$M$108, メイン!$A56,4)=\"\",\"\",INDEX( メイン!$A$9:$M$108, メイン!$A56,4))","v":""},{"$f":"IF(INDEX( メイン!$A$9:$M$108, メイン!$A56,5)=\"\",\"\",INDEX( メイン!$A$9:$M$108, メイン!$A56,5))","v":""},null,{"$f":"IF(ISERROR(VLOOKUP( メイン!F56, 所属名!$F$2:$G$3,2,0)),\"\",VLOOKUP( メイン!F56, 所属名!$F$2:$G$3,2,0))","v":""},{"$f":"IF(INDEX( メイン!$A$9:$M$108, メイン!$A56,7)=\"\",\"\",INDEX( メイン!$A$9:$M$108, メイン!$A56,7))","v":""},null,null,null,null,{"$f":"IF(ISERROR(VLOOKUP( メイン!H56,競技名一覧!$B$2:$C$87,2,0)),\"\",VLOOKUP( メイン!H56,競技名一覧!$B$2:$C$87,2,0))","v":""},{"$f":"IF(INDEX( メイン!$A$9:$M$108, メイン!$A56,9)=\"\",\"\",INDEX( メイン!$A$9:$M$108, メイン!$A56,9))","v":""},null,null,{"$f":"IF(ISERROR(VLOOKUP( メイン!J56,競技名一覧!$B$2:$C$87,2,0)),\"\",VLOOKUP( メイン!J56,競技名一覧!$B$2:$C$87,2,0))","v":""},{"$f":"IF(INDEX( メイン!$A$9:$M$108, メイン!$A56,11)=\"\",\"\",INDEX( メイン!$A$9:$M$108, メイン!$A56,11))","v":""},null,null,{"$f":"IF(ISERROR(VLOOKUP( メイン!L56,競技名一覧!$J$2:$K$5,2,0)),\"\",VLOOKUP( メイン!L56,競技名一覧!$J$2:$K$44,2,0))","v":""},{"$f":"IF(INDEX( メイン!$A$9:$M$108, メイン!$A56,13)=\"\",\"\",INDEX( メイン!$A$9:$M$108, メイン!$A56,13))","v":""}]
[49,{"$f":"VLOOKUP(メイン!B57,所属名!$C$2:$D$178,2,FALSE)","v":1},null,null,{"$f":"IF(INDEX( メイン!$A$9:$M$108, メイン!$A57,3)=\"\",\"\",INDEX( メイン!$A$9:$M$108, メイン!$A57,3))","v":""},{"$f":"IF(INDEX( メイン!$A$9:$M$108, メイン!$A57,4)=\"\",\"\",INDEX( メイン!$A$9:$M$108, メイン!$A57,4))","v":""},{"$f":"IF(INDEX( メイン!$A$9:$M$108, メイン!$A57,5)=\"\",\"\",INDEX( メイン!$A$9:$M$108, メイン!$A57,5))","v":""},null,{"$f":"IF(ISERROR(VLOOKUP( メイン!F57, 所属名!$F$2:$G$3,2,0)),\"\",VLOOKUP( メイン!F57, 所属名!$F$2:$G$3,2,0))","v":""},{"$f":"IF(INDEX( メイン!$A$9:$M$108, メイン!$A57,7)=\"\",\"\",INDEX( メイン!$A$9:$M$108, メイン!$A57,7))","v":""},null,null,null,null,{"$f":"IF(ISERROR(VLOOKUP( メイン!H57,競技名一覧!$B$2:$C$87,2,0)),\"\",VLOOKUP( メイン!H57,競技名一覧!$B$2:$C$87,2,0))","v":""},{"$f":"IF(INDEX( メイン!$A$9:$M$108, メイン!$A57,9)=\"\",\"\",INDEX( メイン!$A$9:$M$108, メイン!$A57,9))","v":""},null,null,{"$f":"IF(ISERROR(VLOOKUP( メイン!J57,競技名一覧!$B$2:$C$87,2,0)),\"\",VLOOKUP( メイン!J57,競技名一覧!$B$2:$C$87,2,0))","v":""},{"$f":"IF(INDEX( メイン!$A$9:$M$108, メイン!$A57,11)=\"\",\"\",INDEX( メイン!$A$9:$M$108, メイン!$A57,11))","v":""},null,null,{"$f":"IF(ISERROR(VLOOKUP( メイン!L57,競技名一覧!$J$2:$K$5,2,0)),\"\",VLOOKUP( メイン!L57,競技名一覧!$J$2:$K$44,2,0))","v":""},{"$f":"IF(INDEX( メイン!$A$9:$M$108, メイン!$A57,13)=\"\",\"\",INDEX( メイン!$A$9:$M$108, メイン!$A57,13))","v":""}]
[50,{"$f":"VLOOKUP(メイン!B58,所属名!$C$2:$D$178,2,FALSE)","v":1},null,null,{"$f":"IF(INDEX( メイン!$A$9:$M$108, メイン!$A58,3)=\"\",\"\",INDEX( メイン!$A$9:$M$108, メイン!$A58,3))","v":""},{"$f":"IF(INDEX( メイン!$A$9:$M$108, メイン!$A58,4)=\"\",\"\",INDEX( メイン!$A$9:$M$108, メイン!$A58,4))","v":""},{"$f":"IF(INDEX( メイン!$A$9:$M$108, メイン!$A58,5)=\"\",\"\",INDEX( メイン!$A$9:$M$108, メイン!$A58,5))","v":""},null,{"$f":"IF(ISERROR(VLOOKUP( メイン!F58, 所属名!$F$2:$G$3,2,0)),\"\",VLOOKUP( メイン!F58, 所属名!$F$2:$G$3,2,0))","v":""},{"$f":"IF(INDEX( メイン!$A$9:$M$108, メイン!$A58,7)=\"\",\"\",INDEX( メイン!$A$9:$M$108, メイン!$A58,7))","v":""},null,null,null,null,{"$f":"IF(ISERROR(VLOOKUP( メイン!H58,競技名一覧!$B$2:$C$87,2,0)),\"\",VLOOKUP( メイン!H58,競技名一覧!$B$2:$C$87,2,0))","v":""},{"$f":"IF(INDEX( メイン!$A$9:$M$108, メイン!$A58,9)=\"\",\"\",INDEX( メイン!$A$9:$M$108, メイン!$A58,9))","v":""},null,null,{"$f":"IF(ISERROR(VLOOKUP( メイン!J58,競技名一覧!$B$2:$C$87,2,0)),\"\",VLOOKUP( メイン!J58,競技名一覧!$B$2:$C$87,2,0))","v":""},{"$f":"IF(INDEX( メイン!$A$9:$M$108, メイン!$A58,11)=\"\",\"\",INDEX( メイン!$A$9:$M$108, メイン!$A58,11))","v":""},null,null,{"$f":"IF(ISERROR(VLOOKUP( メイン!L58,競技名一覧!$J$2:$K$5,2,0)),\"\",VLOOKUP( メイン!L58,競技名一覧!$J$2:$K$44,2,0))","v":""},{"$f":"IF(INDEX( メイン!$A$9:$M$108, メイン!$A58,13)=\"\",\"\",INDEX( メイン!$A$9:$M$108, メイン!$A58,13))","v":""}]
[51,{"$f":"VLOOKUP(メイン!B59,所属名!$C$2:$D$178,2,FALSE)","v":1},null,null,{"$f":"IF(INDEX( メイン!$A$9:$M$108, メイン!$A59,3)=\"\",\"\",INDEX( メイン!$A$9:$M$108, メイン!$A59,3))","v":""},{"$f":"IF(INDEX( メイン!$A$9:$M$108, メイン!$A59,4)=\"\",\"\",INDEX( メイン!$A$9:$M$108, メイン!$A59,4))","v":""},{"$f":"IF(INDEX( メイン!$A$9:$M$108, メイン!$A59,5)=\"\",\"\",INDEX( メイン!$A$9:$M$108, メイン!$A59,5))","v":""},null,{"$f":"IF(ISERROR(VLOOKUP( メイン!F59, 所属名!$F$2:$G$3,2,0)),\"\",VLOOKUP( メイン!F59, 所属名!$F$2:$G$3,2,0))","v":""},{"$f":"IF(INDEX( メイン!$A$9:$M$108, メイン!$A59,7)=\"\",\"\",INDEX( メイン!$A$9:$M$108, メイン!$A59,7))","v":""},null,null,null,null,{"$f":"IF(ISERROR(VLOOKUP( メイン!H59,競技名一覧!$B$2:$C$87,2,0)),\"\",VLOOKUP( メイン!H59,競技名一覧!$B$2:$C$87,2,0))","v":""},{"$f":"IF(INDEX( メイン!$A$9:$M$108, メイン!$A59,9)=\"\",\"\",INDEX( メイン!$A$9:$M$108, メイン!$A59,9))","v":""},null,null,{"$f":"IF(ISERROR(VLOOKUP( メイン!J59,競技名一覧!$B$2:$C$87,2,0)),\"\",VLOOKUP( メイン!J59,競技名一覧!$B$2:$C$87,2,0))","v":""},{"$f":"IF(INDEX( メイン!$A$9:$M$108, メイン!$A59,11)=\"\",\"\",INDEX( メイン!$A$9:$M$108, メイン!$A59,11))","v":""},null,null,{"$f":"IF(ISERROR(VLOOKUP( メイン!L59,競技名一覧!$J$2:$K$5,2,0)),\"\",VLOOKUP( メイン!L59,競技名一覧!$J$2:$K$44,2,0))","v":""},{"$f":"IF(INDEX( メイン!$A$9:$M$108, メイン!$A59,13)=\"\",\"\",INDEX( メイン!$A$9:$M$108, メイン!$A59,13))","v":""}]
[52,{"$f":"VLOOKUP(メイン!B60,所属名!$C$2:$D$178,2,FALSE)","v":1},null,null,{"$f":"IF(INDEX( メイン!$A$9:$M$108, メイン!$A60,3)=\"\",\"\",INDEX( メイン!$A$9:$M$108, メイン!$A60,3))","v":""},{"$f":"IF(INDEX( メイン!$A$9:$M$108, メイン!$A60,4)=\"\",\"\",INDEX( メイン!$A$9:$M$108, メイン!$A60,4))","v":""},{"$f":"IF(INDEX( メイン!$A$9:$M$108, メイン!$A60,5)=\"\",\"\",INDEX( メイン!$A$9:$M$108, メイン!$A60,5))","v":""},null,{"$f":"IF(ISERROR(VLOOKUP( メイン!F60, 所属名!$F$2:$G$3,2,0)),\"\",VLOOKUP( メイン!F60, 所属名!$F$2:$G$3,2,0))","v":""},{"$f":"IF(INDEX( メイン!$A$9:$M$108, メイン!$A60,7)=\"\",\"\",INDEX( メイン!$A$9:$M$108, メイン!$A60,7))","v":""},null,null,null,null,{"$f":"IF(ISERROR(VLOOKUP( メイン!H60,競技名一覧!$B$2:$C$87,2,0)),\"\",VLOOKUP( メイン!H60,競技名一覧!$B$2:$C$87,2,0))","v":""},{"$f":"IF(INDEX( メイン!$A$9:$M$108, メイン!$A60,9)=\"\",\"\",INDEX( メイン!$A$9:$M$108, メイン!$A60,9))","v":""},null,null,{"$f":"IF(ISERROR(VLOOKUP( メイン!J60,競技名一覧!$B$2:$C$87,2,0)),\"\",VLOOKUP( メイン!J60,競技名一覧!$B$2:$C$87,2,0))","v":""},{"$f":"IF(INDEX( メイン!$A$9:$M$108, メイン!$A60,11)=\"\",\"\",INDEX( メイン!$A$9:$M$108, メイン!$A60,11))","v":""},null,null,{"$f":"IF(ISERROR(VLOOKUP( メイン!L60,競技名一覧!$J$2:$K$5,2,0)),\"\",VLOOKUP( メイン!L60,競技名一覧!$J$2:$K$44,2,0))","v":""},{"$f":"IF(INDEX( メイン!$A$9:$M$108, メイン!$A60,13)=\"\",\"\",INDEX( メイン!$A$9:$M$108, メイン!$A60,13))","v":""}]
[53,{"$f":"VLOOKUP(メイン!B61,所属名!$C$2:$D$178,2,FALSE)","v":1},null,null,{"$f":"IF(INDEX( メイン!$A$9:$M$108, メイン!$A61,3)=\"\",\"\",INDEX( メイン!$A$9:$M$108, メイン!$A61,3))","v":""},{"$f":"IF(INDEX( メイン!$A$9:$M$108, メイン!$A61,4)=\"\",\"\",INDEX( メイン!$A$9:$M$108, メイン!$A61,4))","v":""},{"$f":"IF(INDEX( メイン!$A$9:$M$108, メイン!$A61,5)=\"\",\"\",INDEX( メイン!$A$9:$M$108, メイン!$A61,5))","v":""},null,{"$f":"IF(ISERROR(VLOOKUP( メイン!F61, 所属名!$F$2:$G$3,2,0)),\"\",VLOOKUP( メイン!F61, 所属名!$F$2:$G$3,2,0))","v":""},{"$f":"IF(INDEX( メイン!$A$9:$M$108, メイン!$A61,7)=\"\",\"\",INDEX( メイン!$A$9:$M$108, メイン!$A61,7))","v":""},null,null,null,null,{"$f":"IF(ISERROR(VLOOKUP( メイン!H61,競技名一覧!$B$2:$C$87,2,0)),\"\",VLOOKUP( メイン!H61,競技名一覧!$B$2:$C$87,2,0))","v":""},{"$f":"IF(INDEX( メイン!$A$9:$M$108, メイン!$A61,9)=\"\",\"\",INDEX( メイン!$A$9:$M$108, メイン!$A61,9))","v":""},null,null,{"$f":"IF(ISERROR(VLOOKUP( メイン!J61,競技名一覧!$B$2:$C$87,2,0)),\"\",VLOOKUP( メイン!J61,競技名一覧!$B$2:$C$87,2,0))","v":""},{"$f":"IF(INDEX( メイン!$A$9:$M$108, メイン!$A61,11)=\"\",\"\",INDEX( メイン!$A$9:$M$108, メイン!$A61,11))","v":""},null,null,{"$f":"IF(ISERROR(VLOOKUP( メイン!L61,競技名一覧!$J$2:$K$5,2,0)),\"\",VLOOKUP( メイン!L61,競技名一覧!$J$2:$K$44,2,0))","v":""},{"$f":"IF(INDEX( メイン!$A$9:$M$108, メイン!$A61,13)=\"\",\"\",INDEX( メイン!$A$9:$M$108, メイン!$A61,13))","v":""}]
[54,{"$f":"VLOOKUP(メイン!B62,所属名!$C$2:$D$178,2,FALSE)","v":1},null,null,{"$f":"IF(INDEX( メイン!$A$9:$M$108, メイン!$A62,3)=\"\",\"\",INDEX( メイン!$A$9:$M$108, メイン!$A62,3))","v":""},{"$f":"IF(INDEX( メイン!$A$9:$M$108, メイン!$A62,4)=\"\",\"\",INDEX( メイン!$A$9:$M$108, メイン!$A62,4))","v":""},{"$f":"IF(INDEX( メイン!$A$9:$M$108, メイン!$A62,5)=\"\",\"\",INDEX( メイン!$A$9:$M$108, メイン!$A62,5))","v":""},null,{"$f":"IF(ISERROR(VLOOKUP( メイン!F62, 所属名!$F$2:$G$3,2,0)),\"\",VLOOKUP( メイン!F62, 所属名!$F$2:$G$3,2,0))","v":""},{"$f":"IF(INDEX( メイン!$A$9:$M$108, メイン!$A62,7)=\"\",\"\",INDEX( メイン!$A$9:$M$108, メイン!$A62,7))","v":""},null,null,null,null,{"$f":"IF(ISERROR(VLOOKUP( メイン!H62,競技名一覧!$B$2:$C$87,2,0)),\"\",VLOOKUP( メイン!H62,競技名一覧!$B$2:$C$87,2,0))","v":""},{"$f":"IF(INDEX( メイン!$A$9:$M$108, メイン!$A62,9)=\"\",\"\",INDEX( メイン!$A$9:$M$108, メイン!$A62,9))","v":""},null,null,{"$f":"IF(ISERROR(VLOOKUP( メイン!J62,競技名一覧!$B$2:$C$87,2,0)),\"\",VLOOKUP( メイン!J62,競技名一覧!$B$2:$C$87,2,0))","v":""},{"$f":"IF(INDEX( メイン!$A$9:$M$108, メイン!$A62,11)=\"\",\"\",INDEX( メイン!$A$9:$M$108, メイン!$A62,11))","v":""},null,null,{"$f":"IF(ISERROR(VLOOKUP( メイン!L62,競技名一覧!$J$2:$K$5,2,0)),\"\",VLOOKUP( メイン!L62,競技名一覧!$J$2:$K$44,2,0))","v":""},{"$f":"IF(INDEX( メイン!$A$9:$M$108, メイン!$A62,13)=\"\",\"\",INDEX( メイン!$A$9:$M$108, メイン!$A62,13))","v":""}]
[55,{"$f":"VLOOKUP(メイン!B63,所属名!$C$2:$D$178,2,FALSE)","v":1},null,null,{"$f":"IF(INDEX( メイン!$A$9:$M$108, メイン!$A63,3)=\"\",\"\",INDEX( メイン!$A$9:$M$108, メイン!$A63,3))","v":""},{"$f":"IF(INDEX( メイン!$A$9:$M$108, メイン!$A63,4)=\"\",\"\",INDEX( メイン!$A$9:$M$108, メイン!$A63,4))","v":""},{"$f":"IF(INDEX( メイン!$A$9:$M$108, メイン!$A63,5)=\"\",\"\",INDEX( メイン!$A$9:$M$108, メイン!$A63,5))","v":""},null,{"$f":"IF(ISERROR(VLOOKUP( メイン!F63, 所属名!$F$2:$G$3,2,0)),\"\",VLOOKUP( メイン!F63, 所属名!$F$2:$G$3,2,0))","v":""},{"$f":"IF(INDEX( メイン!$A$9:$M$108, メイン!$A63,7)=\"\",\"\",INDEX( メイン!$A$9:$M$108, メイン!$A63,7))","v":""},null,null,null,null,{"$f":"IF(ISERROR(VLOOKUP( メイン!H63,競技名一覧!$B$2:$C$87,2,0)),\"\",VLOOKUP( メイン!H63,競技名一覧!$B$2:$C$87,2,0))","v":""},{"$f":"IF(INDEX( メイン!$A$9:$M$108, メイン!$A63,9)=\"\",\"\",INDEX( メイン!$A$9:$M$108, メイン!$A63,9))","v":""},null,null,{"$f":"IF(ISERROR(VLOOKUP( メイン!J63,競技名一覧!$B$2:$C$87,2,0)),\"\",VLOOKUP( メイン!J63,競技名一覧!$B$2:$C$87,2,0))","v":""},{"$f":"IF(INDEX( メイン!$A$9:$M$108, メイン!$A63,11)=\"\",\"\",INDEX( メイン!$A$9:$M$108, メイン!$A63,11))","v":""},null,null,{"$f":"IF(ISERROR(VLOOKUP( メイン!L63,競技名一覧!$J$2:$K$5,2,0)),\"\",VLOOKUP( メイン!L63,競技名一覧!$J$2:$K$44,2,0))","v":""},{"$f":"IF(INDEX( メイン!$A$9:$M$108, メイン!$A63,13)=\"\",\"\",INDEX( メイン!$A$9:$M$108, メイン!$A63,13))","v":""}]
[56,{"$f":"VLOOKUP(メイン!B64,所属名!$C$2:$D$178,2,FALSE)","v":1},null,null,{"$f":"IF(INDEX( メイン!$A$9:$M$108, メイン!$A64,3)=\"\",\"\",INDEX( メイン!$A$9:$M$108, メイン!$A64,3))","v":""},{"$f":"IF(INDEX( メイン!$A$9:$M$108, メイン!$A64,4)=\"\",\"\",INDEX( メイン!$A$9:$M$108, メイン!$A64,4))","v":""},{"$f":"IF(INDEX( メイン!$A$9:$M$108, メイン!$A64,5)=\"\",\"\",INDEX( メイン!$A$9:$M$108, メイン!$A64,5))","v":""},null,{"$f":"IF(ISERROR(VLOOKUP( メイン!F64, 所属名!$F$2:$G$3,2,0)),\"\",VLOOKUP( メイン!F64, 所属名!$F$2:$G$3,2,0))","v":""},{"$f":"IF(INDEX( メイン!$A$9:$M$108, メイン!$A64,7)=\"\",\"\",INDEX( メイン!$A$9:$M$108, メイン!$A64,7))","v":""},null,null,null,null,{"$f":"IF(ISERROR(VLOOKUP( メイン!H64,競技名一覧!$B$2:$C$87,2,0)),\"\",VLOOKUP( メイン!H64,競技名一覧!$B$2:$C$87,2,0))","v":""},{"$f":"IF(INDEX( メイン!$A$9:$M$108, メイン!$A64,9)=\"\",\"\",INDEX( メイン!$A$9:$M$108, メイン!$A64,9))","v":""},null,null,{"$f":"IF(ISERROR(VLOOKUP( メイン!J64,競技名一覧!$B$2:$C$87,2,0)),\"\",VLOOKUP( メイン!J64,競技名一覧!$B$2:$C$87,2,0))","v":""},{"$f":"IF(INDEX( メイン!$A$9:$M$108, メイン!$A64,11)=\"\",\"\",INDEX( メイン!$A$9:$M$108, メイン!$A64,11))","v":""},null,null,{"$f":"IF(ISERROR(VLOOKUP( メイン!L64,競技名一覧!$J$2:$K$5,2,0)),\"\",VLOOKUP( メイン!L64,競技名一覧!$J$2:$K$44,2,0))","v":""},{"$f":"IF(INDEX( メイン!$A$9:$M$108, メイン!$A64,13)=\"\",\"\",INDEX( メイン!$A$9:$M$108, メイン!$A64,13))","v":""}]
[57,{"$f":"VLOOKUP(メイン!B65,所属名!$C$2:$D$178,2,FALSE)","v":1},null,null,{"$f":"IF(INDEX( メイン!$A$9:$M$108, メイン!$A65,3)=\"\",\"\",INDEX( メイン!$A$9:$M$108, メイン!$A65,3))","v":""},{"$f":"IF(INDEX( メイン!$A$9:$M$108, メイン!$A65,4)=\"\",\"\",INDEX( メイン!$A$9:$M$108, メイン!$A65,4))","v":""},{"$f":"IF(INDEX( メイン!$A$9:$M$108, メイン!$A65,5)=\"\",\"\",INDEX( メイン!$A$9:$M$108, メイン!$A65,5))","v":""},null,{"$f":"IF(ISERROR(VLOOKUP( メイン!F65, 所属名!$F$2:$G$3,2,0)),\"\",VLOOKUP( メイン!F65, 所属名!$F$2:$G$3,2,0))","v":""},{"$f":"IF(INDEX( メイン!$A$9:$M$108, メイン!$A65,7)=\"\",\"\",INDEX( メイン!$A$9:$M$108, メイン!$A65,7))","v":""},null,null,null,null,{"$f":"IF(ISERROR(VLOOKUP( メイン!H65,競技名一覧!$B$2:$C$87,2,0)),\"\",VLOOKUP( メイン!H65,競技名一覧!$B$2:$C$87,2,0))","v":""},{"$f":"IF(INDEX( メイン!$A$9:$M$108, メイン!$A65,9)=\"\",\"\",INDEX( メイン!$A$9:$M$108, メイン!$A65,9))","v":""},null,null,{"$f":"IF(ISERROR(VLOOKUP( メイン!J65,競技名一覧!$B$2:$C$87,2,0)),\"\",VLOOKUP( メイン!J65,競技名一覧!$B$2:$C$87,2,0))","v":""},{"$f":"IF(INDEX( メイン!$A$9:$M$108, メイン!$A65,11)=\"\",\"\",INDEX( メイン!$A$9:$M$108, メイン!$A65,11))","v":""},null,null,{"$f":"IF(ISERROR(VLOOKUP( メイン!L65,競技名一覧!$J$2:$K$5,2,0)),\"\",VLOOKUP( メイン!L65,競技名一覧!$J$2:$K$44,2,0))","v":""},{"$f":"IF(INDEX( メイン!$A$9:$M$108, メイン!$A65,13)=\"\",\"\",INDEX( メイン!$A$9:$M$108, メイン!$A65,13))","v":""}]
[58,{"$f":"VLOOKUP(メイン!B66,所属名!$C$2:$D$178,2,FALSE)","v":1},null,null,{"$f":"IF(INDEX( メイン!$A$9:$M$108, メイン!$A66,3)=\"\",\"\",INDEX( メイン!$A$9:$M$108, メイン!$A66,3))","v":""},{"$f":"IF(INDEX( メイン!$A$9:$M$108, メイン!$A66,4)=\"\",\"\",INDEX( メイン!$A$9:$M$108, メイン!$A66,4))","v":""},{"$f":"IF(INDEX( メイン!$A$9:$M$108, メイン!$A66,5)=\"\",\"\",INDEX( メイン!$A$9:$M$108, メイン!$A66,5))","v":""},null,{"$f":"IF(ISERROR(VLOOKUP( メイン!F66, 所属名!$F$2:$G$3,2,0)),\"\",VLOOKUP( メイン!F66, 所属名!$F$2:$G$3,2,0))","v":""},{"$f":"IF(INDEX( メイン!$A$9:$M$108, メイン!$A66,7)=\"\",\"\",INDEX( メイン!$A$9:$M$108, メイン!$A66,7))","v":""},null,null,null,null,{"$f":"IF(ISERROR(VLOOKUP( メイン!H66,競技名一覧!$B$2:$C$87,2,0)),\"\",VLOOKUP( メイン!H66,競技名一覧!$B$2:$C$87,2,0))","v":""},{"$f":"IF(INDEX( メイン!$A$9:$M$108, メイン!$A66,9)=\"\",\"\",INDEX( メイン!$A$9:$M$108, メイン!$A66,9))","v":""},null,null,{"$f":"IF(ISERROR(VLOOKUP( メイン!J66,競技名一覧!$B$2:$C$87,2,0)),\"\",VLOOKUP( メイン!J66,競技名一覧!$B$2:$C$87,2,0))","v":""},{"$f":"IF(INDEX( メイン!$A$9:$M$108, メイン!$A66,11)=\"\",\"\",INDEX( メイン!$A$9:$M$108, メイン!$A66,11))","v":""},null,null,{"$f":"IF(ISERROR(VLOOKUP( メイン!L66,競技名一覧!$J$2:$K$5,2,0)),\"\",VLOOKUP( メイン!L66,競技名一覧!$J$2:$K$44,2,0))","v":""},{"$f":"IF(INDEX( メイン!$A$9:$M$108, メイン!$A66,13)=\"\",\"\",INDEX( メイン!$A$9:$M$108, メイン!$A66,13))","v":""}]
[59,{"$f":"VLOOKUP(メイン!B67,所属名!$C$2:$D$178,2,FALSE)","v":1},null,null,{"$f":"IF(INDEX( メイン!$A$9:$M$108, メイン!$A67,3)=\"\",\"\",INDEX( メイン!$A$9:$M$108, メイン!$A67,3))","v":""},{"$f":"IF(INDEX( メイン!$A$9:$M$108, メイン!$A67,4)=\"\",\"\",INDEX( メイン!$A$9:$M$108, メイン!$A67,4))","v":""},{"$f":"IF(INDEX( メイン!$A$9:$M$108, メイン!$A67,5)=\"\",\"\",INDEX( メイン!$A$9:$M$108, メイン!$A67,5))","v":""},null,{"$f":"IF(ISERROR(VLOOKUP( メイン!F67, 所属名!$F$2:$G$3,2,0)),\"\",VLOOKUP( メイン!F67, 所属名!$F$2:$G$3,2,0))","v":""},{"$f":"IF(INDEX( メイン!$A$9:$M$108, メイン!$A67,7)=\"\",\"\",INDEX( メイン!$A$9:$M$108, メイン!$A67,7))","v":""},null,null,null,null,{"$f":"IF(ISERROR(VLOOKUP( メイン!H67,競技名一覧!$B$2:$C$87,2,0)),\"\",VLOOKUP( メイン!H67,競技名一覧!$B$2:$C$87,2,0))","v":""},{"$f":"IF(INDEX( メイン!$A$9:$M$108, メイン!$A67,9)=\"\",\"\",INDEX( メイン!$A$9:$M$108, メイン!$A67,9))","v":""},null,null,{"$f":"IF(ISERROR(VLOOKUP( メイン!J67,競技名一覧!$B$2:$C$87,2,0)),\"\",VLOOKUP( メイン!J67,競技名一覧!$B$2:$C$87,2,0))","v":""},{"$f":"IF(INDEX( メイン!$A$9:$M$108, メイン!$A67,11)=\"\",\"\",INDEX( メイン!$A$9:$M$108, メイン!$A67,11))","v":""},null,null,{"$f":"IF(ISERROR(VLOOKUP( メイン!L67,競技名一覧!$J$2:$K$5,2,0)),\"\",VLOOKUP( メイン!L67,競技名一覧!$J$2:$K$44,2,0))","v":""},{"$f":"IF(INDEX( メイン!$A$9:$M$108, メイン!$A67,13)=\"\",\"\",INDEX( メイン!$A$9:$M$108, メイン!$A67,13))","v":""}]
[60,{"$f":"VLOOKUP(メイン!B68,所属名!$C$2:$D$178,2,FALSE)","v":1},null,null,{"$f":"IF(INDEX( メイン!$A$9:$M$108, メイン!$A68,3)=\"\",\"\",INDEX( メイン!$A$9:$M$108, メイン!$A68,3))","v":""},{"$f":"IF(INDEX( メイン!$A$9:$M$108, メイン!$A68,4)=\"\",\"\",INDEX( メイン!$A$9:$M$108, メイン!$A68,4))","v":""},{"$f":"IF(INDEX( メイン!$A$9:$M$108, メイン!$A68,5)=\"\",\"\",INDEX( メイン!$A$9:$M$108, メイン!$A68,5))","v":""},null,{"$f":"IF(ISERROR(VLOOKUP( メイン!F68, 所属名!$F$2:$G$3,2,0)),\"\",VLOOKUP( メイン!F68, 所属名!$F$2:$G$3,2,0))","v":""},{"$f":"IF(INDEX( メイン!$A$9:$M$108, メイン!$A68,7)=\"\",\"\",INDEX( メイン!$A$9:$M$108, メイン!$A68,7))","v":""},null,null,null,null,{"$f":"IF(ISERROR(VLOOKUP( メイン!H68,競技名一覧!$B$2:$C$87,2,0)),\"\",VLOOKUP( メイン!H68,競技名一覧!$B$2:$C$87,2,0))","v":""},{"$f":"IF(INDEX( メイン!$A$9:$M$108, メイン!$A68,9)=\"\",\"\",INDEX( メイン!$A$9:$M$108, メイン!$A68,9))","v":""},null,null,{"$f":"IF(ISERROR(VLOOKUP( メイン!J68,競技名一覧!$B$2:$C$87,2,0)),\"\",VLOOKUP( メイン!J68,競技名一覧!$B$2:$C$87,2,0))","v":""},{"$f":"IF(INDEX( メイン!$A$9:$M$108, メイン!$A68,11)=\"\",\"\",INDEX( メイン!$A$9:$M$108, メイン!$A68,11))","v":""},null,null,{"$f":"IF(ISERROR(VLOOKUP( メイン!L68,競技名一覧!$J$2:$K$5,2,0)),\"\",VLOOKUP( メイン!L68,競技名一覧!$J$2:$K$44,2,0))","v":""},{"$f":"IF(INDEX( メイン!$A$9:$M$108, メイン!$A68,13)=\"\",\"\",INDEX( メイン!$A$9:$M$108, メイン!$A68,13))","v":""}]
[61,{"$f":"VLOOKUP(メイン!B69,所属名!$C$2:$D$178,2,FALSE)","v":1},null,null,{"$f":"IF(INDEX( メイン!$A$9:$M$108, メイン!$A69,3)=\"\",\"\",INDEX( メイン!$A$9:$M$108, メイン!$A69,3))","v":""},{"$f":"IF(INDEX( メイン!$A$9:$M$108, メイン!$A69,4)=\"\",\"\",INDEX( メイン!$A$9:$M$108, メイン!$A69,4))","v":""},{"$f":"IF(INDEX( メイン!$A$9:$M$108, メイン!$A69,5)=\"\",\"\",INDEX( メイン!$A$9:$M$108, メイン!$A69,5))","v":""},null,{"$f":"IF(ISERROR(VLOOKUP( メイン!F69, 所属名!$F$2:$G$3,2,0)),\"\",VLOOKUP( メイン!F69, 所属名!$F$2:$G$3,2,0))","v":""},{"$f":"IF(INDEX( メイン!$A$9:$M$108, メイン!$A69,7)=\"\",\"\",INDEX( メイン!$A$9:$M$108, メイン!$A69,7))","v":""},null,null,null,null,{"$f":"IF(ISERROR(VLOOKUP( メイン!H69,競技名一覧!$B$2:$C$87,2,0)),\"\",VLOOKUP( メイン!H69,競技名一覧!$B$2:$C$87,2,0))","v":""},{"$f":"IF(INDEX( メイン!$A$9:$M$108, メイン!$A69,9)=\"\",\"\",INDEX( メイン!$A$9:$M$108, メイン!$A69,9))","v":""},null,null,{"$f":"IF(ISERROR(VLOOKUP( メイン!J69,競技名一覧!$B$2:$C$87,2,0)),\"\",VLOOKUP( メイン!J69,競技名一覧!$B$2:$C$87,2,0))","v":""},{"$f":"IF(INDEX( メイン!$A$9:$M$108, メイン!$A69,11)=\"\",\"\",INDEX( メイン!$A$9:$M$108, メイン!$A69,11))","v":""},null,null,{"$f":"IF(ISERROR(VLOOKUP( メイン!L69,競技名一覧!$J$2:$K$5,2,0)),\"\",VLOOKUP( メイン!L69,競技名一覧!$J$2:$K$44,2,0))","v":""},{"$f":"IF(INDEX( メイン!$A$9:$M$108, メイン!$A69,13)=\"\",\"\",INDEX( メイン!$A$9:$M$108, メイン!$A69,13))","v":""}]
[62,{"$f":"VLOOKUP(メイン!B70,所属名!$C$2:$D$178,2,FALSE)","v":1},null,null,{"$f":"IF(INDEX( メイン!$A$9:$M$108, メイン!$A70,3)=\"\",\"\",INDEX( メイン!$A$9:$M$108, メイン!$A70,3))","v":""},{"$f":"IF(INDEX( メイン!$A$9:$M$108, メイン!$A70,4)=\"\",\"\",INDEX( メイン!$A$9:$M$108, メイン!$A70,4))","v":""},{"$f":"IF(INDEX( メイン!$A$9:$M$108, メイン!$A70,5)=\"\",\"\",INDEX( メイン!$A$9:$M$108, メイン!$A70,5))","v":""},null,{"$f":"IF(ISERROR(VLOOKUP( メイン!F70, 所属名!$F$2:$G$3,2,0)),\"\",VLOOKUP( メイン!F70, 所属名!$F$2:$G$3,2,0))","v":""},{"$f":"IF(INDEX( メイン!$A$9:$M$108, メイン!$A70,7)=\"\",\"\",INDEX( メイン!$A$9:$M$108, メイン!$A70,7))","v":""},null,null,null,null,{"$f":"IF(ISERROR(VLOOKUP( メイン!H70,競技名一覧!$B$2:$C$87,2,0)),\"\",VLOOKUP( メイン!H70,競技名一覧!$B$2:$C$87,2,0))","v":""},{"$f":"IF(INDEX( メイン!$A$9:$M$108, メイン!$A70,9)=\"\",\"\",INDEX( メイン!$A$9:$M$108, メイン!$A70,9))","v":""},null,null,{"$f":"IF(ISERROR(VLOOKUP( メイン!J70,競技名一覧!$B$2:$C$87,2,0)),\"\",VLOOKUP( メイン!J70,競技名一覧!$B$2:$C$87,2,0))","v":""},{"$f":"IF(INDEX( メイン!$A$9:$M$108, メイン!$A70,11)=\"\",\"\",INDEX( メイン!$A$9:$M$108, メイン!$A70,11))","v":""},null,null,{"$f":"IF(ISERROR(VLOOKUP( メイン!L70,競技名一覧!$J$2:$K$5,2,0)),\"\",VLOOKUP( メイン!L70,競技名一覧!$J$2:$K$44,2,0))","v":""},{"$f":"IF(INDEX( メイン!$A$9:$M$108, メイン!$A70,13)=\"\",\"\",INDEX( メイン!$A$9:$M$108, メイン!$A70,13))","v":""}]
[63,{"$f":"VLOOKUP(メイン!B71,所属名!$C$2:$D$178,2,FALSE)","v":1},null,null,{"$f":"IF(INDEX( メイン!$A$9:$M$108, メイン!$A71,3)=\"\",\"\",INDEX( メイン!$A$9:$M$108, メイン!$A71,3))","v":""},{"$f":"IF(INDEX( メイン!$A$9:$M$108, メイン!$A71,4)=\"\",\"\",INDEX( メイン!$A$9:$M$108, メイン!$A71,4))","v":""},{"$f":"IF(INDEX( メイン!$A$9:$M$108, メイン!$A71,5)=\"\",\"\",INDEX( メイン!$A$9:$M$108, メイン!$A71,5))","v":""},null,{"$f":"IF(ISERROR(VLOOKUP( メイン!F71, 所属名!$F$2:$G$3,2,0)),\"\",VLOOKUP( メイン!F71, 所属名!$F$2:$G$3,2,0))","v":""},{"$f":"IF(INDEX( メイン!$A$9:$M$108, メイン!$A71,7)=\"\",\"\",INDEX( メイン!$A$9:$M$108, メイン!$A71,7))","v":""},null,null,null,null,{"$f":"IF(ISERROR(VLOOKUP( メイン!H71,競技名一覧!$B$2:$C$87,2,0)),\"\",VLOOKUP( メイン!H71,競技名一覧!$B$2:$C$87,2,0))","v":""},{"$f":"IF(INDEX( メイン!$A$9:$M$108, メイン!$A71,9)=\"\",\"\",INDEX( メイン!$A$9:$M$108, メイン!$A71,9))","v":""},null,null,{"$f":"IF(ISERROR(VLOOKUP( メイン!J71,競技名一覧!$B$2:$C$87,2,0)),\"\",VLOOKUP( メイン!J71,競技名一覧!$B$2:$C$87,2,0))","v":""},{"$f":"IF(INDEX( メイン!$A$9:$M$108, メイン!$A71,11)=\"\",\"\",INDEX( メイン!$A$9:$M$108, メイン!$A71,11))","v":""},null,null,{"$f":"IF(ISERROR(VLOOKUP( メイン!L71,競技名一覧!$J$2:$K$5,2,0)),\"\",VLOOKUP( メイン!L71,競技名一覧!$J$2:$K$44,2,0))","v":""},{"$f":"IF(INDEX( メイン!$A$9:$M$108, メイン!$A71,13)=\"\",\"\",INDEX( メイン!$A$9:$M$108, メイン!$A71,13))","v":""}]
[64,{"$f":"VLOOKUP(メイン!B72,所属名!$C$2:$D$178,2,FALSE)","v":1},null,null,{"$f":"IF(INDEX( メイン!$A$9:$M$108, メイン!$A72,3)=\"\",\"\",INDEX( メイン!$A$9:$M$108, メイン!$A72,3))","v":""},{"$f":"IF(INDEX( メイン!$A$9:$M$108, メイン!$A72,4)=\"\",\"\",INDEX( メイン!$A$9:$M$108, メイン!$A72,4))","v":""},{"$f":"IF(INDEX( メイン!$A$9:$M$108, メイン!$A72,5)=\"\",\"\",INDEX( メイン!$A$9:$M$108, メイン!$A72,5))","v":""},null,{"$f":"IF(ISERROR(VLOOKUP( メイン!F72, 所属名!$F$2:$G$3,2,0)),\"\",VLOOKUP( メイン!F72, 所属名!$F$2:$G$3,2,0))","v":""},{"$f":"IF(INDEX( メイン!$A$9:$M$108, メイン!$A72,7)=\"\",\"\",INDEX( メイン!$A$9:$M$108, メイン!$A72,7))","v":""},null,null,null,null,{"$f":"IF(ISERROR(VLOOKUP( メイン!H72,競技名一覧!$B$2:$C$87,2,0)),\"\",VLOOKUP( メイン!H72,競技名一覧!$B$2:$C$87,2,0))","v":""},{"$f":"IF(INDEX( メイン!$A$9:$M$108, メイン!$A72,9)=\"\",\"\",INDEX( メイン!$A$9:$M$108, メイン!$A72,9))","v":""},null,null,{"$f":"IF(ISERROR(VLOOKUP( メイン!J72,競技名一覧!$B$2:$C$87,2,0)),\"\",VLOOKUP( メイン!J72,競技名一覧!$B$2:$C$87,2,0))","v":""},{"$f":"IF(INDEX( メイン!$A$9:$M$108, メイン!$A72,11)=\"\",\"\",INDEX( メイン!$A$9:$M$108, メイン!$A72,11))","v":""},null,null,{"$f":"IF(ISERROR(VLOOKUP( メイン!L72,競技名一覧!$J$2:$K$5,2,0)),\"\",VLOOKUP( メイン!L72,競技名一覧!$J$2:$K$44,2,0))","v":""},{"$f":"IF(INDEX( メイン!$A$9:$M$108, メイン!$A72,13)=\"\",\"\",INDEX( メイン!$A$9:$M$108, メイン!$A72,13))","v":""}]
[65,{"$f":"VLOOKUP(メイン!B73,所属名!$C$2:$D$178,2,FALSE)","v":1},null,null,{"$f":"IF(INDEX( メイン!$A$9:$M$108, メイン!$A73,3)=\"\",\"\",INDEX( メイン!$A$9:$M$108, メイン!$A73,3))","v":""},{"$f":"IF(INDEX( メイン!$A$9:$M$108, メイン!$A73,4)=\"\",\"\",INDEX( メイン!$A$9:$M$108, メイン!$A73,4))","v":""},{"$f":"IF(INDEX( メイン!$A$9:$M$108, メイン!$A73,5)=\"\",\"\",INDEX( メイン!$A$9:$M$108, メイン!$A73,5))","v":""},null,{"$f":"IF(ISERROR(VLOOKUP( メイン!F73, 所属名!$F$2:$G$3,2,0)),\"\",VLOOKUP( メイン!F73, 所属名!$F$2:$G$3,2,0))","v":""},{"$f":"IF(INDEX( メイン!$A$9:$M$108, メイン!$A73,7)=\"\",\"\",INDEX( メイン!$A$9:$M$108, メイン!$A73,7))","v":""},null,null,null,null,{"$f":"IF(ISERROR(VLOOKUP( メイン!H73,競技名一覧!$B$2:$C$87,2,0)),\"\",VLOOKUP( メイン!H73,競技名一覧!$B$2:$C$87,2,0))","v":""},{"$f":"IF(INDEX( メイン!$A$9:$M$108, メイン!$A73,9)=\"\",\"\",INDEX( メイン!$A$9:$M$108, メイン!$A73,9))","v":""},null,null,{"$f":"IF(ISERROR(VLOOKUP( メイン!J73,競技名一覧!$B$2:$C$87,2,0)),\"\",VLOOKUP( メイン!J73,競技名一覧!$B$2:$C$87,2,0))","v":""},{"$f":"IF(INDEX( メイン!$A$9:$M$108, メイン!$A73,11)=\"\",\"\",INDEX( メイン!$A$9:$M$108, メイン!$A73,11))","v":""},null,null,{"$f":"IF(ISERROR(VLOOKUP( メイン!L73,競技名一覧!$J$2:$K$5,2,0)),\"\",VLOOKUP( メイン!L73,競技名一覧!$J$2:$K$44,2,0))","v":""},{"$f":"IF(INDEX( メイン!$A$9:$M$108, メイン!$A73,13)=\"\",\"\",INDEX( メイン!$A$9:$M$108, メイン!$A73,13))","v":""}]
[66,{"$f":"VLOOKUP(メイン!B74,所属名!$C$2:$D$178,2,FALSE)","v":1},null,null,{"$f":"IF(INDEX( メイン!$A$9:$M$108, メイン!$A74,3)=\"\",\"\",INDEX( メイン!$A$9:$M$108, メイン!$A74,3))","v":""},{"$f":"IF(INDEX( メイン!$A$9:$M$108, メイン!$A74,4)=\"\",\"\",INDEX( メイン!$A$9:$M$108, メイン!$A74,4))","v":""},{"$f":"IF(INDEX( メイン!$A$9:$M$108, メイン!$A74,5)=\"\",\"\",INDEX( メイン!$A$9:$M$108, メイン!$A74,5))","v":""},null,{"$f":"IF(ISERROR(VLOOKUP( メイン!F74, 所属名!$F$2:$G$3,2,0)),\"\",VLOOKUP( メイン!F74, 所属名!$F$2:$G$3,2,0))","v":""},{"$f":"IF(INDEX( メイン!$A$9:$M$108, メイン!$A74,7)=\"\",\"\",INDEX( メイン!$A$9:$M$108, メイン!$A74,7))","v":""},null,null,null,null,{"$f":"IF(ISERROR(VLOOKUP( メイン!H74,競技名一覧!$B$2:$C$87,2,0)),\"\",VLOOKUP( メイン!H74,競技名一覧!$B$2:$C$87,2,0))","v":""},{"$f":"IF(INDEX( メイン!$A$9:$M$108, メイン!$A74,9)=\"\",\"\",INDEX( メイン!$A$9:$M$108, メイン!$A74,9))","v":""},null,null,{"$f":"IF(ISERROR(VLOOKUP( メイン!J74,競技名一覧!$B$2:$C$87,2,0)),\"\",VLOOKUP( メイン!J74,競技名一覧!$B$2:$C$87,2,0))","v":""},{"$f":"IF(INDEX( メイン!$A$9:$M$108, メイン!$A74,11)=\"\",\"\",INDEX( メイン!$A$9:$M$108, メイン!$A74,11))","v":""},null,null,{"$f":"IF(ISERROR(VLOOKUP( メイン!L74,競技名一覧!$J$2:$K$5,2,0)),\"\",VLOOKUP( メイン!L74,競技名一覧!$J$2:$K$44,2,0))","v":""},{"$f":"IF(INDEX( メイン!$A$9:$M$108, メイン!$A74,13)=\"\",\"\",INDEX( メイン!$A$9:$M$108, メイン!$A74,13))","v":""}]
[67,{"$f":"VLOOKUP(メイン!B75,所属名!$C$2:$D$178,2,FALSE)","v":1},null,null,{"$f":"IF(INDEX( メイン!$A$9:$M$108, メイン!$A75,3)=\"\",\"\",INDEX( メイン!$A$9:$M$108, メイン!$A75,3))","v":""},{"$f":"IF(INDEX( メイン!$A$9:$M$108, メイン!$A75,4)=\"\",\"\",INDEX( メイン!$A$9:$M$108, メイン!$A75,4))","v":""},{"$f":"IF(INDEX( メイン!$A$9:$M$108, メイン!$A75,5)=\"\",\"\",INDEX( メイン!$A$9:$M$108, メイン!$A75,5))","v":""},null,{"$f":"IF(ISERROR(VLOOKUP( メイン!F75, 所属名!$F$2:$G$3,2,0)),\"\",VLOOKUP( メイン!F75, 所属名!$F$2:$G$3,2,0))","v":""},{"$f":"IF(INDEX( メイン!$A$9:$M$108, メイン!$A75,7)=\"\",\"\",INDEX( メイン!$A$9:$M$108, メイン!$A75,7))","v":""},null,null,null,null,{"$f":"IF(ISERROR(VLOOKUP( メイン!H75,競技名一覧!$B$2:$C$87,2,0)),\"\",VLOOKUP( メイン!H75,競技名一覧!$B$2:$C$87,2,0))","v":""},{"$f":"IF(INDEX( メイン!$A$9:$M$108, メイン!$A75,9)=\"\",\"\",INDEX( メイン!$A$9:$M$108, メイン!$A75,9))","v":""},null,null,{"$f":"IF(ISERROR(VLOOKUP( メイン!J75,競技名一覧!$B$2:$C$87,2,0)),\"\",VLOOKUP( メイン!J75,競技名一覧!$B$2:$C$87,2,0))","v":""},{"$f":"IF(INDEX( メイン!$A$9:$M$108, メイン!$A75,11)=\"\",\"\",INDEX( メイン!$A$9:$M$108, メイン!$A75,11))","v":""},null,null,{"$f":"IF(ISERROR(VLOOKUP( メイン!L75,競技名一覧!$J$2:$K$5,2,0)),\"\",VLOOKUP( メイン!L75,競技名一覧!$J$2:$K$44,2,0))","v":""},{"$f":"IF(INDEX( メイン!$A$9:$M$108, メイン!$A75,13)=\"\",\"\",INDEX( メイン!$A$9:$M$108, メイン!$A75,13))","v":""}]
[68,{"$f":"VLOOKUP(メイン!B76,所属名!$C$2:$D$178,2,FALSE)","v":1},null,null,{"$f":"IF(INDEX( メイン!$A$9:$M$108, メイン!$A76,3)=\"\",\"\",INDEX( メイン!$A$9:$M$108, メイン!$A76,3))","v":""},{"$f":"IF(INDEX( メイン!$A$9:$M$108, メイン!$A76,4)=\"\",\"\",INDEX( メイン!$A$9:$M$108, メイン!$A76,4))","v":""},{"$f":"IF(INDEX( メイン!$A$9:$M$108, メイン!$A76,5)=\"\",\"\",INDEX( メイン!$A$9:$M$108, メイン!$A76,5))","v":""},null,{"$f":"IF(ISERROR(VLOOKUP( メイン!F76, 所属名!$F$2:$G$3,2,0)),\"\",VLOOKUP( メイン!F76, 所属名!$F$2:$G$3,2,0))","v":""},{"$f":"IF(INDEX( メイン!$A$9:$M$108, メイン!$A76,7)=\"\",\"\",INDEX( メイン!$A$9:$M$108, メイン!$A76,7))","v":""},null,null,null,null,{"$f":"IF(ISERROR(VLOOKUP( メイン!H76,競技名一覧!$B$2:$C$87,2,0)),\"\",VLOOKUP( メイン!H76,競技名一覧!$B$2:$C$87,2,0))","v":""},{"$f":"IF(INDEX( メイン!$A$9:$M$108, メイン!$A76,9)=\"\",\"\",INDEX( メイン!$A$9:$M$108, メイン!$A76,9))","v":""},null,null,{"$f":"IF(ISERROR(VLOOKUP( メイン!J76,競技名一覧!$B$2:$C$87,2,0)),\"\",VLOOKUP( メイン!J76,競技名一覧!$B$2:$C$87,2,0))","v":""},{"$f":"IF(INDEX( メイン!$A$9:$M$108, メイン!$A76,11)=\"\",\"\",INDEX( メイン!$A$9:$M$108, メイン!$A76,11))","v":""},null,null,{"$f":"IF(ISERROR(VLOOKUP( メイン!L76,競技名一覧!$J$2:$K$5,2,0)),\"\",VLOOKUP( メイン!L76,競技名一覧!$J$2:$K$44,2,0))","v":""},{"$f":"IF(INDEX( メイン!$A$9:$M$108, メイン!$A76,13)=\"\",\"\",INDEX( メイン!$A$9:$M$108, メイン!$A76,13))","v":""}]
[69,{"$f":"VLOOKUP(メイン!B77,所属名!$C$2:$D$178,2,FALSE)","v":1},null,null,{"$f":"IF(INDEX( メイン!$A$9:$M$108, メイン!$A77,3)=\"\",\"\",INDEX( メイン!$A$9:$M$108, メイン!$A77,3))","v":""},{"$f":"IF(INDEX( メイン!$A$9:$M$108, メイン!$A77,4)=\"\",\"\",INDEX( メイン!$A$9:$M$108, メイン!$A77,4))","v":""},{"$f":"IF(INDEX( メイン!$A$9:$M$108, メイン!$A77,5)=\"\",\"\",INDEX( メイン!$A$9:$M$108, メイン!$A77,5))","v":""},null,{"$f":"IF(ISERROR(VLOOKUP( メイン!F77, 所属名!$F$2:$G$3,2,0)),\"\",VLOOKUP( メイン!F77, 所属名!$F$2:$G$3,2,0))","v":""},{"$f":"IF(INDEX( メイン!$A$9:$M$108, メイン!$A77,7)=\"\",\"\",INDEX( メイン!$A$9:$M$108, メイン!$A77,7))","v":""},null,null,null,null,{"$f":"IF(ISERROR(VLOOKUP( メイン!H77,競技名一覧!$B$2:$C$87,2,0)),\"\",VLOOKUP( メイン!H77,競技名一覧!$B$2:$C$87,2,0))","v":""},{"$f":"IF(INDEX( メイン!$A$9:$M$108, メイン!$A77,9)=\"\",\"\",INDEX( メイン!$A$9:$M$108, メイン!$A77,9))","v":""},null,null,{"$f":"IF(ISERROR(VLOOKUP( メイン!J77,競技名一覧!$B$2:$C$87,2,0)),\"\",VLOOKUP( メイン!J77,競技名一覧!$B$2:$C$87,2,0))","v":""},{"$f":"IF(INDEX( メイン!$A$9:$M$108, メイン!$A77,11)=\"\",\"\",INDEX( メイン!$A$9:$M$108, メイン!$A77,11))","v":""},null,null,{"$f":"IF(ISERROR(VLOOKUP( メイン!L77,競技名一覧!$J$2:$K$5,2,0)),\"\",VLOOKUP( メイン!L77,競技名一覧!$J$2:$K$44,2,0))","v":""},{"$f":"IF(INDEX( メイン!$A$9:$M$108, メイン!$A77,13)=\"\",\"\",INDEX( メイン!$A$9:$M$108, メイン!$A77,13))","v":""}]
[70,{"$f":"VLOOKUP(メイン!B78,所属名!$C$2:$D$178,2,FALSE)","v":1},null,null,{"$f":"IF(INDEX( メイン!$A$9:$M$108, メイン!$A78,3)=\"\",\"\",INDEX( メイン!$A$9:$M$108, メイン!$A78,3))","v":""},{"$f":"IF(INDEX( メイン!$A$9:$M$108, メイン!$A78,4)=\"\",\"\",INDEX( メイン!$A$9:$M$108, メイン!$A78,4))","v":""},{"$f":"IF(INDEX( メイン!$A$9:$M$108, メイン!$A78,5)=\"\",\"\",INDEX( メイン!$A$9:$M$108, メイン!$A78,5))","v":""},null,{"$f":"IF(ISERROR(VLOOKUP( メイン!F78, 所属名!$F$2:$G$3,2,0)),\"\",VLOOKUP( メイン!F78, 所属名!$F$2:$G$3,2,0))","v":""},{"$f":"IF(INDEX( メイン!$A$9:$M$108, メイン!$A78,7)=\"\",\"\",INDEX( メイン!$A$9:$M$108, メイン!$A78,7))","v":""},null,null,null,null,{"$f":"IF(ISERROR(VLOOKUP( メイン!H78,競技名一覧!$B$2:$C$87,2,0)),\"\",VLOOKUP( メイン!H78,競技名一覧!$B$2:$C$87,2,0))","v":""},{"$f":"IF(INDEX( メイン!$A$9:$M$108, メイン!$A78,9)=\"\",\"\",INDEX( メイン!$A$9:$M$108, メイン!$A78,9))","v":""},null,null,{"$f":"IF(ISERROR(VLOOKUP( メイン!J78,競技名一覧!$B$2:$C$87,2,0)),\"\",VLOOKUP( メイン!J78,競技名一覧!$B$2:$C$87,2,0))","v":""},{"$f":"IF(INDEX( メイン!$A$9:$M$108, メイン!$A78,11)=\"\",\"\",INDEX( メイン!$A$9:$M$108, メイン!$A78,11))","v":""},null,null,{"$f":"IF(ISERROR(VLOOKUP( メイン!L78,競技名一覧!$J$2:$K$5,2,0)),\"\",VLOOKUP( メイン!L78,競技名一覧!$J$2:$K$44,2,0))","v":""},{"$f":"IF(INDEX( メイン!$A$9:$M$108, メイン!$A78,13)=\"\",\"\",INDEX( メイン!$A$9:$M$108, メイン!$A78,13))","v":""}]
[71,{"$f":"VLOOKUP(メイン!B79,所属名!$C$2:$D$178,2,FALSE)","v":1},null,null,{"$f":"IF(INDEX( メイン!$A$9:$M$108, メイン!$A79,3)=\"\",\"\",INDEX( メイン!$A$9:$M$108, メイン!$A79,3))","v":""},{"$f":"IF(INDEX( メイン!$A$9:$M$108, メイン!$A79,4)=\"\",\"\",INDEX( メイン!$A$9:$M$108, メイン!$A79,4))","v":""},{"$f":"IF(INDEX( メイン!$A$9:$M$108, メイン!$A79,5)=\"\",\"\",INDEX( メイン!$A$9:$M$108, メイン!$A79,5))","v":""},null,{"$f":"IF(ISERROR(VLOOKUP( メイン!F79, 所属名!$F$2:$G$3,2,0)),\"\",VLOOKUP( メイン!F79, 所属名!$F$2:$G$3,2,0))","v":""},{"$f":"IF(INDEX( メイン!$A$9:$M$108, メイン!$A79,7)=\"\",\"\",INDEX( メイン!$A$9:$M$108, メイン!$A79,7))","v":""},null,null,null,null,{"$f":"IF(ISERROR(VLOOKUP( メイン!H79,競技名一覧!$B$2:$C$87,2,0)),\"\",VLOOKUP( メイン!H79,競技名一覧!$B$2:$C$87,2,0))","v":""},{"$f":"IF(INDEX( メイン!$A$9:$M$108, メイン!$A79,9)=\"\",\"\",INDEX( メイン!$A$9:$M$108, メイン!$A79,9))","v":""},null,null,{"$f":"IF(ISERROR(VLOOKUP( メイン!J79,競技名一覧!$B$2:$C$87,2,0)),\"\",VLOOKUP( メイン!J79,競技名一覧!$B$2:$C$87,2,0))","v":""},{"$f":"IF(INDEX( メイン!$A$9:$M$108, メイン!$A79,11)=\"\",\"\",INDEX( メイン!$A$9:$M$108, メイン!$A79,11))","v":""},null,null,{"$f":"IF(ISERROR(VLOOKUP( メイン!L79,競技名一覧!$J$2:$K$5,2,0)),\"\",VLOOKUP( メイン!L79,競技名一覧!$J$2:$K$44,2,0))","v":""},{"$f":"IF(INDEX( メイン!$A$9:$M$108, メイン!$A79,13)=\"\",\"\",INDEX( メイン!$A$9:$M$108, メイン!$A79,13))","v":""}]
[72,{"$f":"VLOOKUP(メイン!B80,所属名!$C$2:$D$178,2,FALSE)","v":1},null,null,{"$f":"IF(INDEX( メイン!$A$9:$M$108, メイン!$A80,3)=\"\",\"\",INDEX( メイン!$A$9:$M$108, メイン!$A80,3))","v":""},{"$f":"IF(INDEX( メイン!$A$9:$M$108, メイン!$A80,4)=\"\",\"\",INDEX( メイン!$A$9:$M$108, メイン!$A80,4))","v":""},{"$f":"IF(INDEX( メイン!$A$9:$M$108, メイン!$A80,5)=\"\",\"\",INDEX( メイン!$A$9:$M$108, メイン!$A80,5))","v":""},null,{"$f":"IF(ISERROR(VLOOKUP( メイン!F80, 所属名!$F$2:$G$3,2,0)),\"\",VLOOKUP( メイン!F80, 所属名!$F$2:$G$3,2,0))","v":""},{"$f":"IF(INDEX( メイン!$A$9:$M$108, メイン!$A80,7)=\"\",\"\",INDEX( メイン!$A$9:$M$108, メイン!$A80,7))","v":""},null,null,null,null,{"$f":"IF(ISERROR(VLOOKUP( メイン!H80,競技名一覧!$B$2:$C$87,2,0)),\"\",VLOOKUP( メイン!H80,競技名一覧!$B$2:$C$87,2,0))","v":""},{"$f":"IF(INDEX( メイン!$A$9:$M$108, メイン!$A80,9)=\"\",\"\",INDEX( メイン!$A$9:$M$108, メイン!$A80,9))","v":""},null,null,{"$f":"IF(ISERROR(VLOOKUP( メイン!J80,競技名一覧!$B$2:$C$87,2,0)),\"\",VLOOKUP( メイン!J80,競技名一覧!$B$2:$C$87,2,0))","v":""},{"$f":"IF(INDEX( メイン!$A$9:$M$108, メイン!$A80,11)=\"\",\"\",INDEX( メイン!$A$9:$M$108, メイン!$A80,11))","v":""},null,null,{"$f":"IF(ISERROR(VLOOKUP( メイン!L80,競技名一覧!$J$2:$K$5,2,0)),\"\",VLOOKUP( メイン!L80,競技名一覧!$J$2:$K$44,2,0))","v":""},{"$f":"IF(INDEX( メイン!$A$9:$M$108, メイン!$A80,13)=\"\",\"\",INDEX( メイン!$A$9:$M$108, メイン!$A80,13))","v":""}]
[73,{"$f":"VLOOKUP(メイン!B81,所属名!$C$2:$D$178,2,FALSE)","v":1},null,null,{"$f":"IF(INDEX( メイン!$A$9:$M$108, メイン!$A81,3)=\"\",\"\",INDEX( メイン!$A$9:$M$108, メイン!$A81,3))","v":""},{"$f":"IF(INDEX( メイン!$A$9:$M$108, メイン!$A81,4)=\"\",\"\",INDEX( メイン!$A$9:$M$108, メイン!$A81,4))","v":""},{"$f":"IF(INDEX( メイン!$A$9:$M$108, メイン!$A81,5)=\"\",\"\",INDEX( メイン!$A$9:$M$108, メイン!$A81,5))","v":""},null,{"$f":"IF(ISERROR(VLOOKUP( メイン!F81, 所属名!$F$2:$G$3,2,0)),\"\",VLOOKUP( メイン!F81, 所属名!$F$2:$G$3,2,0))","v":""},{"$f":"IF(INDEX( メイン!$A$9:$M$108, メイン!$A81,7)=\"\",\"\",INDEX( メイン!$A$9:$M$108, メイン!$A81,7))","v":""},null,null,null,null,{"$f":"IF(ISERROR(VLOOKUP( メイン!H81,競技名一覧!$B$2:$C$87,2,0)),\"\",VLOOKUP( メイン!H81,競技名一覧!$B$2:$C$87,2,0))","v":""},{"$f":"IF(INDEX( メイン!$A$9:$M$108, メイン!$A81,9)=\"\",\"\",INDEX( メイン!$A$9:$M$108, メイン!$A81,9))","v":""},null,null,{"$f":"IF(ISERROR(VLOOKUP( メイン!J81,競技名一覧!$B$2:$C$87,2,0)),\"\",VLOOKUP( メイン!J81,競技名一覧!$B$2:$C$87,2,0))","v":""},{"$f":"IF(INDEX( メイン!$A$9:$M$108, メイン!$A81,11)=\"\",\"\",INDEX( メイン!$A$9:$M$108, メイン!$A81,11))","v":""},null,null,{"$f":"IF(ISERROR(VLOOKUP( メイン!L81,競技名一覧!$J$2:$K$5,2,0)),\"\",VLOOKUP( メイン!L81,競技名一覧!$J$2:$K$44,2,0))","v":""},{"$f":"IF(INDEX( メイン!$A$9:$M$108, メイン!$A81,13)=\"\",\"\",INDEX( メイン!$A$9:$M$108, メイン!$A81,13))","v":""}]
[74,{"$f":"VLOOKUP(メイン!B82,所属名!$C$2:$D$178,2,FALSE)","v":1},null,null,{"$f":"IF(INDEX( メイン!$A$9:$M$108, メイン!$A82,3)=\"\",\"\",INDEX( メイン!$A$9:$M$108, メイン!$A82,3))","v":""},{"$f":"IF(INDEX( メイン!$A$9:$M$108, メイン!$A82,4)=\"\",\"\",INDEX( メイン!$A$9:$M$108, メイン!$A82,4))","v":""},{"$f":"IF(INDEX( メイン!$A$9:$M$108, メイン!$A82,5)=\"\",\"\",INDEX( メイン!$A$9:$M$108, メイン!$A82,5))","v":""},null,{"$f":"IF(ISERROR(VLOOKUP( メイン!F82, 所属名!$F$2:$G$3,2,0)),\"\",VLOOKUP( メイン!F82, 所属名!$F$2:$G$3,2,0))","v":""},{"$f":"IF(INDEX( メイン!$A$9:$M$108, メイン!$A82,7)=\"\",\"\",INDEX( メイン!$A$9:$M$108, メイン!$A82,7))","v":""},null,null,null,null,{"$f":"IF(ISERROR(VLOOKUP( メイン!H82,競技名一覧!$B$2:$C$87,2,0)),\"\",VLOOKUP( メイン!H82,競技名一覧!$B$2:$C$87,2,0))","v":""},{"$f":"IF(INDEX( メイン!$A$9:$M$108, メイン!$A82,9)=\"\",\"\",INDEX( メイン!$A$9:$M$108, メイン!$A82,9))","v":""},null,null,{"$f":"IF(ISERROR(VLOOKUP( メイン!J82,競技名一覧!$B$2:$C$87,2,0)),\"\",VLOOKUP( メイン!J82,競技名一覧!$B$2:$C$87,2,0))","v":""},{"$f":"IF(INDEX( メイン!$A$9:$M$108, メイン!$A82,11)=\"\",\"\",INDEX( メイン!$A$9:$M$108, メイン!$A82,11))","v":""},null,null,{"$f":"IF(ISERROR(VLOOKUP( メイン!L82,競技名一覧!$J$2:$K$5,2,0)),\"\",VLOOKUP( メイン!L82,競技名一覧!$J$2:$K$44,2,0))","v":""},{"$f":"IF(INDEX( メイン!$A$9:$M$108, メイン!$A82,13)=\"\",\"\",INDEX( メイン!$A$9:$M$108, メイン!$A82,13))","v":""}]
[75,{"$f":"VLOOKUP(メイン!B83,所属名!$C$2:$D$178,2,FALSE)","v":1},null,null,{"$f":"IF(INDEX( メイン!$A$9:$M$108, メイン!$A83,3)=\"\",\"\",INDEX( メイン!$A$9:$M$108, メイン!$A83,3))","v":""},{"$f":"IF(INDEX( メイン!$A$9:$M$108, メイン!$A83,4)=\"\",\"\",INDEX( メイン!$A$9:$M$108, メイン!$A83,4))","v":""},{"$f":"IF(INDEX( メイン!$A$9:$M$108, メイン!$A83,5)=\"\",\"\",INDEX( メイン!$A$9:$M$108, メイン!$A83,5))","v":""},null,{"$f":"IF(ISERROR(VLOOKUP( メイン!F83, 所属名!$F$2:$G$3,2,0)),\"\",VLOOKUP( メイン!F83, 所属名!$F$2:$G$3,2,0))","v":""},{"$f":"IF(INDEX( メイン!$A$9:$M$108, メイン!$A83,7)=\"\",\"\",INDEX( メイン!$A$9:$M$108, メイン!$A83,7))","v":""},null,null,null,null,{"$f":"IF(ISERROR(VLOOKUP( メイン!H83,競技名一覧!$B$2:$C$87,2,0)),\"\",VLOOKUP( メイン!H83,競技名一覧!$B$2:$C$87,2,0))","v":""},{"$f":"IF(INDEX( メイン!$A$9:$M$108, メイン!$A83,9)=\"\",\"\",INDEX( メイン!$A$9:$M$108, メイン!$A83,9))","v":""},null,null,{"$f":"IF(ISERROR(VLOOKUP( メイン!J83,競技名一覧!$B$2:$C$87,2,0)),\"\",VLOOKUP( メイン!J83,競技名一覧!$B$2:$C$87,2,0))","v":""},{"$f":"IF(INDEX( メイン!$A$9:$M$108, メイン!$A83,11)=\"\",\"\",INDEX( メイン!$A$9:$M$108, メイン!$A83,11))","v":""},null,null,{"$f":"IF(ISERROR(VLOOKUP( メイン!L83,競技名一覧!$J$2:$K$5,2,0)),\"\",VLOOKUP( メイン!L83,競技名一覧!$J$2:$K$44,2,0))","v":""},{"$f":"IF(INDEX( メイン!$A$9:$M$108, メイン!$A83,13)=\"\",\"\",INDEX( メイン!$A$9:$M$108, メイン!$A83,13))","v":""}]
[76,{"$f":"VLOOKUP(メイン!B84,所属名!$C$2:$D$178,2,FALSE)","v":1},null,null,{"$f":"IF(INDEX( メイン!$A$9:$M$108, メイン!$A84,3)=\"\",\"\",INDEX( メイン!$A$9:$M$108, メイン!$A84,3))","v":""},{"$f":"IF(INDEX( メイン!$A$9:$M$108, メイン!$A84,4)=\"\",\"\",INDEX( メイン!$A$9:$M$108, メイン!$A84,4))","v":""},{"$f":"IF(INDEX( メイン!$A$9:$M$108, メイン!$A84,5)=\"\",\"\",INDEX( メイン!$A$9:$M$108, メイン!$A84,5))","v":""},null,{"$f":"IF(ISERROR(VLOOKUP( メイン!F84, 所属名!$F$2:$G$3,2,0)),\"\",VLOOKUP( メイン!F84, 所属名!$F$2:$G$3,2,0))","v":""},{"$f":"IF(INDEX( メイン!$A$9:$M$108, メイン!$A84,7)=\"\",\"\",INDEX( メイン!$A$9:$M$108, メイン!$A84,7))","v":""},null,null,null,null,{"$f":"IF(ISERROR(VLOOKUP( メイン!H84,競技名一覧!$B$2:$C$87,2,0)),\"\",VLOOKUP( メイン!H84,競技名一覧!$B$2:$C$87,2,0))","v":""},{"$f":"IF(INDEX( メイン!$A$9:$M$108, メイン!$A84,9)=\"\",\"\",INDEX( メイン!$A$9:$M$108, メイン!$A84,9))","v":""},null,null,{"$f":"IF(ISERROR(VLOOKUP( メイン!J84,競技名一覧!$B$2:$C$87,2,0)),\"\",VLOOKUP( メイン!J84,競技名一覧!$B$2:$C$87,2,0))","v":""},{"$f":"IF(INDEX( メイン!$A$9:$M$108, メイン!$A84,11)=\"\",\"\",INDEX( メイン!$A$9:$M$108, メイン!$A84,11))","v":""},null,null,{"$f":"IF(ISERROR(VLOOKUP( メイン!L84,競技名一覧!$J$2:$K$5,2,0)),\"\",VLOOKUP( メイン!L84,競技名一覧!$J$2:$K$44,2,0))","v":""},{"$f":"IF(INDEX( メイン!$A$9:$M$108, メイン!$A84,13)=\"\",\"\",INDEX( メイン!$A$9:$M$108, メイン!$A84,13))","v":""}]
[77,{"$f":"VLOOKUP(メイン!B85,所属名!$C$2:$D$178,2,FALSE)","v":1},null,null,{"$f":"IF(INDEX( メイン!$A$9:$M$108, メイン!$A85,3)=\"\",\"\",INDEX( メイン!$A$9:$M$108, メイン!$A85,3))","v":""},{"$f":"IF(INDEX( メイン!$A$9:$M$108, メイン!$A85,4)=\"\",\"\",INDEX( メイン!$A$9:$M$108, メイン!$A85,4))","v":""},{"$f":"IF(INDEX( メイン!$A$9:$M$108, メイン!$A85,5)=\"\",\"\",INDEX( メイン!$A$9:$M$108, メイン!$A85,5))","v":""},null,{"$f":"IF(ISERROR(VLOOKUP( メイン!F85, 所属名!$F$2:$G$3,2,0)),\"\",VLOOKUP( メイン!F85, 所属名!$F$2:$G$3,2,0))","v":""},{"$f":"IF(INDEX( メイン!$A$9:$M$108, メイン!$A85,7)=\"\",\"\",INDEX( メイン!$A$9:$M$108, メイン!$A85,7))","v":""},null,null,null,null,{"$f":"IF(ISERROR(VLOOKUP( メイン!H85,競技名一覧!$B$2:$C$87,2,0)),\"\",VLOOKUP( メイン!H85,競技名一覧!$B$2:$C$87,2,0))","v":""},{"$f":"IF(INDEX( メイン!$A$9:$M$108, メイン!$A85,9)=\"\",\"\",INDEX( メイン!$A$9:$M$108, メイン!$A85,9))","v":""},null,null,{"$f":"IF(ISERROR(VLOOKUP( メイン!J85,競技名一覧!$B$2:$C$87,2,0)),\"\",VLOOKUP( メイン!J85,競技名一覧!$B$2:$C$87,2,0))","v":""},{"$f":"IF(INDEX( メイン!$A$9:$M$108, メイン!$A85,11)=\"\",\"\",INDEX( メイン!$A$9:$M$108, メイン!$A85,11))","v":""},null,null,{"$f":"IF(ISERROR(VLOOKUP( メイン!L85,競技名一覧!$J$2:$K$5,2,0)),\"\",VLOOKUP( メイン!L85,競技名一覧!$J$2:$K$44,2,0))","v":""},{"$f":"IF(INDEX( メイン!$A$9:$M$108, メイン!$A85,13)=\"\",\"\",INDEX( メイン!$A$9:$M$108, メイン!$A85,13))","v":""}]
[78,{"$f":"VLOOKUP(メイン!B86,所属名!$C$2:$D$178,2,FALSE)","v":1},null,null,{"$f":"IF(INDEX( メイン!$A$9:$M$108, メイン!$A86,3)=\"\",\"\",INDEX( メイン!$A$9:$M$108, メイン!$A86,3))","v":""},{"$f":"IF(INDEX( メイン!$A$9:$M$108, メイン!$A86,4)=\"\",\"\",INDEX( メイン!$A$9:$M$108, メイン!$A86,4))","v":""},{"$f":"IF(INDEX( メイン!$A$9:$M$108, メイン!$A86,5)=\"\",\"\",INDEX( メイン!$A$9:$M$108, メイン!$A86,5))","v":""},null,{"$f":"IF(ISERROR(VLOOKUP( メイン!F86, 所属名!$F$2:$G$3,2,0)),\"\",VLOOKUP( メイン!F86, 所属名!$F$2:$G$3,2,0))","v":""},{"$f":"IF(INDEX( メイン!$A$9:$M$108, メイン!$A86,7)=\"\",\"\",INDEX( メイン!$A$9:$M$108, メイン!$A86,7))","v":""},null,null,null,null,{"$f":"IF(ISERROR(VLOOKUP( メイン!H86,競技名一覧!$B$2:$C$87,2,0)),\"\",VLOOKUP( メイン!H86,競技名一覧!$B$2:$C$87,2,0))","v":""},{"$f":"IF(INDEX( メイン!$A$9:$M$108, メイン!$A86,9)=\"\",\"\",INDEX( メイン!$A$9:$M$108, メイン!$A86,9))","v":""},null,null,{"$f":"IF(ISERROR(VLOOKUP( メイン!J86,競技名一覧!$B$2:$C$87,2,0)),\"\",VLOOKUP( メイン!J86,競技名一覧!$B$2:$C$87,2,0))","v":""},{"$f":"IF(INDEX( メイン!$A$9:$M$108, メイン!$A86,11)=\"\",\"\",INDEX( メイン!$A$9:$M$108, メイン!$A86,11))","v":""},null,null,{"$f":"IF(ISERROR(VLOOKUP( メイン!L86,競技名一覧!$J$2:$K$5,2,0)),\"\",VLOOKUP( メイン!L86,競技名一覧!$J$2:$K$44,2,0))","v":""},{"$f":"IF(INDEX( メイン!$A$9:$M$108, メイン!$A86,13)=\"\",\"\",INDEX( メイン!$A$9:$M$108, メイン!$A86,13))","v":""}]
[79,{"$f":"VLOOKUP(メイン!B87,所属名!$C$2:$D$178,2,FALSE)","v":1},null,null,{"$f":"IF(INDEX( メイン!$A$9:$M$108, メイン!$A87,3)=\"\",\"\",INDEX( メイン!$A$9:$M$108, メイン!$A87,3))","v":""},{"$f":"IF(INDEX( メイン!$A$9:$M$108, メイン!$A87,4)=\"\",\"\",INDEX( メイン!$A$9:$M$108, メイン!$A87,4))","v":""},{"$f":"IF(INDEX( メイン!$A$9:$M$108, メイン!$A87,5)=\"\",\"\",INDEX( メイン!$A$9:$M$108, メイン!$A87,5))","v":""},null,{"$f":"IF(ISERROR(VLOOKUP( メイン!F87, 所属名!$F$2:$G$3,2,0)),\"\",VLOOKUP( メイン!F87, 所属名!$F$2:$G$3,2,0))","v":""},{"$f":"IF(INDEX( メイン!$A$9:$M$108, メイン!$A87,7)=\"\",\"\",INDEX( メイン!$A$9:$M$108, メイン!$A87,7))","v":""},null,null,null,null,{"$f":"IF(ISERROR(VLOOKUP( メイン!H87,競技名一覧!$B$2:$C$87,2,0)),\"\",VLOOKUP( メイン!H87,競技名一覧!$B$2:$C$87,2,0))","v":""},{"$f":"IF(INDEX( メイン!$A$9:$M$108, メイン!$A87,9)=\"\",\"\",INDEX( メイン!$A$9:$M$108, メイン!$A87,9))","v":""},null,null,{"$f":"IF(ISERROR(VLOOKUP( メイン!J87,競技名一覧!$B$2:$C$87,2,0)),\"\",VLOOKUP( メイン!J87,競技名一覧!$B$2:$C$87,2,0))","v":""},{"$f":"IF(INDEX( メイン!$A$9:$M$108, メイン!$A87,11)=\"\",\"\",INDEX( メイン!$A$9:$M$108, メイン!$A87,11))","v":""},null,null,{"$f":"IF(ISERROR(VLOOKUP( メイン!L87,競技名一覧!$J$2:$K$5,2,0)),\"\",VLOOKUP( メイン!L87,競技名一覧!$J$2:$K$44,2,0))","v":""},{"$f":"IF(INDEX( メイン!$A$9:$M$108, メイン!$A87,13)=\"\",\"\",INDEX( メイン!$A$9:$M$108, メイン!$A87,13))","v":""}]
[80,{"$f":"VLOOKUP(メイン!B88,所属名!$C$2:$D$178,2,FALSE)","v":1},null,null,{"$f":"IF(INDEX( メイン!$A$9:$M$108, メイン!$A88,3)=\"\",\"\",INDEX( メイン!$A$9:$M$108, メイン!$A88,3))","v":""},{"$f":"IF(INDEX( メイン!$A$9:$M$108, メイン!$A88,4)=\"\",\"\",INDEX( メイン!$A$9:$M$108, メイン!$A88,4))","v":""},{"$f":"IF(INDEX( メイン!$A$9:$M$108, メイン!$A88,5)=\"\",\"\",INDEX( メイン!$A$9:$M$108, メイン!$A88,5))","v":""},null,{"$f":"IF(ISERROR(VLOOKUP( メイン!F88, 所属名!$F$2:$G$3,2,0)),\"\",VLOOKUP( メイン!F88, 所属名!$F$2:$G$3,2,0))","v":""},{"$f":"IF(INDEX( メイン!$A$9:$M$108, メイン!$A88,7)=\"\",\"\",INDEX( メイン!$A$9:$M$108, メイン!$A88,7))","v":""},null,null,null,null,{"$f":"IF(ISERROR(VLOOKUP( メイン!H88,競技名一覧!$B$2:$C$87,2,0)),\"\",VLOOKUP( メイン!H88,競技名一覧!$B$2:$C$87,2,0))","v":""},{"$f":"IF(INDEX( メイン!$A$9:$M$108, メイン!$A88,9)=\"\",\"\",INDEX( メイン!$A$9:$M$108, メイン!$A88,9))","v":""},null,null,{"$f":"IF(ISERROR(VLOOKUP( メイン!J88,競技名一覧!$B$2:$C$87,2,0)),\"\",VLOOKUP( メイン!J88,競技名一覧!$B$2:$C$87,2,0))","v":""},{"$f":"IF(INDEX( メイン!$A$9:$M$108, メイン!$A88,11)=\"\",\"\",INDEX( メイン!$A$9:$M$108, メイン!$A88,11))","v":""},null,null,{"$f":"IF(ISERROR(VLOOKUP( メイン!L88,競技名一覧!$J$2:$K$5,2,0)),\"\",VLOOKUP( メイン!L88,競技名一覧!$J$2:$K$44,2,0))","v":""},{"$f":"IF(INDEX( メイン!$A$9:$M$108, メイン!$A88,13)=\"\",\"\",INDEX( メイン!$A$9:$M$108, メイン!$A88,13))","v":""}]
[81,{"$f":"VLOOKUP(メイン!B89,所属名!$C$2:$D$178,2,FALSE)","v":1},null,null,{"$f":"IF(INDEX( メイン!$A$9:$M$108, メイン!$A89,3)=\"\",\"\",INDEX( メイン!$A$9:$M$108, メイン!$A89,3))","v":""},{"$f":"IF(INDEX( メイン!$A$9:$M$108, メイン!$A89,4)=\"\",\"\",INDEX( メイン!$A$9:$M$108, メイン!$A89,4))","v":""},{"$f":"IF(INDEX( メイン!$A$9:$M$108, メイン!$A89,5)=\"\",\"\",INDEX( メイン!$A$9:$M$108, メイン!$A89,5))","v":""},null,{"$f":"IF(ISERROR(VLOOKUP( メイン!F89, 所属名!$F$2:$G$3,2,0)),\"\",VLOOKUP( メイン!F89, 所属名!$F$2:$G$3,2,0))","v":""},{"$f":"IF(INDEX( メイン!$A$9:$M$108, メイン!$A89,7)=\"\",\"\",INDEX( メイン!$A$9:$M$108, メイン!$A89,7))","v":""},null,null,null,null,{"$f":"IF(ISERROR(VLOOKUP( メイン!H89,競技名一覧!$B$2:$C$87,2,0)),\"\",VLOOKUP( メイン!H89,競技名一覧!$B$2:$C$87,2,0))","v":""},{"$f":"IF(INDEX( メイン!$A$9:$M$108, メイン!$A89,9)=\"\",\"\",INDEX( メイン!$A$9:$M$108, メイン!$A89,9))","v":""},null,null,{"$f":"IF(ISERROR(VLOOKUP( メイン!J89,競技名一覧!$B$2:$C$87,2,0)),\"\",VLOOKUP( メイン!J89,競技名一覧!$B$2:$C$87,2,0))","v":""},{"$f":"IF(INDEX( メイン!$A$9:$M$108, メイン!$A89,11)=\"\",\"\",INDEX( メイン!$A$9:$M$108, メイン!$A89,11))","v":""},null,null,{"$f":"IF(ISERROR(VLOOKUP( メイン!L89,競技名一覧!$J$2:$K$5,2,0)),\"\",VLOOKUP( メイン!L89,競技名一覧!$J$2:$K$44,2,0))","v":""},{"$f":"IF(INDEX( メイン!$A$9:$M$108, メイン!$A89,13)=\"\",\"\",INDEX( メイン!$A$9:$M$108, メイン!$A89,13))","v":""}]
[82,{"$f":"VLOOKUP(メイン!B90,所属名!$C$2:$D$178,2,FALSE)","v":1},null,null,{"$f":"IF(INDEX( メイン!$A$9:$M$108, メイン!$A90,3)=\"\",\"\",INDEX( メイン!$A$9:$M$108, メイン!$A90,3))","v":""},{"$f":"IF(INDEX( メイン!$A$9:$M$108, メイン!$A90,4)=\"\",\"\",INDEX( メイン!$A$9:$M$108, メイン!$A90,4))","v":""},{"$f":"IF(INDEX( メイン!$A$9:$M$108, メイン!$A90,5)=\"\",\"\",INDEX( メイン!$A$9:$M$108, メイン!$A90,5))","v":""},null,{"$f":"IF(ISERROR(VLOOKUP( メイン!F90, 所属名!$F$2:$G$3,2,0)),\"\",VLOOKUP( メイン!F90, 所属名!$F$2:$G$3,2,0))","v":""},{"$f":"IF(INDEX( メイン!$A$9:$M$108, メイン!$A90,7)=\"\",\"\",INDEX( メイン!$A$9:$M$108, メイン!$A90,7))","v":""},null,null,null,null,{"$f":"IF(ISERROR(VLOOKUP( メイン!H90,競技名一覧!$B$2:$C$87,2,0)),\"\",VLOOKUP( メイン!H90,競技名一覧!$B$2:$C$87,2,0))","v":""},{"$f":"IF(INDEX( メイン!$A$9:$M$108, メイン!$A90,9)=\"\",\"\",INDEX( メイン!$A$9:$M$108, メイン!$A90,9))","v":""},null,null,{"$f":"IF(ISERROR(VLOOKUP( メイン!J90,競技名一覧!$B$2:$C$87,2,0)),\"\",VLOOKUP( メイン!J90,競技名一覧!$B$2:$C$87,2,0))","v":""},{"$f":"IF(INDEX( メイン!$A$9:$M$108, メイン!$A90,11)=\"\",\"\",INDEX( メイン!$A$9:$M$108, メイン!$A90,11))","v":""},null,null,{"$f":"IF(ISERROR(VLOOKUP( メイン!L90,競技名一覧!$J$2:$K$5,2,0)),\"\",VLOOKUP( メイン!L90,競技名一覧!$J$2:$K$44,2,0))","v":""},{"$f":"IF(INDEX( メイン!$A$9:$M$108, メイン!$A90,13)=\"\",\"\",INDEX( メイン!$A$9:$M$108, メイン!$A90,13))","v":""}]
[83,{"$f":"VLOOKUP(メイン!B91,所属名!$C$2:$D$178,2,FALSE)","v":1},null,null,{"$f":"IF(INDEX( メイン!$A$9:$M$108, メイン!$A91,3)=\"\",\"\",INDEX( メイン!$A$9:$M$108, メイン!$A91,3))","v":""},{"$f":"IF(INDEX( メイン!$A$9:$M$108, メイン!$A91,4)=\"\",\"\",INDEX( メイン!$A$9:$M$108, メイン!$A91,4))","v":""},{"$f":"IF(INDEX( メイン!$A$9:$M$108, メイン!$A91,5)=\"\",\"\",INDEX( メイン!$A$9:$M$108, メイン!$A91,5))","v":""},null,{"$f":"IF(ISERROR(VLOOKUP( メイン!F91, 所属名!$F$2:$G$3,2,0)),\"\",VLOOKUP( メイン!F91, 所属名!$F$2:$G$3,2,0))","v":""},{"$f":"IF(INDEX( メイン!$A$9:$M$108, メイン!$A91,7)=\"\",\"\",INDEX( メイン!$A$9:$M$108, メイン!$A91,7))","v":""},null,null,null,null,{"$f":"IF(ISERROR(VLOOKUP( メイン!H91,競技名一覧!$B$2:$C$87,2,0)),\"\",VLOOKUP( メイン!H91,競技名一覧!$B$2:$C$87,2,0))","v":""},{"$f":"IF(INDEX( メイン!$A$9:$M$108, メイン!$A91,9)=\"\",\"\",INDEX( メイン!$A$9:$M$108, メイン!$A91,9))","v":""},null,null,{"$f":"IF(ISERROR(VLOOKUP( メイン!J91,競技名一覧!$B$2:$C$87,2,0)),\"\",VLOOKUP( メイン!J91,競技名一覧!$B$2:$C$87,2,0))","v":""},{"$f":"IF(INDEX( メイン!$A$9:$M$108, メイン!$A91,11)=\"\",\"\",INDEX( メイン!$A$9:$M$108, メイン!$A91,11))","v":""},null,null,{"$f":"IF(ISERROR(VLOOKUP( メイン!L91,競技名一覧!$J$2:$K$5,2,0)),\"\",VLOOKUP( メイン!L91,競技名一覧!$J$2:$K$44,2,0))","v":""},{"$f":"IF(INDEX( メイン!$A$9:$M$108, メイン!$A91,13)=\"\",\"\",INDEX( メイン!$A$9:$M$108, メイン!$A91,13))","v":""}]
[84,{"$f":"VLOOKUP(メイン!B92,所属名!$C$2:$D$178,2,FALSE)","v":1},null,null,{"$f":"IF(INDEX( メイン!$A$9:$M$108, メイン!$A92,3)=\"\",\"\",INDEX( メイン!$A$9:$M$108, メイン!$A92,3))","v":""},{"$f":"IF(INDEX( メイン!$A$9:$M$108, メイン!$A92,4)=\"\",\"\",INDEX( メイン!$A$9:$M$108, メイン!$A92,4))","v":""},{"$f":"IF(INDEX( メイン!$A$9:$M$108, メイン!$A92,5)=\"\",\"\",INDEX( メイン!$A$9:$M$108, メイン!$A92,5))","v":""},null,{"$f":"IF(ISERROR(VLOOKUP( メイン!F92, 所属名!$F$2:$G$3,2,0)),\"\",VLOOKUP( メイン!F92, 所属名!$F$2:$G$3,2,0))","v":""},{"$f":"IF(INDEX( メイン!$A$9:$M$108, メイン!$A92,7)=\"\",\"\",INDEX( メイン!$A$9:$M$108, メイン!$A92,7))","v":""},null,null,null,null,{"$f":"IF(ISERROR(VLOOKUP( メイン!H92,競技名一覧!$B$2:$C$87,2,0)),\"\",VLOOKUP( メイン!H92,競技名一覧!$B$2:$C$87,2,0))","v":""},{"$f":"IF(INDEX( メイン!$A$9:$M$108, メイン!$A92,9)=\"\",\"\",INDEX( メイン!$A$9:$M$108, メイン!$A92,9))","v":""},null,null,{"$f":"IF(ISERROR(VLOOKUP( メイン!J92,競技名一覧!$B$2:$C$87,2,0)),\"\",VLOOKUP( メイン!J92,競技名一覧!$B$2:$C$87,2,0))","v":""},{"$f":"IF(INDEX( メイン!$A$9:$M$108, メイン!$A92,11)=\"\",\"\",INDEX( メイン!$A$9:$M$108, メイン!$A92,11))","v":""},null,null,{"$f":"IF(ISERROR(VLOOKUP( メイン!L92,競技名一覧!$J$2:$K$5,2,0)),\"\",VLOOKUP( メイン!L92,競技名一覧!$J$2:$K$44,2,0))","v":""},{"$f":"IF(INDEX( メイン!$A$9:$M$108, メイン!$A92,13)=\"\",\"\",INDEX( メイン!$A$9:$M$108, メイン!$A92,13))","v":""}]
[85,{"$f":"VLOOKUP(メイン!B93,所属名!$C$2:$D$178,2,FALSE)","v":1},null,null,{"$f":"IF(INDEX( メイン!$A$9:$M$108, メイン!$A93,3)=\"\",\"\",INDEX( メイン!$A$9:$M$108, メイン!$A93,3))","v":""},{"$f":"IF(INDEX( メイン!$A$9:$M$108, メイン!$A93,4)=\"\",\"\",INDEX( メイン!$A$9:$M$108, メイン!$A93,4))","v":""},{"$f":"IF(INDEX( メイン!$A$9:$M$108, メイン!$A93,5)=\"\",\"\",INDEX( メイン!$A$9:$M$108, メイン!$A93,5))","v":""},null,{"$f":"IF(ISERROR(VLOOKUP( メイン!F93, 所属名!$F$2:$G$3,2,0)),\"\",VLOOKUP( メイン!F93, 所属名!$F$2:$G$3,2,0))","v":""},{"$f":"IF(INDEX( メイン!$A$9:$M$108, メイン!$A93,7)=\"\",\"\",INDEX( メイン!$A$9:$M$108, メイン!$A93,7))","v":""},null,null,null,null,{"$f":"IF(ISERROR(VLOOKUP( メイン!H93,競技名一覧!$B$2:$C$87,2,0)),\"\",VLOOKUP( メイン!H93,競技名一覧!$B$2:$C$87,2,0))","v":""},{"$f":"IF(INDEX( メイン!$A$9:$M$108, メイン!$A93,9)=\"\",\"\",INDEX( メイン!$A$9:$M$108, メイン!$A93,9))","v":""},null,null,{"$f":"IF(ISERROR(VLOOKUP( メイン!J93,競技名一覧!$B$2:$C$87,2,0)),\"\",VLOOKUP( メイン!J93,競技名一覧!$B$2:$C$87,2,0))","v":""},{"$f":"IF(INDEX( メイン!$A$9:$M$108, メイン!$A93,11)=\"\",\"\",INDEX( メイン!$A$9:$M$108, メイン!$A93,11))","v":""},null,null,{"$f":"IF(ISERROR(VLOOKUP( メイン!L93,競技名一覧!$J$2:$K$5,2,0)),\"\",VLOOKUP( メイン!L93,競技名一覧!$J$2:$K$44,2,0))","v":""},{"$f":"IF(INDEX( メイン!$A$9:$M$108, メイン!$A93,13)=\"\",\"\",INDEX( メイン!$A$9:$M$108, メイン!$A93,13))","v":""}]
[86,{"$f":"VLOOKUP(メイン!B94,所属名!$C$2:$D$178,2,FALSE)","v":1},null,null,{"$f":"IF(INDEX( メイン!$A$9:$M$108, メイン!$A94,3)=\"\",\"\",INDEX( メイン!$A$9:$M$108, メイン!$A94,3))","v":""},{"$f":"IF(INDEX( メイン!$A$9:$M$108, メイン!$A94,4)=\"\",\"\",INDEX( メイン!$A$9:$M$108, メイン!$A94,4))","v":""},{"$f":"IF(INDEX( メイン!$A$9:$M$108, メイン!$A94,5)=\"\",\"\",INDEX( メイン!$A$9:$M$108, メイン!$A94,5))","v":""},null,{"$f":"IF(ISERROR(VLOOKUP( メイン!F94, 所属名!$F$2:$G$3,2,0)),\"\",VLOOKUP( メイン!F94, 所属名!$F$2:$G$3,2,0))","v":""},{"$f":"IF(INDEX( メイン!$A$9:$M$108, メイン!$A94,7)=\"\",\"\",INDEX( メイン!$A$9:$M$108, メイン!$A94,7))","v":""},null,null,null,null,{"$f":"IF(ISERROR(VLOOKUP( メイン!H94,競技名一覧!$B$2:$C$87,2,0)),\"\",VLOOKUP( メイン!H94,競技名一覧!$B$2:$C$87,2,0))","v":""},{"$f":"IF(INDEX( メイン!$A$9:$M$108, メイン!$A94,9)=\"\",\"\",INDEX( メイン!$A$9:$M$108, メイン!$A94,9))","v":""},null,null,{"$f":"IF(ISERROR(VLOOKUP( メイン!J94,競技名一覧!$B$2:$C$87,2,0)),\"\",VLOOKUP( メイン!J94,競技名一覧!$B$2:$C$87,2,0))","v":""},{"$f":"IF(INDEX( メイン!$A$9:$M$108, メイン!$A94,11)=\"\",\"\",INDEX( メイン!$A$9:$M$108, メイン!$A94,11))","v":""},null,null,{"$f":"IF(ISERROR(VLOOKUP( メイン!L94,競技名一覧!$J$2:$K$5,2,0)),\"\",VLOOKUP( メイン!L94,競技名一覧!$J$2:$K$44,2,0))","v":""},{"$f":"IF(INDEX( メイン!$A$9:$M$108, メイン!$A94,13)=\"\",\"\",INDEX( メイン!$A$9:$M$108, メイン!$A94,13))","v":""}]
[87,{"$f":"VLOOKUP(メイン!B95,所属名!$C$2:$D$178,2,FALSE)","v":1},null,null,{"$f":"IF(INDEX( メイン!$A$9:$M$108, メイン!$A95,3)=\"\",\"\",INDEX( メイン!$A$9:$M$108, メイン!$A95,3))","v":""},{"$f":"IF(INDEX( メイン!$A$9:$M$108, メイン!$A95,4)=\"\",\"\",INDEX( メイン!$A$9:$M$108, メイン!$A95,4))","v":""},{"$f":"IF(INDEX( メイン!$A$9:$M$108, メイン!$A95,5)=\"\",\"\",INDEX( メイン!$A$9:$M$108, メイン!$A95,5))","v":""},null,{"$f":"IF(ISERROR(VLOOKUP( メイン!F95, 所属名!$F$2:$G$3,2,0)),\"\",VLOOKUP( メイン!F95, 所属名!$F$2:$G$3,2,0))","v":""},{"$f":"IF(INDEX( メイン!$A$9:$M$108, メイン!$A95,7)=\"\",\"\",INDEX( メイン!$A$9:$M$108, メイン!$A95,7))","v":""},null,null,null,null,{"$f":"IF(ISERROR(VLOOKUP( メイン!H95,競技名一覧!$B$2:$C$87,2,0)),\"\",VLOOKUP( メイン!H95,競技名一覧!$B$2:$C$87,2,0))","v":""},{"$f":"IF(INDEX( メイン!$A$9:$M$108, メイン!$A95,9)=\"\",\"\",INDEX( メイン!$A$9:$M$108, メイン!$A95,9))","v":""},null,null,{"$f":"IF(ISERROR(VLOOKUP( メイン!J95,競技名一覧!$B$2:$C$87,2,0)),\"\",VLOOKUP( メイン!J95,競技名一覧!$B$2:$C$87,2,0))","v":""},{"$f":"IF(INDEX( メイン!$A$9:$M$108, メイン!$A95,11)=\"\",\"\",INDEX( メイン!$A$9:$M$108, メイン!$A95,11))","v":""},null,null,{"$f":"IF(ISERROR(VLOOKUP( メイン!L95,競技名一覧!$J$2:$K$5,2,0)),\"\",VLOOKUP( メイン!L95,競技名一覧!$J$2:$K$44,2,0))","v":""},{"$f":"IF(INDEX( メイン!$A$9:$M$108, メイン!$A95,13)=\"\",\"\",INDEX( メイン!$A$9:$M$108, メイン!$A95,13))","v":""}]
[88,{"$f":"VLOOKUP(メイン!B96,所属名!$C$2:$D$178,2,FALSE)","v":1},null,null,{"$f":"IF(INDEX( メイン!$A$9:$M$108, メイン!$A96,3)=\"\",\"\",INDEX( メイン!$A$9:$M$108, メイン!$A96,3))","v":""},{"$f":"IF(INDEX( メイン!$A$9:$M$108, メイン!$A96,4)=\"\",\"\",INDEX( メイン!$A$9:$M$108, メイン!$A96,4))","v":""},{"$f":"IF(INDEX( メイン!$A$9:$M$108, メイン!$A96,5)=\"\",\"\",INDEX( メイン!$A$9:$M$108, メイン!$A96,5))","v":""},null,{"$f":"IF(ISERROR(VLOOKUP( メイン!F96, 所属名!$F$2:$G$3,2,0)),\"\",VLOOKUP( メイン!F96, 所属名!$F$2:$G$3,2,0))","v":""},{"$f":"IF(INDEX( メイン!$A$9:$M$108, メイン!$A96,7)=\"\",\"\",INDEX( メイン!$A$9:$M$108, メイン!$A96,7))","v":""},null,null,null,null,{"$f":"IF(ISERROR(VLOOKUP( メイン!H96,競技名一覧!$B$2:$C$87,2,0)),\"\",VLOOKUP( メイン!H96,競技名一覧!$B$2:$C$87,2,0))","v":""},{"$f":"IF(INDEX( メイン!$A$9:$M$108, メイン!$A96,9)=\"\",\"\",INDEX( メイン!$A$9:$M$108, メイン!$A96,9))","v":""},null,null,{"$f":"IF(ISERROR(VLOOKUP( メイン!J96,競技名一覧!$B$2:$C$87,2,0)),\"\",VLOOKUP( メイン!J96,競技名一覧!$B$2:$C$87,2,0))","v":""},{"$f":"IF(INDEX( メイン!$A$9:$M$108, メイン!$A96,11)=\"\",\"\",INDEX( メイン!$A$9:$M$108, メイン!$A96,11))","v":""},null,null,{"$f":"IF(ISERROR(VLOOKUP( メイン!L96,競技名一覧!$J$2:$K$5,2,0)),\"\",VLOOKUP( メイン!L96,競技名一覧!$J$2:$K$44,2,0))","v":""},{"$f":"IF(INDEX( メイン!$A$9:$M$108, メイン!$A96,13)=\"\",\"\",INDEX( メイン!$A$9:$M$108, メイン!$A96,13))","v":""}]
[89,{"$f":"VLOOKUP(メイン!B97,所属名!$C$2:$D$178,2,FALSE)","v":1},null,null,{"$f":"IF(INDEX( メイン!$A$9:$M$108, メイン!$A97,3)=\"\",\"\",INDEX( メイン!$A$9:$M$108, メイン!$A97,3))","v":""},{"$f":"IF(INDEX( メイン!$A$9:$M$108, メイン!$A97,4)=\"\",\"\",INDEX( メイン!$A$9:$M$108, メイン!$A97,4))","v":""},{"$f":"IF(INDEX( メイン!$A$9:$M$108, メイン!$A97,5)=\"\",\"\",INDEX( メイン!$A$9:$M$108, メイン!$A97,5))","v":""},null,{"$f":"IF(ISERROR(VLOOKUP( メイン!F97, 所属名!$F$2:$G$3,2,0)),\"\",VLOOKUP( メイン!F97, 所属名!$F$2:$G$3,2,0))","v":""},{"$f":"IF(INDEX( メイン!$A$9:$M$108, メイン!$A97,7)=\"\",\"\",INDEX( メイン!$A$9:$M$108, メイン!$A97,7))","v":""},null,null,null,null,{"$f":"IF(ISERROR(VLOOKUP( メイン!H97,競技名一覧!$B$2:$C$87,2,0)),\"\",VLOOKUP( メイン!H97,競技名一覧!$B$2:$C$87,2,0))","v":""},{"$f":"IF(INDEX( メイン!$A$9:$M$108, メイン!$A97,9)=\"\",\"\",INDEX( メイン!$A$9:$M$108, メイン!$A97,9))","v":""},null,null,{"$f":"IF(ISERROR(VLOOKUP( メイン!J97,競技名一覧!$B$2:$C$87,2,0)),\"\",VLOOKUP( メイン!J97,競技名一覧!$B$2:$C$87,2,0))","v":""},{"$f":"IF(INDEX( メイン!$A$9:$M$108, メイン!$A97,11)=\"\",\"\",INDEX( メイン!$A$9:$M$108, メイン!$A97,11))","v":""},null,null,{"$f":"IF(ISERROR(VLOOKUP( メイン!L97,競技名一覧!$J$2:$K$5,2,0)),\"\",VLOOKUP( メイン!L97,競技名一覧!$J$2:$K$44,2,0))","v":""},{"$f":"IF(INDEX( メイン!$A$9:$M$108, メイン!$A97,13)=\"\",\"\",INDEX( メイン!$A$9:$M$108, メイン!$A97,13))","v":""}]
[90,{"$f":"VLOOKUP(メイン!B98,所属名!$C$2:$D$178,2,FALSE)","v":1},null,null,{"$f":"IF(INDEX( メイン!$A$9:$M$108, メイン!$A98,3)=\"\",\"\",INDEX( メイン!$A$9:$M$108, メイン!$A98,3))","v":""},{"$f":"IF(INDEX( メイン!$A$9:$M$108, メイン!$A98,4)=\"\",\"\",INDEX( メイン!$A$9:$M$108, メイン!$A98,4))","v":""},{"$f":"IF(INDEX( メイン!$A$9:$M$108, メイン!$A98,5)=\"\",\"\",INDEX( メイン!$A$9:$M$108, メイン!$A98,5))","v":""},null,{"$f":"IF(ISERROR(VLOOKUP( メイン!F98, 所属名!$F$2:$G$3,2,0)),\"\",VLOOKUP( メイン!F98, 所属名!$F$2:$G$3,2,0))","v":""},{"$f":"IF(INDEX( メイン!$A$9:$M$108, メイン!$A98,7)=\"\",\"\",INDEX( メイン!$A$9:$M$108, メイン!$A98,7))","v":""},null,null,null,null,{"$f":"IF(ISERROR(VLOOKUP( メイン!H98,競技名一覧!$B$2:$C$87,2,0)),\"\",VLOOKUP( メイン!H98,競技名一覧!$B$2:$C$87,2,0))","v":""},{"$f":"IF(INDEX( メイン!$A$9:$M$108, メイン!$A98,9)=\"\",\"\",INDEX( メイン!$A$9:$M$108, メイン!$A98,9))","v":""},null,null,{"$f":"IF(ISERROR(VLOOKUP( メイン!J98,競技名一覧!$B$2:$C$87,2,0)),\"\",VLOOKUP( メイン!J98,競技名一覧!$B$2:$C$87,2,0))","v":""},{"$f":"IF(INDEX( メイン!$A$9:$M$108, メイン!$A98,11)=\"\",\"\",INDEX( メイン!$A$9:$M$108, メイン!$A98,11))","v":""},null,null,{"$f":"IF(ISERROR(VLOOKUP( メイン!L98,競技名一覧!$J$2:$K$5,2,0)),\"\",VLOOKUP( メイン!L98,競技名一覧!$J$2:$K$44,2,0))","v":""},{"$f":"IF(INDEX( メイン!$A$9:$M$108, メイン!$A98,13)=\"\",\"\",INDEX( メイン!$A$9:$M$108, メイン!$A98,13))","v":""}]
[91,{"$f":"VLOOKUP(メイン!B99,所属名!$C$2:$D$178,2,FALSE)","v":1},null,null,{"$f":"IF(INDEX( メイン!$A$9:$M$108, メイン!$A99,3)=\"\",\"\",INDEX( メイン!$A$9:$M$108, メイン!$A99,3))","v":""},{"$f":"IF(INDEX( メイン!$A$9:$M$108, メイン!$A99,4)=\"\",\"\",INDEX( メイン!$A$9:$M$108, メイン!$A99,4))","v":""},{"$f":"IF(INDEX( メイン!$A$9:$M$108, メイン!$A99,5)=\"\",\"\",INDEX( メイン!$A$9:$M$108, メイン!$A99,5))","v":""},null,{"$f":"IF(ISERROR(VLOOKUP( メイン!F99, 所属名!$F$2:$G$3,2,0)),\"\",VLOOKUP( メイン!F99, 所属名!$F$2:$G$3,2,0))","v":""},{"$f":"IF(INDEX( メイン!$A$9:$M$108, メイン!$A99,7)=\"\",\"\",INDEX( メイン!$A$9:$M$108, メイン!$A99,7))","v":""},null,null,null,null,{"$f":"IF(ISERROR(VLOOKUP( メイン!H99,競技名一覧!$B$2:$C$87,2,0)),\"\",VLOOKUP( メイン!H99,競技名一覧!$B$2:$C$87,2,0))","v":""},{"$f":"IF(INDEX( メイン!$A$9:$M$108, メイン!$A99,9)=\"\",\"\",INDEX( メイン!$A$9:$M$108, メイン!$A99,9))","v":""},null,null,{"$f":"IF(ISERROR(VLOOKUP( メイン!J99,競技名一覧!$B$2:$C$87,2,0)),\"\",VLOOKUP( メイン!J99,競技名一覧!$B$2:$C$87,2,0))","v":""},{"$f":"IF(INDEX( メイン!$A$9:$M$108, メイン!$A99,11)=\"\",\"\",INDEX( メイン!$A$9:$M$108, メイン!$A99,11))","v":""},null,null,{"$f":"IF(ISERROR(VLOOKUP( メイン!L99,競技名一覧!$J$2:$K$5,2,0)),\"\",VLOOKUP( メイン!L99,競技名一覧!$J$2:$K$44,2,0))","v":""},{"$f":"IF(INDEX( メイン!$A$9:$M$108, メイン!$A99,13)=\"\",\"\",INDEX( メイン!$A$9:$M$108, メイン!$A99,13))","v":""}]
[92,{"$f":"VLOOKUP(メイン!B100,所属名!$C$2:$D$178,2,FALSE)","v":1},null,null,{"$f":"IF(INDEX( メイン!$A$9:$M$108, メイン!$A100,3)=\"\",\"\",INDEX( メイン!$A$9:$M$108, メイン!$A100,3))","v":""},{"$f":"IF(INDEX( メイン!$A$9:$M$108, メイン!$A100,4)=\"\",\"\",INDEX( メイン!$A$9:$M$108, メイン!$A100,4))","v":""},{"$f":"IF(INDEX( メイン!$A$9:$M$108, メイン!$A100,5)=\"\",\"\",INDEX( メイン!$A$9:$M$108, メイン!$A100,5))","v":""},null,{"$f":"IF(ISERROR(VLOOKUP( メイン!F100, 所属名!$F$2:$G$3,2,0)),\"\",VLOOKUP( メイン!F100, 所属名!$F$2:$G$3,2,0))","v":""},{"$f":"IF(INDEX( メイン!$A$9:$M$108, メイン!$A100,7)=\"\",\"\",INDEX( メイン!$A$9:$M$108, メイン!$A100,7))","v":""},null,null,null,null,{"$f":"IF(ISERROR(VLOOKUP( メイン!H100,競技名一覧!$B$2:$C$87,2,0)),\"\",VLOOKUP( メイン!H100,競技名一覧!$B$2:$C$87,2,0))","v":""},{"$f":"IF(INDEX( メイン!$A$9:$M$108, メイン!$A100,9)=\"\",\"\",INDEX( メイン!$A$9:$M$108, メイン!$A100,9))","v":""},null,null,{"$f":"IF(ISERROR(VLOOKUP( メイン!J100,競技名一覧!$B$2:$C$87,2,0)),\"\",VLOOKUP( メイン!J100,競技名一覧!$B$2:$C$87,2,0))","v":""},{"$f":"IF(INDEX( メイン!$A$9:$M$108, メイン!$A100,11)=\"\",\"\",INDEX( メイン!$A$9:$M$108, メイン!$A100,11))","v":""},null,null,{"$f":"IF(ISERROR(VLOOKUP( メイン!L100,競技名一覧!$J$2:$K$5,2,0)),\"\",VLOOKUP( メイン!L100,競技名一覧!$J$2:$K$44,2,0))","v":""},{"$f":"IF(INDEX( メイン!$A$9:$M$108, メイン!$A100,13)=\"\",\"\",INDEX( メイン!$A$9:$M$108, メイン!$A100,13))","v":""}]
[93,{"$f":"VLOOKUP(メイン!B101,所属名!$C$2:$D$178,2,FALSE)","v":1},null,null,{"$f":"IF(INDEX( メイン!$A$9:$M$108, メイン!$A101,3)=\"\",\"\",INDEX( メイン!$A$9:$M$108, メイン!$A101,3))","v":""},{"$f":"IF(INDEX( メイン!$A$9:$M$108, メイン!$A101,4)=\"\",\"\",INDEX( メイン!$A$9:$M$108, メイン!$A101,4))","v":""},{"$f":"IF(INDEX( メイン!$A$9:$M$108, メイン!$A101,5)=\"\",\"\",INDEX( メイン!$A$9:$M$108, メイン!$A101,5))","v":""},null,{"$f":"IF(ISERROR(VLOOKUP( メイン!F101, 所属名!$F$2:$G$3,2,0)),\"\",VLOOKUP( メイン!F101, 所属名!$F$2:$G$3,2,0))","v":""},{"$f":"IF(INDEX( メイン!$A$9:$M$108, メイン!$A101,7)=\"\",\"\",INDEX( メイン!$A$9:$M$108, メイン!$A101,7))","v":""},null,null,null,null,{"$f":"IF(ISERROR(VLOOKUP( メイン!H101,競技名一覧!$B$2:$C$87,2,0)),\"\",VLOOKUP( メイン!H101,競技名一覧!$B$2:$C$87,2,0))","v":""},{"$f":"IF(INDEX( メイン!$A$9:$M$108, メイン!$A101,9)=\"\",\"\",INDEX( メイン!$A$9:$M$108, メイン!$A101,9))","v":""},null,null,{"$f":"IF(ISERROR(VLOOKUP( メイン!J101,競技名一覧!$B$2:$C$87,2,0)),\"\",VLOOKUP( メイン!J101,競技名一覧!$B$2:$C$87,2,0))","v":""},{"$f":"IF(INDEX( メイン!$A$9:$M$108, メイン!$A101,11)=\"\",\"\",INDEX( メイン!$A$9:$M$108, メイン!$A101,11))","v":""},null,null,{"$f":"IF(ISERROR(VLOOKUP( メイン!L101,競技名一覧!$J$2:$K$5,2,0)),\"\",VLOOKUP( メイン!L101,競技名一覧!$J$2:$K$44,2,0))","v":""},{"$f":"IF(INDEX( メイン!$A$9:$M$108, メイン!$A101,13)=\"\",\"\",INDEX( メイン!$A$9:$M$108, メイン!$A101,13))","v":""}]
[94,{"$f":"VLOOKUP(メイン!B102,所属名!$C$2:$D$178,2,FALSE)","v":1},null,null,{"$f":"IF(INDEX( メイン!$A$9:$M$108, メイン!$A102,3)=\"\",\"\",INDEX( メイン!$A$9:$M$108, メイン!$A102,3))","v":""},{"$f":"IF(INDEX( メイン!$A$9:$M$108, メイン!$A102,4)=\"\",\"\",INDEX( メイン!$A$9:$M$108, メイン!$A102,4))","v":""},{"$f":"IF(INDEX( メイン!$A$9:$M$108, メイン!$A102,5)=\"\",\"\",INDEX( メイン!$A$9:$M$108, メイン!$A102,5))","v":""},null,{"$f":"IF(ISERROR(VLOOKUP( メイン!F102, 所属名!$F$2:$G$3,2,0)),\"\",VLOOKUP( メイン!F102, 所属名!$F$2:$G$3,2,0))","v":""},{"$f":"IF(INDEX( メイン!$A$9:$M$108, メイン!$A102,7)=\"\",\"\",INDEX( メイン!$A$9:$M$108, メイン!$A102,7))","v":""},null,null,null,null,{"$f":"IF(ISERROR(VLOOKUP( メイン!H102,競技名一覧!$B$2:$C$87,2,0)),\"\",VLOOKUP( メイン!H102,競技名一覧!$B$2:$C$87,2,0))","v":""},{"$f":"IF(INDEX( メイン!$A$9:$M$108, メイン!$A102,9)=\"\",\"\",INDEX( メイン!$A$9:$M$108, メイン!$A102,9))","v":""},null,null,{"$f":"IF(ISERROR(VLOOKUP( メイン!J102,競技名一覧!$B$2:$C$87,2,0)),\"\",VLOOKUP( メイン!J102,競技名一覧!$B$2:$C$87,2,0))","v":""},{"$f":"IF(INDEX( メイン!$A$9:$M$108, メイン!$A102,11)=\"\",\"\",INDEX( メイン!$A$9:$M$108, メイン!$A102,11))","v":""},null,null,{"$f":"IF(ISERROR(VLOOKUP( メイン!L102,競技名一覧!$J$2:$K$5,2,0)),\"\",VLOOKUP( メイン!L102,競技名一覧!$J$2:$K$44,2,0))","v":""},{"$f":"IF(INDEX( メイン!$A$9:$M$108, メイン!$A102,13)=\"\",\"\",INDEX( メイン!$A$9:$M$108, メイン!$A102,13))","v":""}]
[95,{"$f":"VLOOKUP(メイン!B103,所属名!$C$2:$D$178,2,FALSE)","v":1},null,null,{"$f":"IF(INDEX( メイン!$A$9:$M$108, メイン!$A103,3)=\"\",\"\",INDEX( メイン!$A$9:$M$108, メイン!$A103,3))","v":""},{"$f":"IF(INDEX( メイン!$A$9:$M$108, メイン!$A103,4)=\"\",\"\",INDEX( メイン!$A$9:$M$108, メイン!$A103,4))","v":""},{"$f":"IF(INDEX( メイン!$A$9:$M$108, メイン!$A103,5)=\"\",\"\",INDEX( メイン!$A$9:$M$108, メイン!$A103,5))","v":""},null,{"$f":"IF(ISERROR(VLOOKUP( メイン!F103, 所属名!$F$2:$G$3,2,0)),\"\",VLOOKUP( メイン!F103, 所属名!$F$2:$G$3,2,0))","v":""},{"$f":"IF(INDEX( メイン!$A$9:$M$108, メイン!$A103,7)=\"\",\"\",INDEX( メイン!$A$9:$M$108, メイン!$A103,7))","v":""},null,null,null,null,{"$f":"IF(ISERROR(VLOOKUP( メイン!H103,競技名一覧!$B$2:$C$87,2,0)),\"\",VLOOKUP( メイン!H103,競技名一覧!$B$2:$C$87,2,0))","v":""},{"$f":"IF(INDEX( メイン!$A$9:$M$108, メイン!$A103,9)=\"\",\"\",INDEX( メイン!$A$9:$M$108, メイン!$A103,9))","v":""},null,null,{"$f":"IF(ISERROR(VLOOKUP( メイン!J103,競技名一覧!$B$2:$C$87,2,0)),\"\",VLOOKUP( メイン!J103,競技名一覧!$B$2:$C$87,2,0))","v":""},{"$f":"IF(INDEX( メイン!$A$9:$M$108, メイン!$A103,11)=\"\",\"\",INDEX( メイン!$A$9:$M$108, メイン!$A103,11))","v":""},null,null,{"$f":"IF(ISERROR(VLOOKUP( メイン!L103,競技名一覧!$J$2:$K$5,2,0)),\"\",VLOOKUP( メイン!L103,競技名一覧!$J$2:$K$44,2,0))","v":""},{"$f":"IF(INDEX( メイン!$A$9:$M$108, メイン!$A103,13)=\"\",\"\",INDEX( メイン!$A$9:$M$108, メイン!$A103,13))","v":""}]
[96,{"$f":"VLOOKUP(メイン!B104,所属名!$C$2:$D$178,2,FALSE)","v":1},null,null,{"$f":"IF(INDEX( メイン!$A$9:$M$108, メイン!$A104,3)=\"\",\"\",INDEX( メイン!$A$9:$M$108, メイン!$A104,3))","v":""},{"$f":"IF(INDEX( メイン!$A$9:$M$108, メイン!$A104,4)=\"\",\"\",INDEX( メイン!$A$9:$M$108, メイン!$A104,4))","v":""},{"$f":"IF(INDEX( メイン!$A$9:$M$108, メイン!$A104,5)=\"\",\"\",INDEX( メイン!$A$9:$M$108, メイン!$A104,5))","v":""},null,{"$f":"IF(ISERROR(VLOOKUP( メイン!F104, 所属名!$F$2:$G$3,2,0)),\"\",VLOOKUP( メイン!F104, 所属名!$F$2:$G$3,2,0))","v":""},{"$f":"IF(INDEX( メイン!$A$9:$M$108, メイン!$A104,7)=\"\",\"\",INDEX( メイン!$A$9:$M$108, メイン!$A104,7))","v":""},null,null,null,null,{"$f":"IF(ISERROR(VLOOKUP( メイン!H104,競技名一覧!$B$2:$C$87,2,0)),\"\",VLOOKUP( メイン!H104,競技名一覧!$B$2:$C$87,2,0))","v":""},{"$f":"IF(INDEX( メイン!$A$9:$M$108, メイン!$A104,9)=\"\",\"\",INDEX( メイン!$A$9:$M$108, メイン!$A104,9))","v":""},null,null,{"$f":"IF(ISERROR(VLOOKUP( メイン!J104,競技名一覧!$B$2:$C$87,2,0)),\"\",VLOOKUP( メイン!J104,競技名一覧!$B$2:$C$87,2,0))","v":""},{"$f":"IF(INDEX( メイン!$A$9:$M$108, メイン!$A104,11)=\"\",\"\",INDEX( メイン!$A$9:$M$108, メイン!$A104,11))","v":""},null,null,{"$f":"IF(ISERROR(VLOOKUP( メイン!L104,競技名一覧!$J$2:$K$5,2,0)),\"\",VLOOKUP( メイン!L104,競技名一覧!$J$2:$K$44,2,0))","v":""},{"$f":"IF(INDEX( メイン!$A$9:$M$108, メイン!$A104,13)=\"\",\"\",INDEX( メイン!$A$9:$M$108, メイン!$A104,13))","v":""}]
[null,null,null,null,null,null,null,null,null,null,null,null,null,null,{"$f":"IF(ISERROR(VLOOKUP( メイン!H105,競技名一覧!$B$2:$C$87,2,0)),\"\",VLOOKUP( メイン!H105,競技名一覧!$B$2:$C$87,2,0))","v":""},null,null,null,{"$f":"IF(ISERROR(VLOOKUP( メイン!J105,競技名一覧!$B$2:$C$87,2,0)),\"\",VLOOKUP( メイン!J105,競技名一覧!$B$2:$C$87,2,0))","v":""}]
[null,null,null,null,null,null,null,null,null,null,null,null,null,null,null,null,null,null,{"$f":"IF(ISERROR(VLOOKUP( メイン!J106,競技名一覧!$B$2:$C$87,2,0)),\"\",VLOOKUP( メイン!J106,競技名一覧!$B$2:$C$87,2,0))","v":""}]

{"sheet":"リレー種目データ（いじらない）","index":6,"n_rows":102,"n_cols":13,"rows_kept":102,"cut":false,"hidden":false,"merged":[]}
["チームNO","所属コード","チーム名","チーム名カナ","チーム名略称","チーム正式名称","ID","競技者NO","競技者名","参加競技-競技コード","参加競技-自己記録","参加競技-オープン参加FLG","参加競技-記録FLG"]
[{"$f":"IF(J2=26,B2+10000,IF(J2=27,B2+11000,IF(J2=64,B2+20000,IF(J2=65,B2+21000,\"\"))))","v":""},{"$f":"VLOOKUP(メイン!B9,所属名!$C$2:$D$177,2,FALSE)","v":1},{"$f":"IF(INDEX(リレー種目!$A$2:$I$101,リレー種目!$A2,4)=\"\",\"\",INDEX(リレー種目!$A$2:$I$101,リレー種目!$A2,4))","v":""},null,null,null,null,null,{"$f":"IF(INDEX(リレー種目!$A$2:$I$101,リレー種目!$A2,6)=\"\",\"\",INDEX(リレー種目!$A$2:$I$101,リレー種目!$A2,6))","v":""},{"$f":"IF(ISERROR(VLOOKUP(リレー種目!H2,競技名一覧!$J$2:$K$6,2,0)),\"\",VLOOKUP(リレー種目!H2,競技名一覧!$J$2:$K$6,2,0))","v":""},{"$f":"IF(INDEX(リレー種目!$A$2:$I$101,リレー種目!$A2,9)=\"\",\"\",INDEX(リレー種目!$A$2:$I$101,リレー種目!$A2,9))","v":""}]
[{"$f":"IF(J3=26,B3+10000,IF(J3=27,B3+11000,IF(J3=64,B3+20000,IF(J3=65,B3+21000,\"\"))))","v":""},{"$f":"VLOOKUP(メイン!B10,所属名!$C$2:$D$177,2,FALSE)","v":1},{"$f":"IF(INDEX(リレー種目!$A$2:$I$101,リレー種目!$A3,4)=\"\",\"\",INDEX(リレー種目!$A$2:$I$101,リレー種目!$A3,4))","v":""},null,null,null,null,null,{"$f":"IF(INDEX(リレー種目!$A$2:$I$101,リレー種目!$A3,6)=\"\",\"\",INDEX(リレー種目!$A$2:$I$101,リレー種目!$A3,6))","v":""},{"$f":"IF(ISERROR(VLOOKUP(リレー種目!H3,競技名一覧!$J$2:$K$6,2,0)),\"\",VLOOKUP(リレー種目!H3,競技名一覧!$J$2:$K$6,2,0))","v":""},{"$f":"IF(INDEX(リレー種目!$A$2:$I$101,リレー種目!$A3,9)=\"\",\"\",INDEX(リレー種目!$A$2:$I$101,リレー種目!$A3,9))","v":""}]
["",{"$f":"VLOOKUP(メイン!B11,所属名!$C$2:$D$177,2,FALSE)","v":1},{"$f":"IF(INDEX(リレー種目!$A$2:$I$101,リレー種目!$A4,4)=\"\",\"\",INDEX(リレー種目!$A$2:$I$101,リレー種目!$A4,4))","v":""},null,null,null,null,null,{"$f":"IF(INDEX(リレー種目!$A$2:$I$101,リレー種目!$A4,6)=\"\",\"\",INDEX(リレー種目!$A$2:$I$101,リレー種目!$A4,6))","v":""},{"$f":"IF(ISERROR(VLOOKUP(リレー種目!H4,競技名一覧!$J$2:$K$6,2,0)),\"\",VLOOKUP(リレー種目!H4,競技名一覧!$J$2:$K$6,2,0))","v":""},{"$f":"IF(INDEX(リレー種目!$A$2:$I$101,リレー種目!$A4,9)=\"\",\"\",INDEX(リレー種目!$A$2:$I$101,リレー種目!$A4,9))","v":""}]
["",{"$f":"VLOOKUP(メイン!B12,所属名!$C$2:$D$177,2,FALSE)","v":1},{"$f":"IF(INDEX(リレー種目!$A$2:$I$101,リレー種目!$A5,4)=\"\",\"\",INDEX(リレー種目!$A$2:$I$101,リレー種目!$A5,4))","v":""},null,null,null,null,null,{"$f":"IF(INDEX(リレー種目!$A$2:$I$101,リレー種目!$A5,6)=\"\",\"\",INDEX(リレー種目!$A$2:$I$101,リレー種目!$A5,6))","v":""},{"$f":"IF(ISERROR(VLOOKUP(リレー種目!H5,競技名一覧!$J$2:$K$6,2,0)),\"\",VLOOKUP(リレー種目!H5,競技名一覧!$J$2:$K$6,2,0))","v":""},{"$f":"IF(INDEX(リレー種目!$A$2:$I$101,リレー種目!$A5,9)=\"\",\"\",INDEX(リレー種目!$A$2:$I$101,リレー種目!$A5,9))","v":""}]
["",{"$f":"VLOOKUP(メイン!B13,所属名!$C$2:$D$177,2,FALSE)","v":1},{"$f":"IF(INDEX(リレー種目!$A$2:$I$101,リレー種目!$A6,4)=\"\",\"\",INDEX(リレー種目!$A$2:$I$101,リレー種目!$A6,4))","v":""},null,null,null,null,null,{"$f":"IF(INDEX(リレー種目!$A$2:$I$101,リレー種目!$A6,6)=\"\",\"\",INDEX(リレー種目!$A$2:$I$101,リレー種目!$A6,6))","v":""},{"$f":"IF(ISERROR(VLOOKUP(リレー種目!H6,競技名一覧!$J$2:$K$6,2,0)),\"\",VLOOKUP(リレー種目!H6,競技名一覧!$J$2:$K$6,2,0))","v":""},{"$f":"IF(INDEX(リレー種目!$A$2:$I$101,リレー種目!$A6,9)=\"\",\"\",INDEX(リレー種目!$A$2:$I$101,リレー種目!$A6,9))","v":""}]
["",{"$f":"VLOOKUP(メイン!B14,所属名!$C$2:$D$177,2,FALSE)","v":1},{"$f":"IF(INDEX(リレー種目!$A$2:$I$101,リレー種目!$A7,4)=\"\",\"\",INDEX(リレー種目!$A$2:$I$101,リレー種目!$A7,4))","v":""},null,null,null,null,null,{"$f":"IF(INDEX(リレー種目!$A$2:$I$101,リレー種目!$A7,6)=\"\",\"\",INDEX(リレー種目!$A$2:$I$101,リレー種目!$A7,6))","v":""},{"$f":"IF(ISERROR(VLOOKUP(リレー種目!H7,競技名一覧!$J$2:$K$6,2,0)),\"\",VLOOKUP(リレー種目!H7,競技名一覧!$J$2:$K$6,2,0))","v":""},{"$f":"IF(INDEX(リレー種目!$A$2:$I$101,リレー種目!$A7,9)=\"\",\"\",INDEX(リレー種目!$A$2:$I$101,リレー種目!$A7,9))","v":""}]
["",{"$f":"VLOOKUP(メイン!B15,所属名!$C$2:$D$177,2,FALSE)","v":1},{"$f":"IF(INDEX(リレー種目!$A$2:$I$101,リレー種目!$A8,4)=\"\",\"\",INDEX(リレー種目!$A$2:$I$101,リレー種目!$A8,4))","v":""},null,null,null,null,null,{"$f":"IF(INDEX(リレー種目!$A$2:$I$101,リレー種目!$A8,6)=\"\",\"\",INDEX(リレー種目!$A$2:$I$101,リレー種目!$A8,6))","v":""},{"$f":"IF(ISERROR(VLOOKUP(リレー種目!H8,競技名一覧!$J$2:$K$6,2,0)),\"\",VLOOKUP(リレー種目!H8,競技名一覧!$J$2:$K$6,2,0))","v":""},{"$f":"IF(INDEX(リレー種目!$A$2:$I$101,リレー種目!$A8,9)=\"\",\"\",INDEX(リレー種目!$A$2:$I$101,リレー種目!$A8,9))","v":""}]
["",{"$f":"VLOOKUP(メイン!B16,所属名!$C$2:$D$177,2,FALSE)","v":1},{"$f":"IF(INDEX(リレー種目!$A$2:$I$101,リレー種目!$A9,4)=\"\",\"\",INDEX(リレー種目!$A$2:$I$101,リレー種目!$A9,4))","v":""},null,null,null,null,null,{"$f":"IF(INDEX(リレー種目!$A$2:$I$101,リレー種目!$A9,6)=\"\",\"\",INDEX(リレー種目!$A$2:$I$101,リレー種目!$A9,6))","v":""},{"$f":"IF(ISERROR(VLOOKUP(リレー種目!H9,競技名一覧!$J$2:$K$6,2,0)),\"\",VLOOKUP(リレー種目!H9,競技名一覧!$J$2:$K$6,2,0))","v":""},{"$f":"IF(INDEX(リレー種目!$A$2:$I$101,リレー種目!$A9,9)=\"\",\"\",INDEX(リレー種目!$A$2:$I$101,リレー種目!$A9,9))","v":""}]
["",{"$f":"VLOOKUP(メイン!B17,所属名!$C$2:$D$177,2,FALSE)","v":1},{"$f":"IF(INDEX(リレー種目!$A$2:$I$101,リレー種目!$A10,4)=\"\",\"\",INDEX(リレー種目!$A$2:$I$101,リレー種目!$A10,4))","v":""},null,null,null,null,null,{"$f":"IF(INDEX(リレー種目!$A$2:$I$101,リレー種目!$A10,6)=\"\",\"\",INDEX(リレー種目!$A$2:$I$101,リレー種目!$A10,6))","v":""},{"$f":"IF(ISERROR(VLOOKUP(リレー種目!H10,競技名一覧!$J$2:$K$6,2,0)),\"\",VLOOKUP(リレー種目!H10,競技名一覧!$J$2:$K$6,2,0))","v":""},{"$f":"IF(INDEX(リレー種目!$A$2:$I$101,リレー種目!$A10,9)=\"\",\"\",INDEX(リレー種目!$A$2:$I$101,リレー種目!$A10,9))","v":""}]
["",{"$f":"VLOOKUP(メイン!B18,所属名!$C$2:$D$177,2,FALSE)","v":1},{"$f":"IF(INDEX(リレー種目!$A$2:$I$101,リレー種目!$A11,4)=\"\",\"\",INDEX(リレー種目!$A$2:$I$101,リレー種目!$A11,4))","v":""},null,null,null,null,null,{"$f":"IF(INDEX(リレー種目!$A$2:$I$101,リレー種目!$A11,6)=\"\",\"\",INDEX(リレー種目!$A$2:$I$101,リレー種目!$A11,6))","v":""},{"$f":"IF(ISERROR(VLOOKUP(リレー種目!H11,競技名一覧!$J$2:$K$6,2,0)),\"\",VLOOKUP(リレー種目!H11,競技名一覧!$J$2:$K$6,2,0))","v":""},{"$f":"IF(INDEX(リレー種目!$A$2:$I$101,リレー種目!$A11,9)=\"\",\"\",INDEX(リレー種目!$A$2:$I$101,リレー種目!$A11,9))","v":""}]
["",{"$f":"VLOOKUP(メイン!B19,所属名!$C$2:$D$177,2,FALSE)","v":1},{"$f":"IF(INDEX(リレー種目!$A$2:$I$101,リレー種目!$A12,4)=\"\",\"\",INDEX(リレー種目!$A$2:$I$101,リレー種目!$A12,4))","v":""},null,null,null,null,null,{"$f":"IF(INDEX(リレー種目!$A$2:$I$101,リレー種目!$A12,6)=\"\",\"\",INDEX(リレー種目!$A$2:$I$101,リレー種目!$A12,6))","v":""},{"$f":"IF(ISERROR(VLOOKUP(リレー種目!H12,競技名一覧!$J$2:$K$6,2,0)),\"\",VLOOKUP(リレー種目!H12,競技名一覧!$J$2:$K$6,2,0))","v":""},{"$f":"IF(INDEX(リレー種目!$A$2:$I$101,リレー種目!$A12,9)=\"\",\"\",INDEX(リレー種目!$A$2:$I$101,リレー種目!$A12,9))","v":""}]
["",{"$f":"VLOOKUP(メイン!B20,所属名!$C$2:$D$177,2,FALSE)","v":1},{"$f":"IF(INDEX(リレー種目!$A$2:$I$101,リレー種目!$A13,4)=\"\",\"\",INDEX(リレー種目!$A$2:$I$101,リレー種目!$A13,4))","v":""},null,null,null,null,null,{"$f":"IF(INDEX(リレー種目!$A$2:$I$101,リレー種目!$A13,6)=\"\",\"\",INDEX(リレー種目!$A$2:$I$101,リレー種目!$A13,6))","v":""},{"$f":"IF(ISERROR(VLOOKUP(リレー種目!H13,競技名一覧!$J$2:$K$6,2,0)),\"\",VLOOKUP(リレー種目!H13,競技名一覧!$J$2:$K$6,2,0))","v":""},{"$f":"IF(INDEX(リレー種目!$A$2:$I$101,リレー種目!$A13,9)=\"\",\"\",INDEX(リレー種目!$A$2:$I$101,リレー種目!$A13,9))","v":""}]
["",{"$f":"VLOOKUP(メイン!B21,所属名!$C$2:$D$177,2,FALSE)","v":1},{"$f":"IF(INDEX(リレー種目!$A$2:$I$101,リレー種目!$A14,4)=\"\",\"\",INDEX(リレー種目!$A$2:$I$101,リレー種目!$A14,4))","v":""},null,null,null,null,null,{"$f":"IF(INDEX(リレー種目!$A$2:$I$101,リレー種目!$A14,6)=\"\",\"\",INDEX(リレー種目!$A$2:$I$101,リレー種目!$A14,6))","v":""},{"$f":"IF(ISERROR(VLOOKUP(リレー種目!H14,競技名一覧!$J$2:$K$6,2,0)),\"\",VLOOKUP(リレー種目!H14,競技名一覧!$J$2:$K$6,2,0))","v":""},{"$f":"IF(INDEX(リレー種目!$A$2:$I$101,リレー種目!$A14,9)=\"\",\"\",INDEX(リレー種目!$A$2:$I$101,リレー種目!$A14,9))","v":""}]
["",{"$f":"VLOOKUP(メイン!B22,所属名!$C$2:$D$177,2,FALSE)","v":1},{"$f":"IF(INDEX(リレー種目!$A$2:$I$101,リレー種目!$A15,4)=\"\",\"\",INDEX(リレー種目!$A$2:$I$101,リレー種目!$A15,4))","v":""},null,null,null,null,null,{"$f":"IF(INDEX(リレー種目!$A$2:$I$101,リレー種目!$A15,6)=\"\",\"\",INDEX(リレー種目!$A$2:$I$101,リレー種目!$A15,6))","v":""},{"$f":"IF(ISERROR(VLOOKUP(リレー種目!H15,競技名一覧!$J$2:$K$6,2,0)),\"\",VLOOKUP(リレー種目!H15,競技名一覧!$J$2:$K$6,2,0))","v":""},{"$f":"IF(INDEX(リレー種目!$A$2:$I$101,リレー種目!$A15,9)=\"\",\"\",INDEX(リレー種目!$A$2:$I$101,リレー種目!$A15,9))","v":""}]
["",{"$f":"VLOOKUP(メイン!B23,所属名!$C$2:$D$177,2,FALSE)","v":1},{"$f":"IF(INDEX(リレー種目!$A$2:$I$101,リレー種目!$A16,4)=\"\",\"\",INDEX(リレー種目!$A$2:$I$101,リレー種目!$A16,4))","v":""},null,null,null,null,null,{"$f":"IF(INDEX(リレー種目!$A$2:$I$101,リレー種目!$A16,6)=\"\",\"\",INDEX(リレー種目!$A$2:$I$101,リレー種目!$A16,6))","v":""},{"$f":"IF(ISERROR(VLOOKUP(リレー種目!H16,競技名一覧!$J$2:$K$6,2,0)),\"\",VLOOKUP(リレー種目!H16,競技名一覧!$J$2:$K$6,2,0))","v":""},{"$f":"IF(INDEX(リレー種目!$A$2:$I$101,リレー種目!$A16,9)=\"\",\"\",INDEX(リレー種目!$A$2:$I$101,リレー種目!$A16,9))","v":""}]
["",{"$f":"VLOOKUP(メイン!B24,所属名!$C$2:$D$177,2,FALSE)","v":1},{"$f":"IF(INDEX(リレー種目!$A$2:$I$101,リレー種目!$A17,4)=\"\",\"\",INDEX(リレー種目!$A$2:$I$101,リレー種目!$A17,4))","v":""},null,null,null,null,null,{"$f":"IF(INDEX(リレー種目!$A$2:$I$101,リレー種目!$A17,6)=\"\",\"\",INDEX(リレー種目!$A$2:$I$101,リレー種目!$A17,6))","v":""},{"$f":"IF(ISERROR(VLOOKUP(リレー種目!H17,競技名一覧!$J$2:$K$6,2,0)),\"\",VLOOKUP(リレー種目!H17,競技名一覧!$J$2:$K$6,2,0))","v":""},{"$f":"IF(INDEX(リレー種目!$A$2:$I$101,リレー種目!$A17,9)=\"\",\"\",INDEX(リレー種目!$A$2:$I$101,リレー種目!$A17,9))","v":""}]
["",{"$f":"VLOOKUP(メイン!B25,所属名!$C$2:$D$177,2,FALSE)","v":1},{"$f":"IF(INDEX(リレー種目!$A$2:$I$101,リレー種目!$A18,4)=\"\",\"\",INDEX(リレー種目!$A$2:$I$101,リレー種目!$A18,4))","v":""},null,null,null,null,null,{"$f":"IF(INDEX(リレー種目!$A$2:$I$101,リレー種目!$A18,6)=\"\",\"\",INDEX(リレー種目!$A$2:$I$101,リレー種目!$A18,6))","v":""},{"$f":"IF(ISERROR(VLOOKUP(リレー種目!H18,競技名一覧!$J$2:$K$6,2,0)),\"\",VLOOKUP(リレー種目!H18,競技名一覧!$J$2:$K$6,2,0))","v":""},{"$f":"IF(INDEX(リレー種目!$A$2:$I$101,リレー種目!$A18,9)=\"\",\"\",INDEX(リレー種目!$A$2:$I$101,リレー種目!$A18,9))","v":""}]
["",{"$f":"VLOOKUP(メイン!B26,所属名!$C$2:$D$177,2,FALSE)","v":1},{"$f":"IF(INDEX(リレー種目!$A$2:$I$101,リレー種目!$A19,4)=\"\",\"\",INDEX(リレー種目!$A$2:$I$101,リレー種目!$A19,4))","v":""},null,null,null,null,null,{"$f":"IF(INDEX(リレー種目!$A$2:$I$101,リレー種目!$A19,6)=\"\",\"\",INDEX(リレー種目!$A$2:$I$101,リレー種目!$A19,6))","v":""},{"$f":"IF(ISERROR(VLOOKUP(リレー種目!H19,競技名一覧!$J$2:$K$6,2,0)),\"\",VLOOKUP(リレー種目!H19,競技名一覧!$J$2:$K$6,2,0))","v":""},{"$f":"IF(INDEX(リレー種目!$A$2:$I$101,リレー種目!$A19,9)=\"\",\"\",INDEX(リレー種目!$A$2:$I$101,リレー種目!$A19,9))","v":""}]
["",{"$f":"VLOOKUP(メイン!B27,所属名!$C$2:$D$177,2,FALSE)","v":1},{"$f":"IF(INDEX(リレー種目!$A$2:$I$101,リレー種目!$A20,4)=\"\",\"\",INDEX(リレー種目!$A$2:$I$101,リレー種目!$A20,4))","v":""},null,null,null,null,null,{"$f":"IF(INDEX(リレー種目!$A$2:$I$101,リレー種目!$A20,6)=\"\",\"\",INDEX(リレー種目!$A$2:$I$101,リレー種目!$A20,6))","v":""},{"$f":"IF(ISERROR(VLOOKUP(リレー種目!H20,競技名一覧!$J$2:$K$6,2,0)),\"\",VLOOKUP(リレー種目!H20,競技名一覧!$J$2:$K$6,2,0))","v":""},{"$f":"IF(INDEX(リレー種目!$A$2:$I$101,リレー種目!$A20,9)=\"\",\"\",INDEX(リレー種目!$A$2:$I$101,リレー種目!$A20,9))","v":""}]
["",{"$f":"VLOOKUP(メイン!B28,所属名!$C$2:$D$177,2,FALSE)","v":1},{"$f":"IF(INDEX(リレー種目!$A$2:$I$101,リレー種目!$A21,4)=\"\",\"\",INDEX(リレー種目!$A$2:$I$101,リレー種目!$A21,4))","v":""},null,null,null,null,null,{"$f":"IF(INDEX(リレー種目!$A$2:$I$101,リレー種目!$A21,6)=\"\",\"\",INDEX(リレー種目!$A$2:$I$101,リレー種目!$A21,6))","v":""},{"$f":"IF(ISERROR(VLOOKUP(リレー種目!H21,競技名一覧!$J$2:$K$6,2,0)),\"\",VLOOKUP(リレー種目!H21,競技名一覧!$J$2:$K$6,2,0))","v":""},{"$f":"IF(INDEX(リレー種目!$A$2:$I$101,リレー種目!$A21,9)=\"\",\"\",INDEX(リレー種目!$A$2:$I$101,リレー種目!$A21,9))","v":""}]
["",{"$f":"VLOOKUP(メイン!B29,所属名!$C$2:$D$177,2,FALSE)","v":1},{"$f":"IF(INDEX(リレー種目!$A$2:$I$101,リレー種目!$A22,4)=\"\",\"\",INDEX(リレー種目!$A$2:$I$101,リレー種目!$A22,4))","v":""},null,null,null,null,null,{"$f":"IF(INDEX(リレー種目!$A$2:$I$101,リレー種目!$A22,6)=\"\",\"\",INDEX(リレー種目!$A$2:$I$101,リレー種目!$A22,6))","v":""},{"$f":"IF(ISERROR(VLOOKUP(リレー種目!H22,競技名一覧!$J$2:$K$6,2,0)),\"\",VLOOKUP(リレー種目!H22,競技名一覧!$J$2:$K$6,2,0))","v":""},{"$f":"IF(INDEX(リレー種目!$A$2:$I$101,リレー種目!$A22,9)=\"\",\"\",INDEX(リレー種目!$A$2:$I$101,リレー種目!$A22,9))","v":""}]
["",{"$f":"VLOOKUP(メイン!B30,所属名!$C$2:$D$177,2,FALSE)","v":1},{"$f":"IF(INDEX(リレー種目!$A$2:$I$101,リレー種目!$A23,4)=\"\",\"\",INDEX(リレー種目!$A$2:$I$101,リレー種目!$A23,4))","v":""},null,null,null,null,null,{"$f":"IF(INDEX(リレー種目!$A$2:$I$101,リレー種目!$A23,6)=\"\",\"\",INDEX(リレー種目!$A$2:$I$101,リレー種目!$A23,6))","v":""},{"$f":"IF(ISERROR(VLOOKUP(リレー種目!H23,競技名一覧!$J$2:$K$6,2,0)),\"\",VLOOKUP(リレー種目!H23,競技名一覧!$J$2:$K$6,2,0))","v":""},{"$f":"IF(INDEX(リレー種目!$A$2:$I$101,リレー種目!$A23,9)=\"\",\"\",INDEX(リレー種目!$A$2:$I$101,リレー種目!$A23,9))","v":""}]
["",{"$f":"VLOOKUP(メイン!B31,所属名!$C$2:$D$177,2,FALSE)","v":1},{"$f":"IF(INDEX(リレー種目!$A$2:$I$101,リレー種目!$A24,4)=\"\",\"\",INDEX(リレー種目!$A$2:$I$101,リレー種目!$A24,4))","v":""},null,null,null,null,null,{"$f":"IF(INDEX(リレー種目!$A$2:$I$101,リレー種目!$A24,6)=\"\",\"\",INDEX(リレー種目!$A$2:$I$101,リレー種目!$A24,6))","v":""},{"$f":"IF(ISERROR(VLOOKUP(リレー種目!H24,競技名一覧!$J$2:$K$6,2,0)),\"\",VLOOKUP(リレー種目!H24,競技名一覧!$J$2:$K$6,2,0))","v":""},{"$f":"IF(INDEX(リレー種目!$A$2:$I$101,リレー種目!$A24,9)=\"\",\"\",INDEX(リレー種目!$A$2:$I$101,リレー種目!$A24,9))","v":""}]
["",{"$f":"VLOOKUP(メイン!B32,所属名!$C$2:$D$177,2,FALSE)","v":1},{"$f":"IF(INDEX(リレー種目!$A$2:$I$101,リレー種目!$A25,4)=\"\",\"\",INDEX(リレー種目!$A$2:$I$101,リレー種目!$A25,4))","v":""},null,null,null,null,null,{"$f":"IF(INDEX(リレー種目!$A$2:$I$101,リレー種目!$A25,6)=\"\",\"\",INDEX(リレー種目!$A$2:$I$101,リレー種目!$A25,6))","v":""},{"$f":"IF(ISERROR(VLOOKUP(リレー種目!H25,競技名一覧!$J$2:$K$6,2,0)),\"\",VLOOKUP(リレー種目!H25,競技名一覧!$J$2:$K$6,2,0))","v":""},{"$f":"IF(INDEX(リレー種目!$A$2:$I$101,リレー種目!$A25,9)=\"\",\"\",INDEX(リレー種目!$A$2:$I$101,リレー種目!$A25,9))","v":""}]
["",{"$f":"VLOOKUP(メイン!B33,所属名!$C$2:$D$177,2,FALSE)","v":1},{"$f":"IF(INDEX(リレー種目!$A$2:$I$101,リレー種目!$A26,4)=\"\",\"\",INDEX(リレー種目!$A$2:$I$101,リレー種目!$A26,4))","v":""},null,null,null,null,null,{"$f":"IF(INDEX(リレー種目!$A$2:$I$101,リレー種目!$A26,6)=\"\",\"\",INDEX(リレー種目!$A$2:$I$101,リレー種目!$A26,6))","v":""},{"$f":"IF(ISERROR(VLOOKUP(リレー種目!H26,競技名一覧!$J$2:$K$6,2,0)),\"\",VLOOKUP(リレー種目!H26,競技名一覧!$J$2:$K$6,2,0))","v":""},{"$f":"IF(INDEX(リレー種目!$A$2:$I$101,リレー種目!$A26,9)=\"\",\"\",INDEX(リレー種目!$A$2:$I$101,リレー種目!$A26,9))","v":""}]
["",{"$f":"VLOOKUP(メイン!B34,所属名!$C$2:$D$177,2,FALSE)","v":1},{"$f":"IF(INDEX(リレー種目!$A$2:$I$101,リレー種目!$A27,4)=\"\",\"\",INDEX(リレー種目!$A$2:$I$101,リレー種目!$A27,4))","v":""},null,null,null,null,null,{"$f":"IF(INDEX(リレー種目!$A$2:$I$101,リレー種目!$A27,6)=\"\",\"\",INDEX(リレー種目!$A$2:$I$101,リレー種目!$A27,6))","v":""},{"$f":"IF(ISERROR(VLOOKUP(リレー種目!H27,競技名一覧!$J$2:$K$6,2,0)),\"\",VLOOKUP(リレー種目!H27,競技名一覧!$J$2:$K$6,2,0))","v":""},{"$f":"IF(INDEX(リレー種目!$A$2:$I$101,リレー種目!$A27,9)=\"\",\"\",INDEX(リレー種目!$A$2:$I$101,リレー種目!$A27,9))","v":""}]
["",{"$f":"VLOOKUP(メイン!B35,所属名!$C$2:$D$177,2,FALSE)","v":1},{"$f":"IF(INDEX(リレー種目!$A$2:$I$101,リレー種目!$A28,4)=\"\",\"\",INDEX(リレー種目!$A$2:$I$101,リレー種目!$A28,4))","v":""},null,null,null,null,null,{"$f":"IF(INDEX(リレー種目!$A$2:$I$101,リレー種目!$A28,6)=\"\",\"\",INDEX(リレー種目!$A$2:$I$101,リレー種目!$A28,6))","v":""},{"$f":"IF(ISERROR(VLOOKUP(リレー種目!H28,競技名一覧!$J$2:$K$6,2,0)),\"\",VLOOKUP(リレー種目!H28,競技名一覧!$J$2:$K$6,2,0))","v":""},{"$f":"IF(INDEX(リレー種目!$A$2:$I$101,リレー種目!$A28,9)=\"\",\"\",INDEX(リレー種目!$A$2:$I$101,リレー種目!$A28,9))","v":""}]
["",{"$f":"VLOOKUP(メイン!B36,所属名!$C$2:$D$177,2,FALSE)","v":1},{"$f":"IF(INDEX(リレー種目!$A$2:$I$101,リレー種目!$A29,4)=\"\",\"\",INDEX(リレー種目!$A$2:$I$101,リレー種目!$A29,4))","v":""},null,null,null,null,null,{"$f":"IF(INDEX(リレー種目!$A$2:$I$101,リレー種目!$A29,6)=\"\",\"\",INDEX(リレー種目!$A$2:$I$101,リレー種目!$A29,6))","v":""},{"$f":"IF(ISERROR(VLOOKUP(リレー種目!H29,競技名一覧!$J$2:$K$6,2,0)),\"\",VLOOKUP(リレー種目!H29,競技名一覧!$J$2:$K$6,2,0))","v":""},{"$f":"IF(INDEX(リレー種目!$A$2:$I$101,リレー種目!$A29,9)=\"\",\"\",INDEX(リレー種目!$A$2:$I$101,リレー種目!$A29,9))","v":""}]
["",{"$f":"VLOOKUP(メイン!B37,所属名!$C$2:$D$177,2,FALSE)","v":1},{"$f":"IF(INDEX(リレー種目!$A$2:$I$101,リレー種目!$A30,4)=\"\",\"\",INDEX(リレー種目!$A$2:$I$101,リレー種目!$A30,4))","v":""},null,null,null,null,null,{"$f":"IF(INDEX(リレー種目!$A$2:$I$101,リレー種目!$A30,6)=\"\",\"\",INDEX(リレー種目!$A$2:$I$101,リレー種目!$A30,6))","v":""},{"$f":"IF(ISERROR(VLOOKUP(リレー種目!H30,競技名一覧!$J$2:$K$6,2,0)),\"\",VLOOKUP(リレー種目!H30,競技名一覧!$J$2:$K$6,2,0))","v":""},{"$f":"IF(INDEX(リレー種目!$A$2:$I$101,リレー種目!$A30,9)=\"\",\"\",INDEX(リレー種目!$A$2:$I$101,リレー種目!$A30,9))","v":""}]
["",{"$f":"VLOOKUP(メイン!B38,所属名!$C$2:$D$177,2,FALSE)","v":1},{"$f":"IF(INDEX(リレー種目!$A$2:$I$101,リレー種目!$A31,4)=\"\",\"\",INDEX(リレー種目!$A$2:$I$101,リレー種目!$A31,4))","v":""},null,null,null,null,null,{"$f":"IF(INDEX(リレー種目!$A$2:$I$101,リレー種目!$A31,6)=\"\",\"\",INDEX(リレー種目!$A$2:$I$101,リレー種目!$A31,6))","v":""},{"$f":"IF(ISERROR(VLOOKUP(リレー種目!H31,競技名一覧!$J$2:$K$6,2,0)),\"\",VLOOKUP(リレー種目!H31,競技名一覧!$J$2:$K$6,2,0))","v":""},{"$f":"IF(INDEX(リレー種目!$A$2:$I$101,リレー種目!$A31,9)=\"\",\"\",INDEX(リレー種目!$A$2:$I$101,リレー種目!$A31,9))","v":""}]
["",{"$f":"VLOOKUP(メイン!B39,所属名!$C$2:$D$177,2,FALSE)","v":1},{"$f":"IF(INDEX(リレー種目!$A$2:$I$101,リレー種目!$A32,4)=\"\",\"\",INDEX(リレー種目!$A$2:$I$101,リレー種目!$A32,4))","v":""},null,null,null,null,null,{"$f":"IF(INDEX(リレー種目!$A$2:$I$101,リレー種目!$A32,6)=\"\",\"\",INDEX(リレー種目!$A$2:$I$101,リレー種目!$A32,6))","v":""},{"$f":"IF(ISERROR(VLOOKUP(リレー種目!H32,競技名一覧!$J$2:$K$6,2,0)),\"\",VLOOKUP(リレー種目!H32,競技名一覧!$J$2:$K$6,2,0))","v":""},{"$f":"IF(INDEX(リレー種目!$A$2:$I$101,リレー種目!$A32,9)=\"\",\"\",INDEX(リレー種目!$A$2:$I$101,リレー種目!$A32,9))","v":""}]
["",{"$f":"VLOOKUP(メイン!B40,所属名!$C$2:$D$177,2,FALSE)","v":1},{"$f":"IF(INDEX(リレー種目!$A$2:$I$101,リレー種目!$A33,4)=\"\",\"\",INDEX(リレー種目!$A$2:$I$101,リレー種目!$A33,4))","v":""},null,null,null,null,null,{"$f":"IF(INDEX(リレー種目!$A$2:$I$101,リレー種目!$A33,6)=\"\",\"\",INDEX(リレー種目!$A$2:$I$101,リレー種目!$A33,6))","v":""},{"$f":"IF(ISERROR(VLOOKUP(リレー種目!H33,競技名一覧!$J$2:$K$6,2,0)),\"\",VLOOKUP(リレー種目!H33,競技名一覧!$J$2:$K$6,2,0))","v":""},{"$f":"IF(INDEX(リレー種目!$A$2:$I$101,リレー種目!$A33,9)=\"\",\"\",INDEX(リレー種目!$A$2:$I$101,リレー種目!$A33,9))","v":""}]
["",{"$f":"VLOOKUP(メイン!B41,所属名!$C$2:$D$177,2,FALSE)","v":1},{"$f":"IF(INDEX(リレー種目!$A$2:$I$101,リレー種目!$A34,4)=\"\",\"\",INDEX(リレー種目!$A$2:$I$101,リレー種目!$A34,4))","v":""},null,null,null,null,null,{"$f":"IF(INDEX(リレー種目!$A$2:$I$101,リレー種目!$A34,6)=\"\",\"\",INDEX(リレー種目!$A$2:$I$101,リレー種目!$A34,6))","v":""},{"$f":"IF(ISERROR(VLOOKUP(リレー種目!H34,競技名一覧!$J$2:$K$6,2,0)),\"\",VLOOKUP(リレー種目!H34,競技名一覧!$J$2:$K$6,2,0))","v":""},{"$f":"IF(INDEX(リレー種目!$A$2:$I$101,リレー種目!$A34,9)=\"\",\"\",INDEX(リレー種目!$A$2:$I$101,リレー種目!$A34,9))","v":""}]
["",{"$f":"VLOOKUP(メイン!B42,所属名!$C$2:$D$177,2,FALSE)","v":1},{"$f":"IF(INDEX(リレー種目!$A$2:$I$101,リレー種目!$A35,4)=\"\",\"\",INDEX(リレー種目!$A$2:$I$101,リレー種目!$A35,4))","v":""},null,null,null,null,null,{"$f":"IF(INDEX(リレー種目!$A$2:$I$101,リレー種目!$A35,6)=\"\",\"\",INDEX(リレー種目!$A$2:$I$101,リレー種目!$A35,6))","v":""},{"$f":"IF(ISERROR(VLOOKUP(リレー種目!H35,競技名一覧!$J$2:$K$6,2,0)),\"\",VLOOKUP(リレー種目!H35,競技名一覧!$J$2:$K$6,2,0))","v":""},{"$f":"IF(INDEX(リレー種目!$A$2:$I$101,リレー種目!$A35,9)=\"\",\"\",INDEX(リレー種目!$A$2:$I$101,リレー種目!$A35,9))","v":""}]
["",{"$f":"VLOOKUP(メイン!B43,所属名!$C$2:$D$177,2,FALSE)","v":1},{"$f":"IF(INDEX(リレー種目!$A$2:$I$101,リレー種目!$A36,4)=\"\",\"\",INDEX(リレー種目!$A$2:$I$101,リレー種目!$A36,4))","v":""},null,null,null,null,null,{"$f":"IF(INDEX(リレー種目!$A$2:$I$101,リレー種目!$A36,6)=\"\",\"\",INDEX(リレー種目!$A$2:$I$101,リレー種目!$A36,6))","v":""},{"$f":"IF(ISERROR(VLOOKUP(リレー種目!H36,競技名一覧!$J$2:$K$6,2,0)),\"\",VLOOKUP(リレー種目!H36,競技名一覧!$J$2:$K$6,2,0))","v":""},{"$f":"IF(INDEX(リレー種目!$A$2:$I$101,リレー種目!$A36,9)=\"\",\"\",INDEX(リレー種目!$A$2:$I$101,リレー種目!$A36,9))","v":""}]
["",{"$f":"VLOOKUP(メイン!B44,所属名!$C$2:$D$177,2,FALSE)","v":1},{"$f":"IF(INDEX(リレー種目!$A$2:$I$101,リレー種目!$A37,4)=\"\",\"\",INDEX(リレー種目!$A$2:$I$101,リレー種目!$A37,4))","v":""},null,null,null,null,null,{"$f":"IF(INDEX(リレー種目!$A$2:$I$101,リレー種目!$A37,6)=\"\",\"\",INDEX(リレー種目!$A$2:$I$101,リレー種目!$A37,6))","v":""},{"$f":"IF(ISERROR(VLOOKUP(リレー種目!H37,競技名一覧!$J$2:$K$6,2,0)),\"\",VLOOKUP(リレー種目!H37,競技名一覧!$J$2:$K$6,2,0))","v":""},{"$f":"IF(INDEX(リレー種目!$A$2:$I$101,リレー種目!$A37,9)=\"\",\"\",INDEX(リレー種目!$A$2:$I$101,リレー種目!$A37,9))","v":""}]
["",{"$f":"VLOOKUP(メイン!B45,所属名!$C$2:$D$177,2,FALSE)","v":1},{"$f":"IF(INDEX(リレー種目!$A$2:$I$101,リレー種目!$A38,4)=\"\",\"\",INDEX(リレー種目!$A$2:$I$101,リレー種目!$A38,4))","v":""},null,null,null,null,null,{"$f":"IF(INDEX(リレー種目!$A$2:$I$101,リレー種目!$A38,6)=\"\",\"\",INDEX(リレー種目!$A$2:$I$101,リレー種目!$A38,6))","v":""},{"$f":"IF(ISERROR(VLOOKUP(リレー種目!H38,競技名一覧!$J$2:$K$6,2,0)),\"\",VLOOKUP(リレー種目!H38,競技名一覧!$J$2:$K$6,2,0))","v":""},{"$f":"IF(INDEX(リレー種目!$A$2:$I$101,リレー種目!$A38,9)=\"\",\"\",INDEX(リレー種目!$A$2:$I$101,リレー種目!$A38,9))","v":""}]
["",{"$f":"VLOOKUP(メイン!B46,所属名!$C$2:$D$177,2,FALSE)","v":1},{"$f":"IF(INDEX(リレー種目!$A$2:$I$101,リレー種目!$A39,4)=\"\",\"\",INDEX(リレー種目!$A$2:$I$101,リレー種目!$A39,4))","v":""},null,null,null,null,null,{"$f":"IF(INDEX(リレー種目!$A$2:$I$101,リレー種目!$A39,6)=\"\",\"\",INDEX(リレー種目!$A$2:$I$101,リレー種目!$A39,6))","v":""},{"$f":"IF(ISERROR(VLOOKUP(リレー種目!H39,競技名一覧!$J$2:$K$6,2,0)),\"\",VLOOKUP(リレー種目!H39,競技名一覧!$J$2:$K$6,2,0))","v":""},{"$f":"IF(INDEX(リレー種目!$A$2:$I$101,リレー種目!$A39,9)=\"\",\"\",INDEX(リレー種目!$A$2:$I$101,リレー種目!$A39,9))","v":""}]
["",{"$f":"VLOOKUP(メイン!B47,所属名!$C$2:$D$177,2,FALSE)","v":1},{"$f":"IF(INDEX(リレー種目!$A$2:$I$101,リレー種目!$A40,4)=\"\",\"\",INDEX(リレー種目!$A$2:$I$101,リレー種目!$A40,4))","v":""},null,null,null,null,null,{"$f":"IF(INDEX(リレー種目!$A$2:$I$101,リレー種目!$A40,6)=\"\",\"\",INDEX(リレー種目!$A$2:$I$101,リレー種目!$A40,6))","v":""},{"$f":"IF(ISERROR(VLOOKUP(リレー種目!H40,競技名一覧!$J$2:$K$6,2,0)),\"\",VLOOKUP(リレー種目!H40,競技名一覧!$J$2:$K$6,2,0))","v":""},{"$f":"IF(INDEX(リレー種目!$A$2:$I$101,リレー種目!$A40,9)=\"\",\"\",INDEX(リレー種目!$A$2:$I$101,リレー種目!$A40,9))","v":""}]
["",{"$f":"VLOOKUP(メイン!B48,所属名!$C$2:$D$177,2,FALSE)","v":1},{"$f":"IF(INDEX(リレー種目!$A$2:$I$101,リレー種目!$A41,4)=\"\",\"\",INDEX(リレー種目!$A$2:$I$101,リレー種目!$A41,4))","v":""},null,null,null,null,null,{"$f":"IF(INDEX(リレー種目!$A$2:$I$101,リレー種目!$A41,6)=\"\",\"\",INDEX(リレー種目!$A$2:$I$101,リレー種目!$A41,6))","v":""},{"$f":"IF(ISERROR(VLOOKUP(リレー種目!H41,競技名一覧!$J$2:$K$6,2,0)),\"\",VLOOKUP(リレー種目!H41,競技名一覧!$J$2:$K$6,2,0))","v":""},{"$f":"IF(INDEX(リレー種目!$A$2:$I$101,リレー種目!$A41,9)=\"\",\"\",INDEX(リレー種目!$A$2:$I$101,リレー種目!$A41,9))","v":""}]
["",{"$f":"VLOOKUP(メイン!B49,所属名!$C$2:$D$177,2,FALSE)","v":1},{"$f":"IF(INDEX(リレー種目!$A$2:$I$101,リレー種目!$A42,4)=\"\",\"\",INDEX(リレー種目!$A$2:$I$101,リレー種目!$A42,4))","v":""},null,null,null,null,null,{"$f":"IF(INDEX(リレー種目!$A$2:$I$101,リレー種目!$A42,6)=\"\",\"\",INDEX(リレー種目!$A$2:$I$101,リレー種目!$A42,6))","v":""},{"$f":"IF(ISERROR(VLOOKUP(リレー種目!H42,競技名一覧!$J$2:$K$6,2,0)),\"\",VLOOKUP(リレー種目!H42,競技名一覧!$J$2:$K$6,2,0))","v":""},{"$f":"IF(INDEX(リレー種目!$A$2:$I$101,リレー種目!$A42,9)=\"\",\"\",INDEX(リレー種目!$A$2:$I$101,リレー種目!$A42,9))","v":""}]
["",{"$f":"VLOOKUP(メイン!B50,所属名!$C$2:$D$177,2,FALSE)","v":1},{"$f":"IF(INDEX(リレー種目!$A$2:$I$101,リレー種目!$A43,4)=\"\",\"\",INDEX(リレー種目!$A$2:$I$101,リレー種目!$A43,4))","v":""},null,null,null,null,null,{"$f":"IF(INDEX(リレー種目!$A$2:$I$101,リレー種目!$A43,6)=\"\",\"\",INDEX(リレー種目!$A$2:$I$101,リレー種目!$A43,6))","v":""},{"$f":"IF(ISERROR(VLOOKUP(リレー種目!H43,競技名一覧!$J$2:$K$6,2,0)),\"\",VLOOKUP(リレー種目!H43,競技名一覧!$J$2:$K$6,2,0))","v":""},{"$f":"IF(INDEX(リレー種目!$A$2:$I$101,リレー種目!$A43,9)=\"\",\"\",INDEX(リレー種目!$A$2:$I$101,リレー種目!$A43,9))","v":""}]
["",{"$f":"VLOOKUP(メイン!B51,所属名!$C$2:$D$177,2,FALSE)","v":1},{"$f":"IF(INDEX(リレー種目!$A$2:$I$101,リレー種目!$A44,4)=\"\",\"\",INDEX(リレー種目!$A$2:$I$101,リレー種目!$A44,4))","v":""},null,null,null,null,null,{"$f":"IF(INDEX(リレー種目!$A$2:$I$101,リレー種目!$A44,6)=\"\",\"\",INDEX(リレー種目!$A$2:$I$101,リレー種目!$A44,6))","v":""},{"$f":"IF(ISERROR(VLOOKUP(リレー種目!H44,競技名一覧!$J$2:$K$6,2,0)),\"\",VLOOKUP(リレー種目!H44,競技名一覧!$J$2:$K$6,2,0))","v":""},{"$f":"IF(INDEX(リレー種目!$A$2:$I$101,リレー種目!$A44,9)=\"\",\"\",INDEX(リレー種目!$A$2:$I$101,リレー種目!$A44,9))","v":""}]
["",{"$f":"VLOOKUP(メイン!B52,所属名!$C$2:$D$177,2,FALSE)","v":1},{"$f":"IF(INDEX(リレー種目!$A$2:$I$101,リレー種目!$A45,4)=\"\",\"\",INDEX(リレー種目!$A$2:$I$101,リレー種目!$A45,4))","v":""},null,null,null,null,null,{"$f":"IF(INDEX(リレー種目!$A$2:$I$101,リレー種目!$A45,6)=\"\",\"\",INDEX(リレー種目!$A$2:$I$101,リレー種目!$A45,6))","v":""},{"$f":"IF(ISERROR(VLOOKUP(リレー種目!H45,競技名一覧!$J$2:$K$6,2,0)),\"\",VLOOKUP(リレー種目!H45,競技名一覧!$J$2:$K$6,2,0))","v":""},{"$f":"IF(INDEX(リレー種目!$A$2:$I$101,リレー種目!$A45,9)=\"\",\"\",INDEX(リレー種目!$A$2:$I$101,リレー種目!$A45,9))","v":""}]
["",{"$f":"VLOOKUP(メイン!B53,所属名!$C$2:$D$177,2,FALSE)","v":1},{"$f":"IF(INDEX(リレー種目!$A$2:$I$101,リレー種目!$A46,4)=\"\",\"\",INDEX(リレー種目!$A$2:$I$101,リレー種目!$A46,4))","v":""},null,null,null,null,null,{"$f":"IF(INDEX(リレー種目!$A$2:$I$101,リレー種目!$A46,6)=\"\",\"\",INDEX(リレー種目!$A$2:$I$101,リレー種目!$A46,6))","v":""},{"$f":"IF(ISERROR(VLOOKUP(リレー種目!H46,競技名一覧!$J$2:$K$6,2,0)),\"\",VLOOKUP(リレー種目!H46,競技名一覧!$J$2:$K$6,2,0))","v":""},{"$f":"IF(INDEX(リレー種目!$A$2:$I$101,リレー種目!$A46,9)=\"\",\"\",INDEX(リレー種目!$A$2:$I$101,リレー種目!$A46,9))","v":""}]
["",{"$f":"VLOOKUP(メイン!B54,所属名!$C$2:$D$177,2,FALSE)","v":1},{"$f":"IF(INDEX(リレー種目!$A$2:$I$101,リレー種目!$A47,4)=\"\",\"\",INDEX(リレー種目!$A$2:$I$101,リレー種目!$A47,4))","v":""},null,null,null,null,null,{"$f":"IF(INDEX(リレー種目!$A$2:$I$101,リレー種目!$A47,6)=\"\",\"\",INDEX(リレー種目!$A$2:$I$101,リレー種目!$A47,6))","v":""},{"$f":"IF(ISERROR(VLOOKUP(リレー種目!H47,競技名一覧!$J$2:$K$6,2,0)),\"\",VLOOKUP(リレー種目!H47,競技名一覧!$J$2:$K$6,2,0))","v":""},{"$f":"IF(INDEX(リレー種目!$A$2:$I$101,リレー種目!$A47,9)=\"\",\"\",INDEX(リレー種目!$A$2:$I$101,リレー種目!$A47,9))","v":""}]
["",{"$f":"VLOOKUP(メイン!B55,所属名!$C$2:$D$177,2,FALSE)","v":1},{"$f":"IF(INDEX(リレー種目!$A$2:$I$101,リレー種目!$A48,4)=\"\",\"\",INDEX(リレー種目!$A$2:$I$101,リレー種目!$A48,4))","v":""},null,null,null,null,null,{"$f":"IF(INDEX(リレー種目!$A$2:$I$101,リレー種目!$A48,6)=\"\",\"\",INDEX(リレー種目!$A$2:$I$101,リレー種目!$A48,6))","v":""},{"$f":"IF(ISERROR(VLOOKUP(リレー種目!H48,競技名一覧!$J$2:$K$6,2,0)),\"\",VLOOKUP(リレー種目!H48,競技名一覧!$J$2:$K$6,2,0))","v":""},{"$f":"IF(INDEX(リレー種目!$A$2:$I$101,リレー種目!$A48,9)=\"\",\"\",INDEX(リレー種目!$A$2:$I$101,リレー種目!$A48,9))","v":""}]
["",{"$f":"VLOOKUP(メイン!B56,所属名!$C$2:$D$177,2,FALSE)","v":1},{"$f":"IF(INDEX(リレー種目!$A$2:$I$101,リレー種目!$A49,4)=\"\",\"\",INDEX(リレー種目!$A$2:$I$101,リレー種目!$A49,4))","v":""},null,null,null,null,null,{"$f":"IF(INDEX(リレー種目!$A$2:$I$101,リレー種目!$A49,6)=\"\",\"\",INDEX(リレー種目!$A$2:$I$101,リレー種目!$A49,6))","v":""},{"$f":"IF(ISERROR(VLOOKUP(リレー種目!H49,競技名一覧!$J$2:$K$6,2,0)),\"\",VLOOKUP(リレー種目!H49,競技名一覧!$J$2:$K$6,2,0))","v":""},{"$f":"IF(INDEX(リレー種目!$A$2:$I$101,リレー種目!$A49,9)=\"\",\"\",INDEX(リレー種目!$A$2:$I$101,リレー種目!$A49,9))","v":""}]
["",{"$f":"VLOOKUP(メイン!B57,所属名!$C$2:$D$177,2,FALSE)","v":1},{"$f":"IF(INDEX(リレー種目!$A$2:$I$101,リレー種目!$A50,4)=\"\",\"\",INDEX(リレー種目!$A$2:$I$101,リレー種目!$A50,4))","v":""},null,null,null,null,null,{"$f":"IF(INDEX(リレー種目!$A$2:$I$101,リレー種目!$A50,6)=\"\",\"\",INDEX(リレー種目!$A$2:$I$101,リレー種目!$A50,6))","v":""},{"$f":"IF(ISERROR(VLOOKUP(リレー種目!H50,競技名一覧!$J$2:$K$6,2,0)),\"\",VLOOKUP(リレー種目!H50,競技名一覧!$J$2:$K$6,2,0))","v":""},{"$f":"IF(INDEX(リレー種目!$A$2:$I$101,リレー種目!$A50,9)=\"\",\"\",INDEX(リレー種目!$A$2:$I$101,リレー種目!$A50,9))","v":""}]
["",{"$f":"VLOOKUP(メイン!B58,所属名!$C$2:$D$177,2,FALSE)","v":1},{"$f":"IF(INDEX(リレー種目!$A$2:$I$101,リレー種目!$A51,4)=\"\",\"\",INDEX(リレー種目!$A$2:$I$101,リレー種目!$A51,4))","v":""},null,null,null,null,null,{"$f":"IF(INDEX(リレー種目!$A$2:$I$101,リレー種目!$A51,6)=\"\",\"\",INDEX(リレー種目!$A$2:$I$101,リレー種目!$A51,6))","v":""},{"$f":"IF(ISERROR(VLOOKUP(リレー種目!H51,競技名一覧!$J$2:$K$6,2,0)),\"\",VLOOKUP(リレー種目!H51,競技名一覧!$J$2:$K$6,2,0))","v":""},{"$f":"IF(INDEX(リレー種目!$A$2:$I$101,リレー種目!$A51,9)=\"\",\"\",INDEX(リレー種目!$A$2:$I$101,リレー種目!$A51,9))","v":""}]
["",{"$f":"VLOOKUP(メイン!B59,所属名!$C$2:$D$177,2,FALSE)","v":1},{"$f":"IF(INDEX(リレー種目!$A$2:$I$101,リレー種目!$A52,4)=\"\",\"\",INDEX(リレー種目!$A$2:$I$101,リレー種目!$A52,4))","v":""},null,null,null,null,null,{"$f":"IF(INDEX(リレー種目!$A$2:$I$101,リレー種目!$A52,6)=\"\",\"\",INDEX(リレー種目!$A$2:$I$101,リレー種目!$A52,6))","v":""},{"$f":"IF(ISERROR(VLOOKUP(リレー種目!H52,競技名一覧!$J$2:$K$6,2,0)),\"\",VLOOKUP(リレー種目!H52,競技名一覧!$J$2:$K$6,2,0))","v":""},{"$f":"IF(INDEX(リレー種目!$A$2:$I$101,リレー種目!$A52,9)=\"\",\"\",INDEX(リレー種目!$A$2:$I$101,リレー種目!$A52,9))","v":""}]
["",{"$f":"VLOOKUP(メイン!B60,所属名!$C$2:$D$177,2,FALSE)","v":1},{"$f":"IF(INDEX(リレー種目!$A$2:$I$101,リレー種目!$A53,4)=\"\",\"\",INDEX(リレー種目!$A$2:$I$101,リレー種目!$A53,4))","v":""},null,null,null,null,null,{"$f":"IF(INDEX(リレー種目!$A$2:$I$101,リレー種目!$A53,6)=\"\",\"\",INDEX(リレー種目!$A$2:$I$101,リレー種目!$A53,6))","v":""},{"$f":"IF(ISERROR(VLOOKUP(リレー種目!H53,競技名一覧!$J$2:$K$6,2,0)),\"\",VLOOKUP(リレー種目!H53,競技名一覧!$J$2:$K$6,2,0))","v":""},{"$f":"IF(INDEX(リレー種目!$A$2:$I$101,リレー種目!$A53,9)=\"\",\"\",INDEX(リレー種目!$A$2:$I$101,リレー種目!$A53,9))","v":""}]
["",{"$f":"VLOOKUP(メイン!B61,所属名!$C$2:$D$177,2,FALSE)","v":1},{"$f":"IF(INDEX(リレー種目!$A$2:$I$101,リレー種目!$A54,4)=\"\",\"\",INDEX(リレー種目!$A$2:$I$101,リレー種目!$A54,4))","v":""},null,null,null,null,null,{"$f":"IF(INDEX(リレー種目!$A$2:$I$101,リレー種目!$A54,6)=\"\",\"\",INDEX(リレー種目!$A$2:$I$101,リレー種目!$A54,6))","v":""},{"$f":"IF(ISERROR(VLOOKUP(リレー種目!H54,競技名一覧!$J$2:$K$6,2,0)),\"\",VLOOKUP(リレー種目!H54,競技名一覧!$J$2:$K$6,2,0))","v":""},{"$f":"IF(INDEX(リレー種目!$A$2:$I$101,リレー種目!$A54,9)=\"\",\"\",INDEX(リレー種目!$A$2:$I$101,リレー種目!$A54,9))","v":""}]
["",{"$f":"VLOOKUP(メイン!B62,所属名!$C$2:$D$177,2,FALSE)","v":1},{"$f":"IF(INDEX(リレー種目!$A$2:$I$101,リレー種目!$A55,4)=\"\",\"\",INDEX(リレー種目!$A$2:$I$101,リレー種目!$A55,4))","v":""},null,null,null,null,null,{"$f":"IF(INDEX(リレー種目!$A$2:$I$101,リレー種目!$A55,6)=\"\",\"\",INDEX(リレー種目!$A$2:$I$101,リレー種目!$A55,6))","v":""},{"$f":"IF(ISERROR(VLOOKUP(リレー種目!H55,競技名一覧!$J$2:$K$6,2,0)),\"\",VLOOKUP(リレー種目!H55,競技名一覧!$J$2:$K$6,2,0))","v":""},{"$f":"IF(INDEX(リレー種目!$A$2:$I$101,リレー種目!$A55,9)=\"\",\"\",INDEX(リレー種目!$A$2:$I$101,リレー種目!$A55,9))","v":""}]
["",{"$f":"VLOOKUP(メイン!B63,所属名!$C$2:$D$177,2,FALSE)","v":1},{"$f":"IF(INDEX(リレー種目!$A$2:$I$101,リレー種目!$A56,4)=\"\",\"\",INDEX(リレー種目!$A$2:$I$101,リレー種目!$A56,4))","v":""},null,null,null,null,null,{"$f":"IF(INDEX(リレー種目!$A$2:$I$101,リレー種目!$A56,6)=\"\",\"\",INDEX(リレー種目!$A$2:$I$101,リレー種目!$A56,6))","v":""},{"$f":"IF(ISERROR(VLOOKUP(リレー種目!H56,競技名一覧!$J$2:$K$6,2,0)),\"\",VLOOKUP(リレー種目!H56,競技名一覧!$J$2:$K$6,2,0))","v":""},{"$f":"IF(INDEX(リレー種目!$A$2:$I$101,リレー種目!$A56,9)=\"\",\"\",INDEX(リレー種目!$A$2:$I$101,リレー種目!$A56,9))","v":""}]
["",{"$f":"VLOOKUP(メイン!B64,所属名!$C$2:$D$177,2,FALSE)","v":1},{"$f":"IF(INDEX(リレー種目!$A$2:$I$101,リレー種目!$A57,4)=\"\",\"\",INDEX(リレー種目!$A$2:$I$101,リレー種目!$A57,4))","v":""},null,null,null,null,null,{"$f":"IF(INDEX(リレー種目!$A$2:$I$101,リレー種目!$A57,6)=\"\",\"\",INDEX(リレー種目!$A$2:$I$101,リレー種目!$A57,6))","v":""},{"$f":"IF(ISERROR(VLOOKUP(リレー種目!H57,競技名一覧!$J$2:$K$6,2,0)),\"\",VLOOKUP(リレー種目!H57,競技名一覧!$J$2:$K$6,2,0))","v":""},{"$f":"IF(INDEX(リレー種目!$A$2:$I$101,リレー種目!$A57,9)=\"\",\"\",INDEX(リレー種目!$A$2:$I$101,リレー種目!$A57,9))","v":""}]
["",{"$f":"VLOOKUP(メイン!B65,所属名!$C$2:$D$177,2,FALSE)","v":1},{"$f":"IF(INDEX(リレー種目!$A$2:$I$101,リレー種目!$A58,4)=\"\",\"\",INDEX(リレー種目!$A$2:$I$101,リレー種目!$A58,4))","v":""},null,null,null,null,null,{"$f":"IF(INDEX(リレー種目!$A$2:$I$101,リレー種目!$A58,6)=\"\",\"\",INDEX(リレー種目!$A$2:$I$101,リレー種目!$A58,6))","v":""},{"$f":"IF(ISERROR(VLOOKUP(リレー種目!H58,競技名一覧!$J$2:$K$6,2,0)),\"\",VLOOKUP(リレー種目!H58,競技名一覧!$J$2:$K$6,2,0))","v":""},{"$f":"IF(INDEX(リレー種目!$A$2:$I$101,リレー種目!$A58,9)=\"\",\"\",INDEX(リレー種目!$A$2:$I$101,リレー種目!$A58,9))","v":""}]
["",{"$f":"VLOOKUP(メイン!B66,所属名!$C$2:$D$177,2,FALSE)","v":1},{"$f":"IF(INDEX(リレー種目!$A$2:$I$101,リレー種目!$A59,4)=\"\",\"\",INDEX(リレー種目!$A$2:$I$101,リレー種目!$A59,4))","v":""},null,null,null,null,null,{"$f":"IF(INDEX(リレー種目!$A$2:$I$101,リレー種目!$A59,6)=\"\",\"\",INDEX(リレー種目!$A$2:$I$101,リレー種目!$A59,6))","v":""},{"$f":"IF(ISERROR(VLOOKUP(リレー種目!H59,競技名一覧!$J$2:$K$6,2,0)),\"\",VLOOKUP(リレー種目!H59,競技名一覧!$J$2:$K$6,2,0))","v":""},{"$f":"IF(INDEX(リレー種目!$A$2:$I$101,リレー種目!$A59,9)=\"\",\"\",INDEX(リレー種目!$A$2:$I$101,リレー種目!$A59,9))","v":""}]
["",{"$f":"VLOOKUP(メイン!B67,所属名!$C$2:$D$177,2,FALSE)","v":1},{"$f":"IF(INDEX(リレー種目!$A$2:$I$101,リレー種目!$A60,4)=\"\",\"\",INDEX(リレー種目!$A$2:$I$101,リレー種目!$A60,4))","v":""},null,null,null,null,null,{"$f":"IF(INDEX(リレー種目!$A$2:$I$101,リレー種目!$A60,6)=\"\",\"\",INDEX(リレー種目!$A$2:$I$101,リレー種目!$A60,6))","v":""},{"$f":"IF(ISERROR(VLOOKUP(リレー種目!H60,競技名一覧!$J$2:$K$6,2,0)),\"\",VLOOKUP(リレー種目!H60,競技名一覧!$J$2:$K$6,2,0))","v":""},{"$f":"IF(INDEX(リレー種目!$A$2:$I$101,リレー種目!$A60,9)=\"\",\"\",INDEX(リレー種目!$A$2:$I$101,リレー種目!$A60,9))","v":""}]
["",{"$f":"VLOOKUP(メイン!B68,所属名!$C$2:$D$177,2,FALSE)","v":1},{"$f":"IF(INDEX(リレー種目!$A$2:$I$101,リレー種目!$A61,4)=\"\",\"\",INDEX(リレー種目!$A$2:$I$101,リレー種目!$A61,4))","v":""},null,null,null,null,null,{"$f":"IF(INDEX(リレー種目!$A$2:$I$101,リレー種目!$A61,6)=\"\",\"\",INDEX(リレー種目!$A$2:$I$101,リレー種目!$A61,6))","v":""},{"$f":"IF(ISERROR(VLOOKUP(リレー種目!H61,競技名一覧!$J$2:$K$6,2,0)),\"\",VLOOKUP(リレー種目!H61,競技名一覧!$J$2:$K$6,2,0))","v":""},{"$f":"IF(INDEX(リレー種目!$A$2:$I$101,リレー種目!$A61,9)=\"\",\"\",INDEX(リレー種目!$A$2:$I$101,リレー種目!$A61,9))","v":""}]
["",{"$f":"VLOOKUP(メイン!B69,所属名!$C$2:$D$177,2,FALSE)","v":1},{"$f":"IF(INDEX(リレー種目!$A$2:$I$101,リレー種目!$A62,4)=\"\",\"\",INDEX(リレー種目!$A$2:$I$101,リレー種目!$A62,4))","v":""},null,null,null,null,null,{"$f":"IF(INDEX(リレー種目!$A$2:$I$101,リレー種目!$A62,6)=\"\",\"\",INDEX(リレー種目!$A$2:$I$101,リレー種目!$A62,6))","v":""},{"$f":"IF(ISERROR(VLOOKUP(リレー種目!H62,競技名一覧!$J$2:$K$6,2,0)),\"\",VLOOKUP(リレー種目!H62,競技名一覧!$J$2:$K$6,2,0))","v":""},{"$f":"IF(INDEX(リレー種目!$A$2:$I$101,リレー種目!$A62,9)=\"\",\"\",INDEX(リレー種目!$A$2:$I$101,リレー種目!$A62,9))","v":""}]
["",{"$f":"VLOOKUP(メイン!B70,所属名!$C$2:$D$177,2,FALSE)","v":1},{"$f":"IF(INDEX(リレー種目!$A$2:$I$101,リレー種目!$A63,4)=\"\",\"\",INDEX(リレー種目!$A$2:$I$101,リレー種目!$A63,4))","v":""},null,null,null,null,null,{"$f":"IF(INDEX(リレー種目!$A$2:$I$101,リレー種目!$A63,6)=\"\",\"\",INDEX(リレー種目!$A$2:$I$101,リレー種目!$A63,6))","v":""},{"$f":"IF(ISERROR(VLOOKUP(リレー種目!H63,競技名一覧!$J$2:$K$6,2,0)),\"\",VLOOKUP(リレー種目!H63,競技名一覧!$J$2:$K$6,2,0))","v":""},{"$f":"IF(INDEX(リレー種目!$A$2:$I$101,リレー種目!$A63,9)=\"\",\"\",INDEX(リレー種目!$A$2:$I$101,リレー種目!$A63,9))","v":""}]
["",{"$f":"VLOOKUP(メイン!B71,所属名!$C$2:$D$177,2,FALSE)","v":1},{"$f":"IF(INDEX(リレー種目!$A$2:$I$101,リレー種目!$A64,4)=\"\",\"\",INDEX(リレー種目!$A$2:$I$101,リレー種目!$A64,4))","v":""},null,null,null,null,null,{"$f":"IF(INDEX(リレー種目!$A$2:$I$101,リレー種目!$A64,6)=\"\",\"\",INDEX(リレー種目!$A$2:$I$101,リレー種目!$A64,6))","v":""},{"$f":"IF(ISERROR(VLOOKUP(リレー種目!H64,競技名一覧!$J$2:$K$6,2,0)),\"\",VLOOKUP(リレー種目!H64,競技名一覧!$J$2:$K$6,2,0))","v":""},{"$f":"IF(INDEX(リレー種目!$A$2:$I$101,リレー種目!$A64,9)=\"\",\"\",INDEX(リレー種目!$A$2:$I$101,リレー種目!$A64,9))","v":""}]
["",{"$f":"VLOOKUP(メイン!B72,所属名!$C$2:$D$177,2,FALSE)","v":1},{"$f":"IF(INDEX(リレー種目!$A$2:$I$101,リレー種目!$A65,4)=\"\",\"\",INDEX(リレー種目!$A$2:$I$101,リレー種目!$A65,4))","v":""},null,null,null,null,null,{"$f":"IF(INDEX(リレー種目!$A$2:$I$101,リレー種目!$A65,6)=\"\",\"\",INDEX(リレー種目!$A$2:$I$101,リレー種目!$A65,6))","v":""},{"$f":"IF(ISERROR(VLOOKUP(リレー種目!H65,競技名一覧!$J$2:$K$6,2,0)),\"\",VLOOKUP(リレー種目!H65,競技名一覧!$J$2:$K$6,2,0))","v":""},{"$f":"IF(INDEX(リレー種目!$A$2:$I$101,リレー種目!$A65,9)=\"\",\"\",INDEX(リレー種目!$A$2:$I$101,リレー種目!$A65,9))","v":""}]
["",{"$f":"VLOOKUP(メイン!B73,所属名!$C$2:$D$177,2,FALSE)","v":1},{"$f":"IF(INDEX(リレー種目!$A$2:$I$101,リレー種目!$A66,4)=\"\",\"\",INDEX(リレー種目!$A$2:$I$101,リレー種目!$A66,4))","v":""},null,null,null,null,null,{"$f":"IF(INDEX(リレー種目!$A$2:$I$101,リレー種目!$A66,6)=\"\",\"\",INDEX(リレー種目!$A$2:$I$101,リレー種目!$A66,6))","v":""},{"$f":"IF(ISERROR(VLOOKUP(リレー種目!H66,競技名一覧!$J$2:$K$6,2,0)),\"\",VLOOKUP(リレー種目!H66,競技名一覧!$J$2:$K$6,2,0))","v":""},{"$f":"IF(INDEX(リレー種目!$A$2:$I$101,リレー種目!$A66,9)=\"\",\"\",INDEX(リレー種目!$A$2:$I$101,リレー種目!$A66,9))","v":""}]
[{"$f":"IF(J67=26,B67+10000,IF(J67=27,B67+11000,IF(J67=64,B67+20000,IF(J67=65,B67+21000,\"\"))))","v":""},{"$f":"VLOOKUP(メイン!B74,所属名!$C$2:$D$177,2,FALSE)","v":1},{"$f":"IF(INDEX(リレー種目!$A$2:$I$101,リレー種目!$A67,4)=\"\",\"\",INDEX(リレー種目!$A$2:$I$101,リレー種目!$A67,4))","v":""},null,null,null,null,null,{"$f":"IF(INDEX(リレー種目!$A$2:$I$101,リレー種目!$A67,6)=\"\",\"\",INDEX(リレー種目!$A$2:$I$101,リレー種目!$A67,6))","v":""},{"$f":"IF(ISERROR(VLOOKUP(リレー種目!H67,競技名一覧!$J$2:$K$6,2,0)),\"\",VLOOKUP(リレー種目!H67,競技名一覧!$J$2:$K$6,2,0))","v":""},{"$f":"IF(INDEX(リレー種目!$A$2:$I$101,リレー種目!$A67,9)=\"\",\"\",INDEX(リレー種目!$A$2:$I$101,リレー種目!$A67,9))","v":""}]
["",{"$f":"VLOOKUP(メイン!B75,所属名!$C$2:$D$177,2,FALSE)","v":1},{"$f":"IF(INDEX(リレー種目!$A$2:$I$101,リレー種目!$A68,4)=\"\",\"\",INDEX(リレー種目!$A$2:$I$101,リレー種目!$A68,4))","v":""},null,null,null,null,null,{"$f":"IF(INDEX(リレー種目!$A$2:$I$101,リレー種目!$A68,6)=\"\",\"\",INDEX(リレー種目!$A$2:$I$101,リレー種目!$A68,6))","v":""},{"$f":"IF(ISERROR(VLOOKUP(リレー種目!H68,競技名一覧!$J$2:$K$6,2,0)),\"\",VLOOKUP(リレー種目!H68,競技名一覧!$J$2:$K$6,2,0))","v":""},{"$f":"IF(INDEX(リレー種目!$A$2:$I$101,リレー種目!$A68,9)=\"\",\"\",INDEX(リレー種目!$A$2:$I$101,リレー種目!$A68,9))","v":""}]
["",{"$f":"VLOOKUP(メイン!B76,所属名!$C$2:$D$177,2,FALSE)","v":1},{"$f":"IF(INDEX(リレー種目!$A$2:$I$101,リレー種目!$A69,4)=\"\",\"\",INDEX(リレー種目!$A$2:$I$101,リレー種目!$A69,4))","v":""},null,null,null,null,null,{"$f":"IF(INDEX(リレー種目!$A$2:$I$101,リレー種目!$A69,6)=\"\",\"\",INDEX(リレー種目!$A$2:$I$101,リレー種目!$A69,6))","v":""},{"$f":"IF(ISERROR(VLOOKUP(リレー種目!H69,競技名一覧!$J$2:$K$6,2,0)),\"\",VLOOKUP(リレー種目!H69,競技名一覧!$J$2:$K$6,2,0))","v":""},{"$f":"IF(INDEX(リレー種目!$A$2:$I$101,リレー種目!$A69,9)=\"\",\"\",INDEX(リレー種目!$A$2:$I$101,リレー種目!$A69,9))","v":""}]
["",{"$f":"VLOOKUP(メイン!B77,所属名!$C$2:$D$177,2,FALSE)","v":1},{"$f":"IF(INDEX(リレー種目!$A$2:$I$101,リレー種目!$A70,4)=\"\",\"\",INDEX(リレー種目!$A$2:$I$101,リレー種目!$A70,4))","v":""},null,null,null,null,null,{"$f":"IF(INDEX(リレー種目!$A$2:$I$101,リレー種目!$A70,6)=\"\",\"\",INDEX(リレー種目!$A$2:$I$101,リレー種目!$A70,6))","v":""},{"$f":"IF(ISERROR(VLOOKUP(リレー種目!H70,競技名一覧!$J$2:$K$6,2,0)),\"\",VLOOKUP(リレー種目!H70,競技名一覧!$J$2:$K$6,2,0))","v":""},{"$f":"IF(INDEX(リレー種目!$A$2:$I$101,リレー種目!$A70,9)=\"\",\"\",INDEX(リレー種目!$A$2:$I$101,リレー種目!$A70,9))","v":""}]
["",{"$f":"VLOOKUP(メイン!B78,所属名!$C$2:$D$177,2,FALSE)","v":1},{"$f":"IF(INDEX(リレー種目!$A$2:$I$101,リレー種目!$A71,4)=\"\",\"\",INDEX(リレー種目!$A$2:$I$101,リレー種目!$A71,4))","v":""},null,null,null,null,null,{"$f":"IF(INDEX(リレー種目!$A$2:$I$101,リレー種目!$A71,6)=\"\",\"\",INDEX(リレー種目!$A$2:$I$101,リレー種目!$A71,6))","v":""},{"$f":"IF(ISERROR(VLOOKUP(リレー種目!H71,競技名一覧!$J$2:$K$6,2,0)),\"\",VLOOKUP(リレー種目!H71,競技名一覧!$J$2:$K$6,2,0))","v":""},{"$f":"IF(INDEX(リレー種目!$A$2:$I$101,リレー種目!$A71,9)=\"\",\"\",INDEX(リレー種目!$A$2:$I$101,リレー種目!$A71,9))","v":""}]
["",{"$f":"VLOOKUP(メイン!B79,所属名!$C$2:$D$177,2,FALSE)","v":1},{"$f":"IF(INDEX(リレー種目!$A$2:$I$101,リレー種目!$A72,4)=\"\",\"\",INDEX(リレー種目!$A$2:$I$101,リレー種目!$A72,4))","v":""},null,null,null,null,null,{"$f":"IF(INDEX(リレー種目!$A$2:$I$101,リレー種目!$A72,6)=\"\",\"\",INDEX(リレー種目!$A$2:$I$101,リレー種目!$A72,6))","v":""},{"$f":"IF(ISERROR(VLOOKUP(リレー種目!H72,競技名一覧!$J$2:$K$6,2,0)),\"\",VLOOKUP(リレー種目!H72,競技名一覧!$J$2:$K$6,2,0))","v":""},{"$f":"IF(INDEX(リレー種目!$A$2:$I$101,リレー種目!$A72,9)=\"\",\"\",INDEX(リレー種目!$A$2:$I$101,リレー種目!$A72,9))","v":""}]
["",{"$f":"VLOOKUP(メイン!B80,所属名!$C$2:$D$177,2,FALSE)","v":1},{"$f":"IF(INDEX(リレー種目!$A$2:$I$101,リレー種目!$A73,4)=\"\",\"\",INDEX(リレー種目!$A$2:$I$101,リレー種目!$A73,4))","v":""},null,null,null,null,null,{"$f":"IF(INDEX(リレー種目!$A$2:$I$101,リレー種目!$A73,6)=\"\",\"\",INDEX(リレー種目!$A$2:$I$101,リレー種目!$A73,6))","v":""},{"$f":"IF(ISERROR(VLOOKUP(リレー種目!H73,競技名一覧!$J$2:$K$6,2,0)),\"\",VLOOKUP(リレー種目!H73,競技名一覧!$J$2:$K$6,2,0))","v":""},{"$f":"IF(INDEX(リレー種目!$A$2:$I$101,リレー種目!$A73,9)=\"\",\"\",INDEX(リレー種目!$A$2:$I$101,リレー種目!$A73,9))","v":""}]
["",{"$f":"VLOOKUP(メイン!B81,所属名!$C$2:$D$177,2,FALSE)","v":1},{"$f":"IF(INDEX(リレー種目!$A$2:$I$101,リレー種目!$A74,4)=\"\",\"\",INDEX(リレー種目!$A$2:$I$101,リレー種目!$A74,4))","v":""},null,null,null,null,null,{"$f":"IF(INDEX(リレー種目!$A$2:$I$101,リレー種目!$A74,6)=\"\",\"\",INDEX(リレー種目!$A$2:$I$101,リレー種目!$A74,6))","v":""},{"$f":"IF(ISERROR(VLOOKUP(リレー種目!H74,競技名一覧!$J$2:$K$6,2,0)),\"\",VLOOKUP(リレー種目!H74,競技名一覧!$J$2:$K$6,2,0))","v":""},{"$f":"IF(INDEX(リレー種目!$A$2:$I$101,リレー種目!$A74,9)=\"\",\"\",INDEX(リレー種目!$A$2:$I$101,リレー種目!$A74,9))","v":""}]
["",{"$f":"VLOOKUP(メイン!B82,所属名!$C$2:$D$177,2,FALSE)","v":1},{"$f":"IF(INDEX(リレー種目!$A$2:$I$101,リレー種目!$A75,4)=\"\",\"\",INDEX(リレー種目!$A$2:$I$101,リレー種目!$A75,4))","v":""},null,null,null,null,null,{"$f":"IF(INDEX(リレー種目!$A$2:$I$101,リレー種目!$A75,6)=\"\",\"\",INDEX(リレー種目!$A$2:$I$101,リレー種目!$A75,6))","v":""},{"$f":"IF(ISERROR(VLOOKUP(リレー種目!H75,競技名一覧!$J$2:$K$6,2,0)),\"\",VLOOKUP(リレー種目!H75,競技名一覧!$J$2:$K$6,2,0))","v":""},{"$f":"IF(INDEX(リレー種目!$A$2:$I$101,リレー種目!$A75,9)=\"\",\"\",INDEX(リレー種目!$A$2:$I$101,リレー種目!$A75,9))","v":""}]
["",{"$f":"VLOOKUP(メイン!B83,所属名!$C$2:$D$177,2,FALSE)","v":1},{"$f":"IF(INDEX(リレー種目!$A$2:$I$101,リレー種目!$A76,4)=\"\",\"\",INDEX(リレー種目!$A$2:$I$101,リレー種目!$A76,4))","v":""},null,null,null,null,null,{"$f":"IF(INDEX(リレー種目!$A$2:$I$101,リレー種目!$A76,6)=\"\",\"\",INDEX(リレー種目!$A$2:$I$101,リレー種目!$A76,6))","v":""},{"$f":"IF(ISERROR(VLOOKUP(リレー種目!H76,競技名一覧!$J$2:$K$6,2,0)),\"\",VLOOKUP(リレー種目!H76,競技名一覧!$J$2:$K$6,2,0))","v":""},{"$f":"IF(INDEX(リレー種目!$A$2:$I$101,リレー種目!$A76,9)=\"\",\"\",INDEX(リレー種目!$A$2:$I$101,リレー種目!$A76,9))","v":""}]
["",{"$f":"VLOOKUP(メイン!B84,所属名!$C$2:$D$177,2,FALSE)","v":1},{"$f":"IF(INDEX(リレー種目!$A$2:$I$101,リレー種目!$A77,4)=\"\",\"\",INDEX(リレー種目!$A$2:$I$101,リレー種目!$A77,4))","v":""},null,null,null,null,null,{"$f":"IF(INDEX(リレー種目!$A$2:$I$101,リレー種目!$A77,6)=\"\",\"\",INDEX(リレー種目!$A$2:$I$101,リレー種目!$A77,6))","v":""},{"$f":"IF(ISERROR(VLOOKUP(リレー種目!H77,競技名一覧!$J$2:$K$6,2,0)),\"\",VLOOKUP(リレー種目!H77,競技名一覧!$J$2:$K$6,2,0))","v":""},{"$f":"IF(INDEX(リレー種目!$A$2:$I$101,リレー種目!$A77,9)=\"\",\"\",INDEX(リレー種目!$A$2:$I$101,リレー種目!$A77,9))","v":""}]
["",{"$f":"VLOOKUP(メイン!B85,所属名!$C$2:$D$177,2,FALSE)","v":1},{"$f":"IF(INDEX(リレー種目!$A$2:$I$101,リレー種目!$A78,4)=\"\",\"\",INDEX(リレー種目!$A$2:$I$101,リレー種目!$A78,4))","v":""},null,null,null,null,null,{"$f":"IF(INDEX(リレー種目!$A$2:$I$101,リレー種目!$A78,6)=\"\",\"\",INDEX(リレー種目!$A$2:$I$101,リレー種目!$A78,6))","v":""},{"$f":"IF(ISERROR(VLOOKUP(リレー種目!H78,競技名一覧!$J$2:$K$6,2,0)),\"\",VLOOKUP(リレー種目!H78,競技名一覧!$J$2:$K$6,2,0))","v":""},{"$f":"IF(INDEX(リレー種目!$A$2:$I$101,リレー種目!$A78,9)=\"\",\"\",INDEX(リレー種目!$A$2:$I$101,リレー種目!$A78,9))","v":""}]
["",{"$f":"VLOOKUP(メイン!B86,所属名!$C$2:$D$177,2,FALSE)","v":1},{"$f":"IF(INDEX(リレー種目!$A$2:$I$101,リレー種目!$A79,4)=\"\",\"\",INDEX(リレー種目!$A$2:$I$101,リレー種目!$A79,4))","v":""},null,null,null,null,null,{"$f":"IF(INDEX(リレー種目!$A$2:$I$101,リレー種目!$A79,6)=\"\",\"\",INDEX(リレー種目!$A$2:$I$101,リレー種目!$A79,6))","v":""},{"$f":"IF(ISERROR(VLOOKUP(リレー種目!H79,競技名一覧!$J$2:$K$6,2,0)),\"\",VLOOKUP(リレー種目!H79,競技名一覧!$J$2:$K$6,2,0))","v":""},{"$f":"IF(INDEX(リレー種目!$A$2:$I$101,リレー種目!$A79,9)=\"\",\"\",INDEX(リレー種目!$A$2:$I$101,リレー種目!$A79,9))","v":""}]
["",{"$f":"VLOOKUP(メイン!B87,所属名!$C$2:$D$177,2,FALSE)","v":1},{"$f":"IF(INDEX(リレー種目!$A$2:$I$101,リレー種目!$A80,4)=\"\",\"\",INDEX(リレー種目!$A$2:$I$101,リレー種目!$A80,4))","v":""},null,null,null,null,null,{"$f":"IF(INDEX(リレー種目!$A$2:$I$101,リレー種目!$A80,6)=\"\",\"\",INDEX(リレー種目!$A$2:$I$101,リレー種目!$A80,6))","v":""},{"$f":"IF(ISERROR(VLOOKUP(リレー種目!H80,競技名一覧!$J$2:$K$6,2,0)),\"\",VLOOKUP(リレー種目!H80,競技名一覧!$J$2:$K$6,2,0))","v":""},{"$f":"IF(INDEX(リレー種目!$A$2:$I$101,リレー種目!$A80,9)=\"\",\"\",INDEX(リレー種目!$A$2:$I$101,リレー種目!$A80,9))","v":""}]
["",{"$f":"VLOOKUP(メイン!B88,所属名!$C$2:$D$177,2,FALSE)","v":1},{"$f":"IF(INDEX(リレー種目!$A$2:$I$101,リレー種目!$A81,4)=\"\",\"\",INDEX(リレー種目!$A$2:$I$101,リレー種目!$A81,4))","v":""},null,null,null,null,null,{"$f":"IF(INDEX(リレー種目!$A$2:$I$101,リレー種目!$A81,6)=\"\",\"\",INDEX(リレー種目!$A$2:$I$101,リレー種目!$A81,6))","v":""},{"$f":"IF(ISERROR(VLOOKUP(リレー種目!H81,競技名一覧!$J$2:$K$6,2,0)),\"\",VLOOKUP(リレー種目!H81,競技名一覧!$J$2:$K$6,2,0))","v":""},{"$f":"IF(INDEX(リレー種目!$A$2:$I$101,リレー種目!$A81,9)=\"\",\"\",INDEX(リレー種目!$A$2:$I$101,リレー種目!$A81,9))","v":""}]
["",{"$f":"VLOOKUP(メイン!B89,所属名!$C$2:$D$177,2,FALSE)","v":1},{"$f":"IF(INDEX(リレー種目!$A$2:$I$101,リレー種目!$A82,4)=\"\",\"\",INDEX(リレー種目!$A$2:$I$101,リレー種目!$A82,4))","v":""},null,null,null,null,null,{"$f":"IF(INDEX(リレー種目!$A$2:$I$101,リレー種目!$A82,6)=\"\",\"\",INDEX(リレー種目!$A$2:$I$101,リレー種目!$A82,6))","v":""},{"$f":"IF(ISERROR(VLOOKUP(リレー種目!H82,競技名一覧!$J$2:$K$6,2,0)),\"\",VLOOKUP(リレー種目!H82,競技名一覧!$J$2:$K$6,2,0))","v":""},{"$f":"IF(INDEX(リレー種目!$A$2:$I$101,リレー種目!$A82,9)=\"\",\"\",INDEX(リレー種目!$A$2:$I$101,リレー種目!$A82,9))","v":""}]
["",{"$f":"VLOOKUP(メイン!B90,所属名!$C$2:$D$177,2,FALSE)","v":1},{"$f":"IF(INDEX(リレー種目!$A$2:$I$101,リレー種目!$A83,4)=\"\",\"\",INDEX(リレー種目!$A$2:$I$101,リレー種目!$A83,4))","v":""},null,null,null,null,null,{"$f":"IF(INDEX(リレー種目!$A$2:$I$101,リレー種目!$A83,6)=\"\",\"\",INDEX(リレー種目!$A$2:$I$101,リレー種目!$A83,6))","v":""},{"$f":"IF(ISERROR(VLOOKUP(リレー種目!H83,競技名一覧!$J$2:$K$6,2,0)),\"\",VLOOKUP(リレー種目!H83,競技名一覧!$J$2:$K$6,2,0))","v":""},{"$f":"IF(INDEX(リレー種目!$A$2:$I$101,リレー種目!$A83,9)=\"\",\"\",INDEX(リレー種目!$A$2:$I$101,リレー種目!$A83,9))","v":""}]
["",{"$f":"VLOOKUP(メイン!B91,所属名!$C$2:$D$177,2,FALSE)","v":1},{"$f":"IF(INDEX(リレー種目!$A$2:$I$101,リレー種目!$A84,4)=\"\",\"\",INDEX(リレー種目!$A$2:$I$101,リレー種目!$A84,4))","v":""},null,null,null,null,null,{"$f":"IF(INDEX(リレー種目!$A$2:$I$101,リレー種目!$A84,6)=\"\",\"\",INDEX(リレー種目!$A$2:$I$101,リレー種目!$A84,6))","v":""},{"$f":"IF(ISERROR(VLOOKUP(リレー種目!H84,競技名一覧!$J$2:$K$6,2,0)),\"\",VLOOKUP(リレー種目!H84,競技名一覧!$J$2:$K$6,2,0))","v":""},{"$f":"IF(INDEX(リレー種目!$A$2:$I$101,リレー種目!$A84,9)=\"\",\"\",INDEX(リレー種目!$A$2:$I$101,リレー種目!$A84,9))","v":""}]
["",{"$f":"VLOOKUP(メイン!B92,所属名!$C$2:$D$177,2,FALSE)","v":1},{"$f":"IF(INDEX(リレー種目!$A$2:$I$101,リレー種目!$A85,4)=\"\",\"\",INDEX(リレー種目!$A$2:$I$101,リレー種目!$A85,4))","v":""},null,null,null,null,null,{"$f":"IF(INDEX(リレー種目!$A$2:$I$101,リレー種目!$A85,6)=\"\",\"\",INDEX(リレー種目!$A$2:$I$101,リレー種目!$A85,6))","v":""},{"$f":"IF(ISERROR(VLOOKUP(リレー種目!H85,競技名一覧!$J$2:$K$6,2,0)),\"\",VLOOKUP(リレー種目!H85,競技名一覧!$J$2:$K$6,2,0))","v":""},{"$f":"IF(INDEX(リレー種目!$A$2:$I$101,リレー種目!$A85,9)=\"\",\"\",INDEX(リレー種目!$A$2:$I$101,リレー種目!$A85,9))","v":""}]
["",{"$f":"VLOOKUP(メイン!B93,所属名!$C$2:$D$177,2,FALSE)","v":1},{"$f":"IF(INDEX(リレー種目!$A$2:$I$101,リレー種目!$A86,4)=\"\",\"\",INDEX(リレー種目!$A$2:$I$101,リレー種目!$A86,4))","v":""},null,null,null,null,null,{"$f":"IF(INDEX(リレー種目!$A$2:$I$101,リレー種目!$A86,6)=\"\",\"\",INDEX(リレー種目!$A$2:$I$101,リレー種目!$A86,6))","v":""},{"$f":"IF(ISERROR(VLOOKUP(リレー種目!H86,競技名一覧!$J$2:$K$6,2,0)),\"\",VLOOKUP(リレー種目!H86,競技名一覧!$J$2:$K$6,2,0))","v":""},{"$f":"IF(INDEX(リレー種目!$A$2:$I$101,リレー種目!$A86,9)=\"\",\"\",INDEX(リレー種目!$A$2:$I$101,リレー種目!$A86,9))","v":""}]
["",{"$f":"VLOOKUP(メイン!B94,所属名!$C$2:$D$177,2,FALSE)","v":1},{"$f":"IF(INDEX(リレー種目!$A$2:$I$101,リレー種目!$A87,4)=\"\",\"\",INDEX(リレー種目!$A$2:$I$101,リレー種目!$A87,4))","v":""},null,null,null,null,null,{"$f":"IF(INDEX(リレー種目!$A$2:$I$101,リレー種目!$A87,6)=\"\",\"\",INDEX(リレー種目!$A$2:$I$101,リレー種目!$A87,6))","v":""},{"$f":"IF(ISERROR(VLOOKUP(リレー種目!H87,競技名一覧!$J$2:$K$6,2,0)),\"\",VLOOKUP(リレー種目!H87,競技名一覧!$J$2:$K$6,2,0))","v":""},{"$f":"IF(INDEX(リレー種目!$A$2:$I$101,リレー種目!$A87,9)=\"\",\"\",INDEX(リレー種目!$A$2:$I$101,リレー種目!$A87,9))","v":""}]
["",{"$f":"VLOOKUP(メイン!B95,所属名!$C$2:$D$177,2,FALSE)","v":1},{"$f":"IF(INDEX(リレー種目!$A$2:$I$101,リレー種目!$A88,4)=\"\",\"\",INDEX(リレー種目!$A$2:$I$101,リレー種目!$A88,4))","v":""},null,null,null,null,null,{"$f":"IF(INDEX(リレー種目!$A$2:$I$101,リレー種目!$A88,6)=\"\",\"\",INDEX(リレー種目!$A$2:$I$101,リレー種目!$A88,6))","v":""},{"$f":"IF(ISERROR(VLOOKUP(リレー種目!H88,競技名一覧!$J$2:$K$6,2,0)),\"\",VLOOKUP(リレー種目!H88,競技名一覧!$J$2:$K$6,2,0))","v":""},{"$f":"IF(INDEX(リレー種目!$A$2:$I$101,リレー種目!$A88,9)=\"\",\"\",INDEX(リレー種目!$A$2:$I$101,リレー種目!$A88,9))","v":""}]
["",{"$f":"VLOOKUP(メイン!B96,所属名!$C$2:$D$177,2,FALSE)","v":1},{"$f":"IF(INDEX(リレー種目!$A$2:$I$101,リレー種目!$A89,4)=\"\",\"\",INDEX(リレー種目!$A$2:$I$101,リレー種目!$A89,4))","v":""},null,null,null,null,null,{"$f":"IF(INDEX(リレー種目!$A$2:$I$101,リレー種目!$A89,6)=\"\",\"\",INDEX(リレー種目!$A$2:$I$101,リレー種目!$A89,6))","v":""},{"$f":"IF(ISERROR(VLOOKUP(リレー種目!H89,競技名一覧!$J$2:$K$6,2,0)),\"\",VLOOKUP(リレー種目!H89,競技名一覧!$J$2:$K$6,2,0))","v":""},{"$f":"IF(INDEX(リレー種目!$A$2:$I$101,リレー種目!$A89,9)=\"\",\"\",INDEX(リレー種目!$A$2:$I$101,リレー種目!$A89,9))","v":""}]
["",{"$f":"VLOOKUP(メイン!B97,所属名!$C$2:$D$177,2,FALSE)","v":1},{"$f":"IF(INDEX(リレー種目!$A$2:$I$101,リレー種目!$A90,4)=\"\",\"\",INDEX(リレー種目!$A$2:$I$101,リレー種目!$A90,4))","v":""},null,null,null,null,null,{"$f":"IF(INDEX(リレー種目!$A$2:$I$101,リレー種目!$A90,6)=\"\",\"\",INDEX(リレー種目!$A$2:$I$101,リレー種目!$A90,6))","v":""},{"$f":"IF(ISERROR(VLOOKUP(リレー種目!H90,競技名一覧!$J$2:$K$6,2,0)),\"\",VLOOKUP(リレー種目!H90,競技名一覧!$J$2:$K$6,2,0))","v":""},{"$f":"IF(INDEX(リレー種目!$A$2:$I$101,リレー種目!$A90,9)=\"\",\"\",INDEX(リレー種目!$A$2:$I$101,リレー種目!$A90,9))","v":""}]
["",{"$f":"VLOOKUP(メイン!B98,所属名!$C$2:$D$177,2,FALSE)","v":1},{"$f":"IF(INDEX(リレー種目!$A$2:$I$101,リレー種目!$A91,4)=\"\",\"\",INDEX(リレー種目!$A$2:$I$101,リレー種目!$A91,4))","v":""},null,null,null,null,null,{"$f":"IF(INDEX(リレー種目!$A$2:$I$101,リレー種目!$A91,6)=\"\",\"\",INDEX(リレー種目!$A$2:$I$101,リレー種目!$A91,6))","v":""},{"$f":"IF(ISERROR(VLOOKUP(リレー種目!H91,競技名一覧!$J$2:$K$6,2,0)),\"\",VLOOKUP(リレー種目!H91,競技名一覧!$J$2:$K$6,2,0))","v":""},{"$f":"IF(INDEX(リレー種目!$A$2:$I$101,リレー種目!$A91,9)=\"\",\"\",INDEX(リレー種目!$A$2:$I$101,リレー種目!$A91,9))","v":""}]
["",{"$f":"VLOOKUP(メイン!B99,所属名!$C$2:$D$177,2,FALSE)","v":1},{"$f":"IF(INDEX(リレー種目!$A$2:$I$101,リレー種目!$A92,4)=\"\",\"\",INDEX(リレー種目!$A$2:$I$101,リレー種目!$A92,4))","v":""},null,null,null,null,null,{"$f":"IF(INDEX(リレー種目!$A$2:$I$101,リレー種目!$A92,6)=\"\",\"\",INDEX(リレー種目!$A$2:$I$101,リレー種目!$A92,6))","v":""},{"$f":"IF(ISERROR(VLOOKUP(リレー種目!H92,競技名一覧!$J$2:$K$6,2,0)),\"\",VLOOKUP(リレー種目!H92,競技名一覧!$J$2:$K$6,2,0))","v":""},{"$f":"IF(INDEX(リレー種目!$A$2:$I$101,リレー種目!$A92,9)=\"\",\"\",INDEX(リレー種目!$A$2:$I$101,リレー種目!$A92,9))","v":""}]
["",{"$f":"VLOOKUP(メイン!B100,所属名!$C$2:$D$177,2,FALSE)","v":1},{"$f":"IF(INDEX(リレー種目!$A$2:$I$101,リレー種目!$A93,4)=\"\",\"\",INDEX(リレー種目!$A$2:$I$101,リレー種目!$A93,4))","v":""},null,null,null,null,null,{"$f":"IF(INDEX(リレー種目!$A$2:$I$101,リレー種目!$A93,6)=\"\",\"\",INDEX(リレー種目!$A$2:$I$101,リレー種目!$A93,6))","v":""},{"$f":"IF(ISERROR(VLOOKUP(リレー種目!H93,競技名一覧!$J$2:$K$6,2,0)),\"\",VLOOKUP(リレー種目!H93,競技名一覧!$J$2:$K$6,2,0))","v":""},{"$f":"IF(INDEX(リレー種目!$A$2:$I$101,リレー種目!$A93,9)=\"\",\"\",INDEX(リレー種目!$A$2:$I$101,リレー種目!$A93,9))","v":""}]
["",{"$f":"VLOOKUP(メイン!B101,所属名!$C$2:$D$177,2,FALSE)","v":1},{"$f":"IF(INDEX(リレー種目!$A$2:$I$101,リレー種目!$A94,4)=\"\",\"\",INDEX(リレー種目!$A$2:$I$101,リレー種目!$A94,4))","v":""},null,null,null,null,null,{"$f":"IF(INDEX(リレー種目!$A$2:$I$101,リレー種目!$A94,6)=\"\",\"\",INDEX(リレー種目!$A$2:$I$101,リレー種目!$A94,6))","v":""},{"$f":"IF(ISERROR(VLOOKUP(リレー種目!H94,競技名一覧!$J$2:$K$6,2,0)),\"\",VLOOKUP(リレー種目!H94,競技名一覧!$J$2:$K$6,2,0))","v":""},{"$f":"IF(INDEX(リレー種目!$A$2:$I$101,リレー種目!$A94,9)=\"\",\"\",INDEX(リレー種目!$A$2:$I$101,リレー種目!$A94,9))","v":""}]
[{"$f":"IF(J95=26,B95+10000,IF(J95=27,B95+11000,IF(J95=64,B95+20000,IF(J95=65,B95+21000,\"\"))))","v":""},{"$f":"VLOOKUP(メイン!B102,所属名!$C$2:$D$177,2,FALSE)","v":1},{"$f":"IF(INDEX(リレー種目!$A$2:$I$101,リレー種目!$A95,4)=\"\",\"\",INDEX(リレー種目!$A$2:$I$101,リレー種目!$A95,4))","v":""},null,null,null,null,null,{"$f":"IF(INDEX(リレー種目!$A$2:$I$101,リレー種目!$A95,6)=\"\",\"\",INDEX(リレー種目!$A$2:$I$101,リレー種目!$A95,6))","v":""},{"$f":"IF(ISERROR(VLOOKUP(リレー種目!H95,競技名一覧!$J$2:$K$6,2,0)),\"\",VLOOKUP(リレー種目!H95,競技名一覧!$J$2:$K$6,2,0))","v":""},{"$f":"IF(INDEX(リレー種目!$A$2:$I$101,リレー種目!$A95,9)=\"\",\"\",INDEX(リレー種目!$A$2:$I$101,リレー種目!$A95,9))","v":""}]
["",{"$f":"VLOOKUP(メイン!B103,所属名!$C$2:$D$177,2,FALSE)","v":1},{"$f":"IF(INDEX(リレー種目!$A$2:$I$101,リレー種目!$A96,4)=\"\",\"\",INDEX(リレー種目!$A$2:$I$101,リレー種目!$A96,4))","v":""},null,null,null,null,null,{"$f":"IF(INDEX(リレー種目!$A$2:$I$101,リレー種目!$A96,6)=\"\",\"\",INDEX(リレー種目!$A$2:$I$101,リレー種目!$A96,6))","v":""},{"$f":"IF(ISERROR(VLOOKUP(リレー種目!H96,競技名一覧!$J$2:$K$6,2,0)),\"\",VLOOKUP(リレー種目!H96,競技名一覧!$J$2:$K$6,2,0))","v":""},{"$f":"IF(INDEX(リレー種目!$A$2:$I$101,リレー種目!$A96,9)=\"\",\"\",INDEX(リレー種目!$A$2:$I$101,リレー種目!$A96,9))","v":""}]
["",{"$f":"VLOOKUP(メイン!B104,所属名!$C$2:$D$177,2,FALSE)","v":1},{"$f":"IF(INDEX(リレー種目!$A$2:$I$101,リレー種目!$A97,4)=\"\",\"\",INDEX(リレー種目!$A$2:$I$101,リレー種目!$A97,4))","v":""},null,null,null,null,null,{"$f":"IF(INDEX(リレー種目!$A$2:$I$101,リレー種目!$A97,6)=\"\",\"\",INDEX(リレー種目!$A$2:$I$101,リレー種目!$A97,6))","v":""},{"$f":"IF(ISERROR(VLOOKUP(リレー種目!H97,競技名一覧!$J$2:$K$6,2,0)),\"\",VLOOKUP(リレー種目!H97,競技名一覧!$J$2:$K$6,2,0))","v":""},{"$f":"IF(INDEX(リレー種目!$A$2:$I$101,リレー種目!$A97,9)=\"\",\"\",INDEX(リレー種目!$A$2:$I$101,リレー種目!$A97,9))","v":""}]
["",{"$f":"VLOOKUP(メイン!B105,所属名!$C$2:$D$177,2,FALSE)","v":1},{"$f":"IF(INDEX(リレー種目!$A$2:$I$101,リレー種目!$A98,4)=\"\",\"\",INDEX(リレー種目!$A$2:$I$101,リレー種目!$A98,4))","v":""},null,null,null,null,null,{"$f":"IF(INDEX(リレー種目!$A$2:$I$101,リレー種目!$A98,6)=\"\",\"\",INDEX(リレー種目!$A$2:$I$101,リレー種目!$A98,6))","v":""},{"$f":"IF(ISERROR(VLOOKUP(リレー種目!H98,競技名一覧!$J$2:$K$6,2,0)),\"\",VLOOKUP(リレー種目!H98,競技名一覧!$J$2:$K$6,2,0))","v":""},{"$f":"IF(INDEX(リレー種目!$A$2:$I$101,リレー種目!$A98,9)=\"\",\"\",INDEX(リレー種目!$A$2:$I$101,リレー種目!$A98,9))","v":""}]
["",{"$f":"VLOOKUP(メイン!B106,所属名!$C$2:$D$177,2,FALSE)","v":1},{"$f":"IF(INDEX(リレー種目!$A$2:$I$101,リレー種目!$A99,4)=\"\",\"\",INDEX(リレー種目!$A$2:$I$101,リレー種目!$A99,4))","v":""},null,null,null,null,null,{"$f":"IF(INDEX(リレー種目!$A$2:$I$101,リレー種目!$A99,6)=\"\",\"\",INDEX(リレー種目!$A$2:$I$101,リレー種目!$A99,6))","v":""},{"$f":"IF(ISERROR(VLOOKUP(リレー種目!H99,競技名一覧!$J$2:$K$6,2,0)),\"\",VLOOKUP(リレー種目!H99,競技名一覧!$J$2:$K$6,2,0))","v":""},{"$f":"IF(INDEX(リレー種目!$A$2:$I$101,リレー種目!$A99,9)=\"\",\"\",INDEX(リレー種目!$A$2:$I$101,リレー種目!$A99,9))","v":""}]
["",{"$f":"VLOOKUP(メイン!B107,所属名!$C$2:$D$177,2,FALSE)","v":1},{"$f":"IF(INDEX(リレー種目!$A$2:$I$101,リレー種目!$A100,4)=\"\",\"\",INDEX(リレー種目!$A$2:$I$101,リレー種目!$A100,4))","v":""},null,null,null,null,null,{"$f":"IF(INDEX(リレー種目!$A$2:$I$101,リレー種目!$A100,6)=\"\",\"\",INDEX(リレー種目!$A$2:$I$101,リレー種目!$A100,6))","v":""},{"$f":"IF(ISERROR(VLOOKUP(リレー種目!H100,競技名一覧!$J$2:$K$6,2,0)),\"\",VLOOKUP(リレー種目!H100,競技名一覧!$J$2:$K$6,2,0))","v":""},{"$f":"IF(INDEX(リレー種目!$A$2:$I$101,リレー種目!$A100,9)=\"\",\"\",INDEX(リレー種目!$A$2:$I$101,リレー種目!$A100,9))","v":""}]
[null,null,null,null,null,null,null,null,null,{"$f":"IF(ISERROR(VLOOKUP(リレー種目!H101,競技名一覧!$J$2:$K$6,2,0)),\"\",VLOOKUP(リレー種目!H101,競技名一覧!$J$2:$K$6,2,0))","v":25}]
[{"$f":"IF(J102=26,B102+10000,IF(J102=27,B102+11000,IF(J102=64,B102+20000,IF(J102=65,B102+21000,\"\"))))","v":""}]

{"sheet":"リスト","index":7,"n_rows":23,"n_cols":8,"rows_kept":23,"cut":false,"hidden":false,"merged":[]}
["男子１年出場可能種目","男子２年出場可能種目","男子３年出場可能種目","女子１年出場可能種目","女子２年出場可能種目","女子３年出場可能種目"]
["中学1年男子100m","中学2年男子100m",null,"中学1年女子100m","中学2年女子100m",null,"中学1年男子100m","中学2年男子100m"]
["中学共通男子200m","中学共通男子200m",null,"中学共通女子200m","中学共通女子200m",null,"中学共通男子200m","中学共通男子200m"]
["中学共通男子400m","中学共通男子400m",null,"中学共通女子800m","中学共通女子800m",null,"中学共通男子400m","中学共通男子400m"]
["中学共通男子800m","中学共通男子800m",null,"中学1年女子1500m","中学2年女子1500m",null,"中学共通男子800m","中学共通男子800m"]
["中学1年男子1500m","中学2年男子1500m",null,"中学共通女子100mH(0.762m)","中学共通女子100mH(0.762m)",null,"中学1年男子1500m","中学2年男子1500m"]
["中学共通男子3000m","中学共通男子3000m",null,"中学共通女子走高跳","中学共通女子走高跳",null,"中学共通男子3000m","中学共通男子3000m"]
["中学1年男子100mH(0.840m)","中学共通男子110mH(0.914m)",null,"中学共通女子走幅跳","中学共通女子走幅跳",null,"中学1年男子100mH(0.840m)","中学共通男子110mH(0.914m)"]
["中学共通男子走高跳","中学共通男子走高跳",null,"中学共通女子砲丸投(2.721kg)","中学共通女子砲丸投(2.721kg)",null,"中学共通男子走高跳","中学共通男子走高跳"]
["中学共通男子棒高跳","中学共通男子棒高跳",null,"中学共通女子四種競技(女子)","中学共通女子四種競技(女子)",null,"中学共通男子棒高跳","中学共通男子棒高跳"]
["中学共通男子走幅跳","中学共通男子走幅跳",null,null,null,null,"中学共通男子走幅跳","中学共通男子走幅跳"]
["中学1年男子砲丸投(4.000kg)","中学共通男子砲丸投(5.000kg)",null,null,null,null,"中学1年男子砲丸投(4.000kg)","中学共通男子砲丸投(5.000kg)"]
["中学共通男子四種競技(男子)","中学共通男子四種競技(男子)",null,null,null,null,"中学共通男子四種競技(男子)","中学共通男子四種競技(男子)"]
[]
[null,null,null,null,null,null,"中学1年女子100m","中学2年女子100m"]
[null,null,null,null,null,null,"中学共通女子200m","中学共通女子200m"]
[null,null,null,null,null,null,"中学共通女子800m","中学共通女子800m"]
["男1","男子１年出場可能種目",null,null,null,null,"中学1年女子1500m","中学2年女子1500m"]
["男2","男子２年出場可能種目",null,null,null,null,"中学共通女子100mH(0.762m)","中学共通女子100mH(0.762m)"]
["男3","男子３年出場可能種目",null,null,null,null,"中学共通女子走高跳","中学共通女子走高跳"]
["女1","女子１年出場可能種目",null,null,null,null,"中学共通女子走幅跳","中学共通女子走幅跳"]
["女2","女子２年出場可能種目",null,null,null,null,"中学共通女子砲丸投(2.721kg)","中学共通女子砲丸投(2.721kg)"]
["女3","女子３年出場可能種目",null,null,null,null,"中学共通女子四種競技(女子)","中学共通女子四種競技(女子)"]

{"sheet":"競技名一覧","index":8,"n_rows":28,"n_cols":13,"rows_kept":28,"cut":false,"hidden":false,"merged":[]}
["競技コード","競技名","競技名カナ","競技名正式名称",null,null,null,null,"競技コード","競技名","競技名カナ","競技名正式名称"]
[1,"中学1年男子100m",1,"中学1年男子100m",null,null,null,null,11,"中学共通男子4X100mR",11,"中学共通男子4X100mR"]
[2,"中学2年男子100m",2,"中学2年男子100m",null,null,null,null,25,"中学共通女子4X100mR",25,"中学共通女子4X100mR","中学共通女子4X100mR"]
[3,"中学共通男子200m",3,"中学共通男子200m"]
[4,"中学共通男子400m",4,"中学共通男子400m"]
[5,"中学共通男子800m",5,"中学共通男子800m"]
[6,"中学1年男子1500m",6,"中学1年男子1500m"]
[7,"中学2年男子1500m",7,"中学2年男子1500m"]
[8,"中学共通男子3000m",8,"中学共通男子3000m"]
[9,"中学1年男子100mH(0.840m)",9,"中学1年男子100mH(0.840m)"]
[10,"中学共通男子110mH(0.914m)",10,"中学共通男子110mH(0.914m)"]
[12,"中学共通男子走高跳",12,"中学共通男子走高跳"]
[13,"中学共通男子棒高跳",13,"中学共通男子棒高跳"]
[14,"中学共通男子走幅跳",14,"中学共通男子走幅跳"]
[15,"中学1年男子砲丸投(4.000kg)",15,"中学1年男子砲丸投(4.000kg)"]
[16,"中学共通男子砲丸投(5.000kg)",16,"中学共通男子砲丸投(5.000kg)"]
[17,"中学共通男子四種競技(男子)",17,"中学共通男子四種競技(男子)"]
[18,"中学1年女子100m",18,"中学1年女子100m"]
[19,"中学2年女子100m",19,"中学2年女子100m"]
[20,"中学共通女子200m",20,"中学共通女子200m"]
[21,"中学共通女子800m",21,"中学共通女子800m"]
[22,"中学1年女子1500m",22,"中学1年女子1500m"]
[23,"中学2年女子1500m",23,"中学2年女子1500m"]
[24,"中学共通女子100mH(0.762m)",24,"中学共通女子100mH(0.762m)"]
[26,"中学共通女子走高跳",26,"中学共通女子走高跳"]
[27,"中学共通女子走幅跳",27,"中学共通女子走幅跳"]
[28,"中学共通女子砲丸投(2.721kg)",28,"中学共通女子砲丸投(2.721kg)"]
[29,"中学共通女子四種競技(女子)",29,"中学共通女子四種競技(女子)"]

{"sheet":"所属名","index":9,"n_rows":179,"n_cols":10,"rows_kept":179,"cut":false,"hidden":false,"merged":[[0,5,0,6]]}
["所属コード","所属地コード","所属名","所属名カナ","所属名略称","性別",null,"学年",null,"リレー部別"]
[1,48,"下橋",1,null,"男",1,1,null,"A"]
[2,48,"下小路",2,null,"女",2,2,null,"B"]
[3,48,"厨川",3,null,null,null,3,null,"C"]
[4,48,"上田",4]
[5,48,"盛岡河南",5]
[6,48,"仙北",6]
[7,48,"大宮",7]
[8,48,"米内",8]
[9,48,"土淵",9]
[10,48,"黒石野",10]
[11,48,null,11]
[12,48,"城西",12]
[13,48,"城東",13]
[14,48,"北陵",14]
[15,48,"松園",15]
[16,48,"見前",16]
[17,48,"飯岡",17]
[18,48,"乙部",18]
[19,48,"見前南",19]
[20,48,"北松園",20]
[21,48,"玉山",21]
[22,48,"薮川",22]
[23,48,"渋民",23]
[24,48,"巻堀",24]
[25,48,"紫波第一",25]
[26,48,"紫波第二",26]
[27,48,"紫波第三",27]
[28,48,"矢巾",28]
[29,48,"矢巾北",29]
[30,48,"岩大附属",30]
[31,48,"沼宮内",31]
[32,48,"川口",32]
[33,48,"東部",33]
[34,48,"一方井",34]
[35,48,"雫石",35]
[36,48,"葛巻",36]
[37,48,"小屋瀬",37]
[38,48,"江刈",38]
[39,48,"西根",39]
[40,48,"西根第一",40]
[41,48,"松尾",41]
[42,48,"安代",42]
[43,48,"滝沢南",43]
[44,48,"滝沢",44]
[45,48,"滝沢第二",45]
[46,48,"一本木",46]
[47,48,"姥屋敷",47]
[48,48,"柳沢",48]
[49,48,"花巻",49]
[50,48,"花巻北",50]
[51,48,"南城",51]
[52,48,"湯口",52]
[53,48,"湯本",53]
[54,48,"矢沢",54]
[55,48,"宮野目",55]
[56,48,"西南",56]
[57,48,"大迫",57]
[58,48,"石鳥谷",58]
[59,48,"東和",59]
[60,48,"遠野",60]
[61,48,"遠野東",61]
[62,48,"遠野西",62]
[63,48,"北上",63]
[64,48,"上野",64]
[65,48,"東陵",65]
[66,48,"飯豊",66]
[67,48,"北上南",67]
[68,48,"北上北",68]
[69,48,"江釣子",69]
[70,48,"和賀東",70]
[71,48,"和賀西",71]
[72,48,"湯田",72]
[73,48,"沢内",73]
[74,48,"水沢",74]
[75,48,"東水沢",75]
[76,48,"水沢南",76]
[77,48,"金ケ崎",77]
[78,48,null,78]
[79,48,"胆沢",79]
[80,48,null,80]
[81,48,"前沢",81]
[82,48,"衣川",82]
[83,48,"江刺第一",83]
[84,48,null,84]
[85,48,"江刺南",85]
[86,48,"江刺東",86]
[87,48,"一関",87]
[88,48,"山目",88]
[89,48,"中里",89]
[90,48,"一関東",90]
[91,48,"桜町",91]
[92,48,"萩荘",92]
[93,48,"厳美",93]
[94,48,"本寺",94]
[95,48,"舞川",95]
[96,48,"花泉",96]
[97,48,"千厩",97]
[98,48,"大原",98]
[99,48,"大東",99]
[100,48,"興田",100]
[101,48,"猿沢",101]
[102,48,"東山",102]
[103,48,"室根",103]
[104,48,"川崎",104]
[105,48,"平泉",105]
[106,48,"藤沢",106]
[107,48,"一関一附属",107]
[108,48,"大船渡第一",108]
[109,48,"大船渡",109]
[110,48,"末崎",110]
[111,48,"東朋",111]
[112,48,"日頃市",112]
[113,48,"綾里",113]
[114,48,"越喜来",114]
[115,48,"吉浜",115]
[116,48,"高田第一",116]
[117,48,"気仙",117]
[118,48,"広田",118]
[119,48,"気仙小友",119]
[120,48,"高田東",120]
[121,48,"横田",121]
[122,48,"世田米",122]
[123,48,"有住",123]
[124,48,"釜石",124]
[125,48,"大 平",125]
[126,48,"唐丹",126]
[127,48,"甲子",127]
[128,48,"釜石東",128]
[129,48,"大槌",129]
[130,48,"吉里吉里",130]
[131,48,"宮古第一",131]
[132,48,"宮古第二",132]
[133,48,"宮古河南",133]
[134,48,"宮古西",134]
[135,48,"花輪",135]
[136,48,"津軽石",136]
[137,48,"重茂",137]
[138,48,"崎山",138]
[139,48,"田老第一",139]
[140,48,"新里",140]
[141,48,"川井",141]
[142,48,null,142]
[143,48,"山田",143]
[144,48,"岩泉",144]
[145,48,"釜津田",145]
[146,48,"小川",146]
[147,48,null,147]
[148,48,"小本",148]
[149,48,"田野畑",149]
[150,48,"久慈",150]
[151,48,"長内",151]
[152,48,"大川目",152]
[153,48,"夏井",153]
[154,48,"侍浜",154]
[155,48,"宇部",155]
[156,48,"三崎",156]
[157,48,"山根",157]
[158,48,"山形",158]
[159,48,"種市",159]
[160,48,null,160]
[161,48,"中野",161]
[162,48,"大野",162]
[163,48,"野田",163]
[164,48,"普代",164]
[165,48,"福岡",165]
[166,48,null,166]
[167,48,"金田一",167]
[168,48,"浄法寺",168]
[169,48,"一戸",169]
[170,48,"小鳥谷",170]
[171,48,"奥中山",171]
[172,48,"軽米",172]
[173,48,"九戸",173]
[174,48,"岩手",174]
[175,48,"白百合",175]
[176,48,"盛岡聾",176]
[177,48,"中央付属",177]
[178]

{"sheet":"個票データ１","index":10,"n_rows":201,"n_cols":12,"rows_kept":201,"cut":false,"hidden":true,"merged":[]}
["通し番号","学校番号","学校名","ナンバーカード","氏名","フリガナ","性別NO","性別","学年","種目№","記録","種目名"]
[1,{"$f":"IF(#REF!>=0,#REF!)","v":{"$error":"#REF!"}},{"$f":"IF(INDEX(所属名!$A$2:$C$177,個票データ１!$B2,3)=\"\",\"\",INDEX(所属名!$A$2:$C$177,個票データ１!$B2,3))","v":{"$error":"#REF!"}},{"$f":"IF(#REF!>=0,#REF!)","v":{"$error":"#REF!"}},{"$f":"IF(#REF!>=0,#REF!)","v":{"$error":"#REF!"}},{"$f":"IF(#REF!>=0,#REF!)","v":{"$error":"#REF!"}},{"$f":"IF(#REF!>=0,#REF!)","v":{"$error":"#REF!"}},{"$f":"IF(G2=1,\"男\",IF(G2=2,\"女\",\"\"))","v":{"$error":"#REF!"}},{"$f":"IF(#REF!>=0,#REF!)","v":{"$error":"#REF!"}},{"$f":"IF(#REF!>=0,#REF!)","v":{"$error":"#REF!"}},{"$f":"IF(#REF!>=0,#REF!)","v":{"$error":"#REF!"}},{"$f":"IF(ISERROR(VLOOKUP(J2,#REF!,2,0)),\"\",VLOOKUP(J2,#REF!,2,0))","v":""}]
[2,{"$f":"IF(#REF!>=0,#REF!)","v":{"$error":"#REF!"}},{"$f":"IF(INDEX(所属名!$A$2:$C$177,個票データ１!$B3,3)=\"\",\"\",INDEX(所属名!$A$2:$C$177,個票データ１!$B3,3))","v":{"$error":"#REF!"}},{"$f":"IF(#REF!>=0,#REF!)","v":{"$error":"#REF!"}},{"$f":"IF(#REF!>=0,#REF!)","v":{"$error":"#REF!"}},{"$f":"IF(#REF!>=0,#REF!)","v":{"$error":"#REF!"}},{"$f":"IF(#REF!>=0,#REF!)","v":{"$error":"#REF!"}},{"$error":"#REF!"},{"$f":"IF(#REF!>=0,#REF!)","v":{"$error":"#REF!"}},{"$f":"IF(#REF!>=0,#REF!)","v":{"$error":"#REF!"}},{"$f":"IF(#REF!>=0,#REF!)","v":{"$error":"#REF!"}},{"$f":"IF(ISERROR(VLOOKUP(J3,#REF!,2,0)),\"\",VLOOKUP(J3,#REF!,2,0))","v":""}]
[3,{"$f":"IF(#REF!>=0,#REF!)","v":{"$error":"#REF!"}},{"$f":"IF(INDEX(所属名!$A$2:$C$177,個票データ１!$B4,3)=\"\",\"\",INDEX(所属名!$A$2:$C$177,個票データ１!$B4,3))","v":{"$error":"#REF!"}},{"$f":"IF(#REF!>=0,#REF!)","v":{"$error":"#REF!"}},{"$f":"IF(#REF!>=0,#REF!)","v":{"$error":"#REF!"}},{"$f":"IF(#REF!>=0,#REF!)","v":{"$error":"#REF!"}},{"$f":"IF(#REF!>=0,#REF!)","v":{"$error":"#REF!"}},{"$error":"#REF!"},{"$f":"IF(#REF!>=0,#REF!)","v":{"$error":"#REF!"}},{"$f":"IF(#REF!>=0,#REF!)","v":{"$error":"#REF!"}},{"$f":"IF(#REF!>=0,#REF!)","v":{"$error":"#REF!"}},{"$f":"IF(ISERROR(VLOOKUP(J4,#REF!,2,0)),\"\",VLOOKUP(J4,#REF!,2,0))","v":""}]
[4,{"$f":"IF(#REF!>=0,#REF!)","v":{"$error":"#REF!"}},{"$f":"IF(INDEX(所属名!$A$2:$C$177,個票データ１!$B5,3)=\"\",\"\",INDEX(所属名!$A$2:$C$177,個票データ１!$B5,3))","v":{"$error":"#REF!"}},{"$f":"IF(#REF!>=0,#REF!)","v":{"$error":"#REF!"}},{"$f":"IF(#REF!>=0,#REF!)","v":{"$error":"#REF!"}},{"$f":"IF(#REF!>=0,#REF!)","v":{"$error":"#REF!"}},{"$f":"IF(#REF!>=0,#REF!)","v":{"$error":"#REF!"}},{"$error":"#REF!"},{"$f":"IF(#REF!>=0,#REF!)","v":{"$error":"#REF!"}},{"$f":"IF(#REF!>=0,#REF!)","v":{"$error":"#REF!"}},{"$f":"IF(#REF!>=0,#REF!)","v":{"$error":"#REF!"}},{"$f":"IF(ISERROR(VLOOKUP(J5,#REF!,2,0)),\"\",VLOOKUP(J5,#REF!,2,0))","v":""}]
[5,{"$f":"IF(#REF!>=0,#REF!)","v":{"$error":"#REF!"}},{"$f":"IF(INDEX(所属名!$A$2:$C$177,個票データ１!$B6,3)=\"\",\"\",INDEX(所属名!$A$2:$C$177,個票データ１!$B6,3))","v":{"$error":"#REF!"}},{"$f":"IF(#REF!>=0,#REF!)","v":{"$error":"#REF!"}},{"$f":"IF(#REF!>=0,#REF!)","v":{"$error":"#REF!"}},{"$f":"IF(#REF!>=0,#REF!)","v":{"$error":"#REF!"}},{"$f":"IF(#REF!>=0,#REF!)","v":{"$error":"#REF!"}},{"$error":"#REF!"},{"$f":"IF(#REF!>=0,#REF!)","v":{"$error":"#REF!"}},{"$f":"IF(#REF!>=0,#REF!)","v":{"$error":"#REF!"}},{"$f":"IF(#REF!>=0,#REF!)","v":{"$error":"#REF!"}},{"$f":"IF(ISERROR(VLOOKUP(J6,#REF!,2,0)),\"\",VLOOKUP(J6,#REF!,2,0))","v":""}]
[6,{"$f":"IF(#REF!>=0,#REF!)","v":{"$error":"#REF!"}},{"$f":"IF(INDEX(所属名!$A$2:$C$177,個票データ１!$B7,3)=\"\",\"\",INDEX(所属名!$A$2:$C$177,個票データ１!$B7,3))","v":{"$error":"#REF!"}},{"$f":"IF(#REF!>=0,#REF!)","v":{"$error":"#REF!"}},{"$f":"IF(#REF!>=0,#REF!)","v":{"$error":"#REF!"}},{"$f":"IF(#REF!>=0,#REF!)","v":{"$error":"#REF!"}},{"$f":"IF(#REF!>=0,#REF!)","v":{"$error":"#REF!"}},{"$error":"#REF!"},{"$f":"IF(#REF!>=0,#REF!)","v":{"$error":"#REF!"}},{"$f":"IF(#REF!>=0,#REF!)","v":{"$error":"#REF!"}},{"$f":"IF(#REF!>=0,#REF!)","v":{"$error":"#REF!"}},{"$f":"IF(ISERROR(VLOOKUP(J7,#REF!,2,0)),\"\",VLOOKUP(J7,#REF!,2,0))","v":""}]
[7,{"$f":"IF(#REF!>=0,#REF!)","v":{"$error":"#REF!"}},{"$f":"IF(INDEX(所属名!$A$2:$C$177,個票データ１!$B8,3)=\"\",\"\",INDEX(所属名!$A$2:$C$177,個票データ１!$B8,3))","v":{"$error":"#REF!"}},{"$f":"IF(#REF!>=0,#REF!)","v":{"$error":"#REF!"}},{"$f":"IF(#REF!>=0,#REF!)","v":{"$error":"#REF!"}},{"$f":"IF(#REF!>=0,#REF!)","v":{"$error":"#REF!"}},{"$f":"IF(#REF!>=0,#REF!)","v":{"$error":"#REF!"}},{"$error":"#REF!"},{"$f":"IF(#REF!>=0,#REF!)","v":{"$error":"#REF!"}},{"$f":"IF(#REF!>=0,#REF!)","v":{"$error":"#REF!"}},{"$f":"IF(#REF!>=0,#REF!)","v":{"$error":"#REF!"}},{"$f":"IF(ISERROR(VLOOKUP(J8,#REF!,2,0)),\"\",VLOOKUP(J8,#REF!,2,0))","v":""}]
[8,{"$f":"IF(#REF!>=0,#REF!)","v":{"$error":"#REF!"}},{"$f":"IF(INDEX(所属名!$A$2:$C$177,個票データ１!$B9,3)=\"\",\"\",INDEX(所属名!$A$2:$C$177,個票データ１!$B9,3))","v":{"$error":"#REF!"}},{"$f":"IF(#REF!>=0,#REF!)","v":{"$error":"#REF!"}},{"$f":"IF(#REF!>=0,#REF!)","v":{"$error":"#REF!"}},{"$f":"IF(#REF!>=0,#REF!)","v":{"$error":"#REF!"}},{"$f":"IF(#REF!>=0,#REF!)","v":{"$error":"#REF!"}},{"$error":"#REF!"},{"$f":"IF(#REF!>=0,#REF!)","v":{"$error":"#REF!"}},{"$f":"IF(#REF!>=0,#REF!)","v":{"$error":"#REF!"}},{"$f":"IF(#REF!>=0,#REF!)","v":{"$error":"#REF!"}},{"$f":"IF(ISERROR(VLOOKUP(J9,#REF!,2,0)),\"\",VLOOKUP(J9,#REF!,2,0))","v":""}]
[9,{"$f":"IF(#REF!>=0,#REF!)","v":{"$error":"#REF!"}},{"$f":"IF(INDEX(所属名!$A$2:$C$177,個票データ１!$B10,3)=\"\",\"\",INDEX(所属名!$A$2:$C$177,個票データ１!$B10,3))","v":{"$error":"#REF!"}},{"$f":"IF(#REF!>=0,#REF!)","v":{"$error":"#REF!"}},{"$f":"IF(#REF!>=0,#REF!)","v":{"$error":"#REF!"}},{"$f":"IF(#REF!>=0,#REF!)","v":{"$error":"#REF!"}},{"$f":"IF(#REF!>=0,#REF!)","v":{"$error":"#REF!"}},{"$error":"#REF!"},{"$f":"IF(#REF!>=0,#REF!)","v":{"$error":"#REF!"}},{"$f":"IF(#REF!>=0,#REF!)","v":{"$error":"#REF!"}},{"$f":"IF(#REF!>=0,#REF!)","v":{"$error":"#REF!"}},{"$f":"IF(ISERROR(VLOOKUP(J10,#REF!,2,0)),\"\",VLOOKUP(J10,#REF!,2,0))","v":""}]
[10,{"$f":"IF(#REF!>=0,#REF!)","v":{"$error":"#REF!"}},{"$f":"IF(INDEX(所属名!$A$2:$C$177,個票データ１!$B11,3)=\"\",\"\",INDEX(所属名!$A$2:$C$177,個票データ１!$B11,3))","v":{"$error":"#REF!"}},{"$f":"IF(#REF!>=0,#REF!)","v":{"$error":"#REF!"}},{"$f":"IF(#REF!>=0,#REF!)","v":{"$error":"#REF!"}},{"$f":"IF(#REF!>=0,#REF!)","v":{"$error":"#REF!"}},{"$f":"IF(#REF!>=0,#REF!)","v":{"$error":"#REF!"}},{"$error":"#REF!"},{"$f":"IF(#REF!>=0,#REF!)","v":{"$error":"#REF!"}},{"$f":"IF(#REF!>=0,#REF!)","v":{"$error":"#REF!"}},{"$f":"IF(#REF!>=0,#REF!)","v":{"$error":"#REF!"}},{"$f":"IF(ISERROR(VLOOKUP(J11,#REF!,2,0)),\"\",VLOOKUP(J11,#REF!,2,0))","v":""}]
[11,{"$f":"IF(#REF!>=0,#REF!)","v":{"$error":"#REF!"}},{"$f":"IF(INDEX(所属名!$A$2:$C$177,個票データ１!$B12,3)=\"\",\"\",INDEX(所属名!$A$2:$C$177,個票データ１!$B12,3))","v":{"$error":"#REF!"}},{"$f":"IF(#REF!>=0,#REF!)","v":{"$error":"#REF!"}},{"$f":"IF(#REF!>=0,#REF!)","v":{"$error":"#REF!"}},{"$f":"IF(#REF!>=0,#REF!)","v":{"$error":"#REF!"}},{"$f":"IF(#REF!>=0,#REF!)","v":{"$error":"#REF!"}},{"$error":"#REF!"},{"$f":"IF(#REF!>=0,#REF!)","v":{"$error":"#REF!"}},{"$f":"IF(#REF!>=0,#REF!)","v":{"$error":"#REF!"}},{"$f":"IF(#REF!>=0,#REF!)","v":{"$error":"#REF!"}},{"$f":"IF(ISERROR(VLOOKUP(J12,#REF!,2,0)),\"\",VLOOKUP(J12,#REF!,2,0))","v":""}]
[12,{"$f":"IF(#REF!>=0,#REF!)","v":{"$error":"#REF!"}},{"$f":"IF(INDEX(所属名!$A$2:$C$177,個票データ１!$B13,3)=\"\",\"\",INDEX(所属名!$A$2:$C$177,個票データ１!$B13,3))","v":{"$error":"#REF!"}},{"$f":"IF(#REF!>=0,#REF!)","v":{"$error":"#REF!"}},{"$f":"IF(#REF!>=0,#REF!)","v":{"$error":"#REF!"}},{"$f":"IF(#REF!>=0,#REF!)","v":{"$error":"#REF!"}},{"$f":"IF(#REF!>=0,#REF!)","v":{"$error":"#REF!"}},{"$error":"#REF!"},{"$f":"IF(#REF!>=0,#REF!)","v":{"$error":"#REF!"}},{"$f":"IF(#REF!>=0,#REF!)","v":{"$error":"#REF!"}},{"$f":"IF(#REF!>=0,#REF!)","v":{"$error":"#REF!"}},{"$f":"IF(ISERROR(VLOOKUP(J13,#REF!,2,0)),\"\",VLOOKUP(J13,#REF!,2,0))","v":""}]
[13,{"$f":"IF(#REF!>=0,#REF!)","v":{"$error":"#REF!"}},{"$f":"IF(INDEX(所属名!$A$2:$C$177,個票データ１!$B14,3)=\"\",\"\",INDEX(所属名!$A$2:$C$177,個票データ１!$B14,3))","v":{"$error":"#REF!"}},{"$f":"IF(#REF!>=0,#REF!)","v":{"$error":"#REF!"}},{"$f":"IF(#REF!>=0,#REF!)","v":{"$error":"#REF!"}},{"$f":"IF(#REF!>=0,#REF!)","v":{"$error":"#REF!"}},{"$f":"IF(#REF!>=0,#REF!)","v":{"$error":"#REF!"}},{"$error":"#REF!"},{"$f":"IF(#REF!>=0,#REF!)","v":{"$error":"#REF!"}},{"$f":"IF(#REF!>=0,#REF!)","v":{"$error":"#REF!"}},{"$f":"IF(#REF!>=0,#REF!)","v":{"$error":"#REF!"}},{"$f":"IF(ISERROR(VLOOKUP(J14,#REF!,2,0)),\"\",VLOOKUP(J14,#REF!,2,0))","v":""}]
[14,{"$f":"IF(#REF!>=0,#REF!)","v":{"$error":"#REF!"}},{"$f":"IF(INDEX(所属名!$A$2:$C$177,個票データ１!$B15,3)=\"\",\"\",INDEX(所属名!$A$2:$C$177,個票データ１!$B15,3))","v":{"$error":"#REF!"}},{"$f":"IF(#REF!>=0,#REF!)","v":{"$error":"#REF!"}},{"$f":"IF(#REF!>=0,#REF!)","v":{"$error":"#REF!"}},{"$f":"IF(#REF!>=0,#REF!)","v":{"$error":"#REF!"}},{"$f":"IF(#REF!>=0,#REF!)","v":{"$error":"#REF!"}},{"$error":"#REF!"},{"$f":"IF(#REF!>=0,#REF!)","v":{"$error":"#REF!"}},{"$f":"IF(#REF!>=0,#REF!)","v":{"$error":"#REF!"}},{"$f":"IF(#REF!>=0,#REF!)","v":{"$error":"#REF!"}},{"$f":"IF(ISERROR(VLOOKUP(J15,#REF!,2,0)),\"\",VLOOKUP(J15,#REF!,2,0))","v":""}]
[15,{"$f":"IF(#REF!>=0,#REF!)","v":{"$error":"#REF!"}},{"$f":"IF(INDEX(所属名!$A$2:$C$177,個票データ１!$B16,3)=\"\",\"\",INDEX(所属名!$A$2:$C$177,個票データ１!$B16,3))","v":{"$error":"#REF!"}},{"$f":"IF(#REF!>=0,#REF!)","v":{"$error":"#REF!"}},{"$f":"IF(#REF!>=0,#REF!)","v":{"$error":"#REF!"}},{"$f":"IF(#REF!>=0,#REF!)","v":{"$error":"#REF!"}},{"$f":"IF(#REF!>=0,#REF!)","v":{"$error":"#REF!"}},{"$error":"#REF!"},{"$f":"IF(#REF!>=0,#REF!)","v":{"$error":"#REF!"}},{"$f":"IF(#REF!>=0,#REF!)","v":{"$error":"#REF!"}},{"$f":"IF(#REF!>=0,#REF!)","v":{"$error":"#REF!"}},{"$f":"IF(ISERROR(VLOOKUP(J16,#REF!,2,0)),\"\",VLOOKUP(J16,#REF!,2,0))","v":""}]
[16,{"$f":"IF(#REF!>=0,#REF!)","v":{"$error":"#REF!"}},{"$f":"IF(INDEX(所属名!$A$2:$C$177,個票データ１!$B17,3)=\"\",\"\",INDEX(所属名!$A$2:$C$177,個票データ１!$B17,3))","v":{"$error":"#REF!"}},{"$f":"IF(#REF!>=0,#REF!)","v":{"$error":"#REF!"}},{"$f":"IF(#REF!>=0,#REF!)","v":{"$error":"#REF!"}},{"$f":"IF(#REF!>=0,#REF!)","v":{"$error":"#REF!"}},{"$f":"IF(#REF!>=0,#REF!)","v":{"$error":"#REF!"}},{"$error":"#REF!"},{"$f":"IF(#REF!>=0,#REF!)","v":{"$error":"#REF!"}},{"$f":"IF(#REF!>=0,#REF!)","v":{"$error":"#REF!"}},{"$f":"IF(#REF!>=0,#REF!)","v":{"$error":"#REF!"}},{"$f":"IF(ISERROR(VLOOKUP(J17,#REF!,2,0)),\"\",VLOOKUP(J17,#REF!,2,0))","v":""}]
[17,{"$f":"IF(#REF!>=0,#REF!)","v":{"$error":"#REF!"}},{"$f":"IF(INDEX(所属名!$A$2:$C$177,個票データ１!$B18,3)=\"\",\"\",INDEX(所属名!$A$2:$C$177,個票データ１!$B18,3))","v":{"$error":"#REF!"}},{"$f":"IF(#REF!>=0,#REF!)","v":{"$error":"#REF!"}},{"$f":"IF(#REF!>=0,#REF!)","v":{"$error":"#REF!"}},{"$f":"IF(#REF!>=0,#REF!)","v":{"$error":"#REF!"}},{"$f":"IF(#REF!>=0,#REF!)","v":{"$error":"#REF!"}},{"$error":"#REF!"},{"$f":"IF(#REF!>=0,#REF!)","v":{"$error":"#REF!"}},{"$f":"IF(#REF!>=0,#REF!)","v":{"$error":"#REF!"}},{"$f":"IF(#REF!>=0,#REF!)","v":{"$error":"#REF!"}},{"$f":"IF(ISERROR(VLOOKUP(J18,#REF!,2,0)),\"\",VLOOKUP(J18,#REF!,2,0))","v":""}]
[18,{"$f":"IF(#REF!>=0,#REF!)","v":{"$error":"#REF!"}},{"$f":"IF(INDEX(所属名!$A$2:$C$177,個票データ１!$B19,3)=\"\",\"\",INDEX(所属名!$A$2:$C$177,個票データ１!$B19,3))","v":{"$error":"#REF!"}},{"$f":"IF(#REF!>=0,#REF!)","v":{"$error":"#REF!"}},{"$f":"IF(#REF!>=0,#REF!)","v":{"$error":"#REF!"}},{"$f":"IF(#REF!>=0,#REF!)","v":{"$error":"#REF!"}},{"$f":"IF(#REF!>=0,#REF!)","v":{"$error":"#REF!"}},{"$error":"#REF!"},{"$f":"IF(#REF!>=0,#REF!)","v":{"$error":"#REF!"}},{"$f":"IF(#REF!>=0,#REF!)","v":{"$error":"#REF!"}},{"$f":"IF(#REF!>=0,#REF!)","v":{"$error":"#REF!"}},{"$f":"IF(ISERROR(VLOOKUP(J19,#REF!,2,0)),\"\",VLOOKUP(J19,#REF!,2,0))","v":""}]
[19,{"$f":"IF(#REF!>=0,#REF!)","v":{"$error":"#REF!"}},{"$f":"IF(INDEX(所属名!$A$2:$C$177,個票データ１!$B20,3)=\"\",\"\",INDEX(所属名!$A$2:$C$177,個票データ１!$B20,3))","v":{"$error":"#REF!"}},{"$f":"IF(#REF!>=0,#REF!)","v":{"$error":"#REF!"}},{"$f":"IF(#REF!>=0,#REF!)","v":{"$error":"#REF!"}},{"$f":"IF(#REF!>=0,#REF!)","v":{"$error":"#REF!"}},{"$f":"IF(#REF!>=0,#REF!)","v":{"$error":"#REF!"}},{"$error":"#REF!"},{"$f":"IF(#REF!>=0,#REF!)","v":{"$error":"#REF!"}},{"$f":"IF(#REF!>=0,#REF!)","v":{"$error":"#REF!"}},{"$f":"IF(#REF!>=0,#REF!)","v":{"$error":"#REF!"}},{"$f":"IF(ISERROR(VLOOKUP(J20,#REF!,2,0)),\"\",VLOOKUP(J20,#REF!,2,0))","v":""}]
[20,{"$f":"IF(#REF!>=0,#REF!)","v":{"$error":"#REF!"}},{"$f":"IF(INDEX(所属名!$A$2:$C$177,個票データ１!$B21,3)=\"\",\"\",INDEX(所属名!$A$2:$C$177,個票データ１!$B21,3))","v":{"$error":"#REF!"}},{"$f":"IF(#REF!>=0,#REF!)","v":{"$error":"#REF!"}},{"$f":"IF(#REF!>=0,#REF!)","v":{"$error":"#REF!"}},{"$f":"IF(#REF!>=0,#REF!)","v":{"$error":"#REF!"}},{"$f":"IF(#REF!>=0,#REF!)","v":{"$error":"#REF!"}},{"$error":"#REF!"},{"$f":"IF(#REF!>=0,#REF!)","v":{"$error":"#REF!"}},{"$f":"IF(#REF!>=0,#REF!)","v":{"$error":"#REF!"}},{"$f":"IF(#REF!>=0,#REF!)","v":{"$error":"#REF!"}},{"$f":"IF(ISERROR(VLOOKUP(J21,#REF!,2,0)),\"\",VLOOKUP(J21,#REF!,2,0))","v":""}]
[21,{"$f":"IF(#REF!>=0,#REF!)","v":{"$error":"#REF!"}},{"$f":"IF(INDEX(所属名!$A$2:$C$177,個票データ１!$B22,3)=\"\",\"\",INDEX(所属名!$A$2:$C$177,個票データ１!$B22,3))","v":{"$error":"#REF!"}},{"$f":"IF(#REF!>=0,#REF!)","v":{"$error":"#REF!"}},{"$f":"IF(#REF!>=0,#REF!)","v":{"$error":"#REF!"}},{"$f":"IF(#REF!>=0,#REF!)","v":{"$error":"#REF!"}},{"$f":"IF(#REF!>=0,#REF!)","v":{"$error":"#REF!"}},{"$error":"#REF!"},{"$f":"IF(#REF!>=0,#REF!)","v":{"$error":"#REF!"}},{"$f":"IF(#REF!>=0,#REF!)","v":{"$error":"#REF!"}},{"$f":"IF(#REF!>=0,#REF!)","v":{"$error":"#REF!"}},{"$f":"IF(ISERROR(VLOOKUP(J22,#REF!,2,0)),\"\",VLOOKUP(J22,#REF!,2,0))","v":""}]
[22,{"$f":"IF(#REF!>=0,#REF!)","v":{"$error":"#REF!"}},{"$f":"IF(INDEX(所属名!$A$2:$C$177,個票データ１!$B23,3)=\"\",\"\",INDEX(所属名!$A$2:$C$177,個票データ１!$B23,3))","v":{"$error":"#REF!"}},{"$f":"IF(#REF!>=0,#REF!)","v":{"$error":"#REF!"}},{"$f":"IF(#REF!>=0,#REF!)","v":{"$error":"#REF!"}},{"$f":"IF(#REF!>=0,#REF!)","v":{"$error":"#REF!"}},{"$f":"IF(#REF!>=0,#REF!)","v":{"$error":"#REF!"}},{"$error":"#REF!"},{"$f":"IF(#REF!>=0,#REF!)","v":{"$error":"#REF!"}},{"$f":"IF(#REF!>=0,#REF!)","v":{"$error":"#REF!"}},{"$f":"IF(#REF!>=0,#REF!)","v":{"$error":"#REF!"}},{"$f":"IF(ISERROR(VLOOKUP(J23,#REF!,2,0)),\"\",VLOOKUP(J23,#REF!,2,0))","v":""}]
[23,{"$f":"IF(#REF!>=0,#REF!)","v":{"$error":"#REF!"}},{"$f":"IF(INDEX(所属名!$A$2:$C$177,個票データ１!$B24,3)=\"\",\"\",INDEX(所属名!$A$2:$C$177,個票データ１!$B24,3))","v":{"$error":"#REF!"}},{"$f":"IF(#REF!>=0,#REF!)","v":{"$error":"#REF!"}},{"$f":"IF(#REF!>=0,#REF!)","v":{"$error":"#REF!"}},{"$f":"IF(#REF!>=0,#REF!)","v":{"$error":"#REF!"}},{"$f":"IF(#REF!>=0,#REF!)","v":{"$error":"#REF!"}},{"$error":"#REF!"},{"$f":"IF(#REF!>=0,#REF!)","v":{"$error":"#REF!"}},{"$f":"IF(#REF!>=0,#REF!)","v":{"$error":"#REF!"}},{"$f":"IF(#REF!>=0,#REF!)","v":{"$error":"#REF!"}},{"$f":"IF(ISERROR(VLOOKUP(J24,#REF!,2,0)),\"\",VLOOKUP(J24,#REF!,2,0))","v":""}]
[24,{"$f":"IF(#REF!>=0,#REF!)","v":{"$error":"#REF!"}},{"$f":"IF(INDEX(所属名!$A$2:$C$177,個票データ１!$B25,3)=\"\",\"\",INDEX(所属名!$A$2:$C$177,個票データ１!$B25,3))","v":{"$error":"#REF!"}},{"$f":"IF(#REF!>=0,#REF!)","v":{"$error":"#REF!"}},{"$f":"IF(#REF!>=0,#REF!)","v":{"$error":"#REF!"}},{"$f":"IF(#REF!>=0,#REF!)","v":{"$error":"#REF!"}},{"$f":"IF(#REF!>=0,#REF!)","v":{"$error":"#REF!"}},{"$error":"#REF!"},{"$f":"IF(#REF!>=0,#REF!)","v":{"$error":"#REF!"}},{"$f":"IF(#REF!>=0,#REF!)","v":{"$error":"#REF!"}},{"$f":"IF(#REF!>=0,#REF!)","v":{"$error":"#REF!"}},{"$f":"IF(ISERROR(VLOOKUP(J25,#REF!,2,0)),\"\",VLOOKUP(J25,#REF!,2,0))","v":""}]
[25,{"$f":"IF(#REF!>=0,#REF!)","v":{"$error":"#REF!"}},{"$f":"IF(INDEX(所属名!$A$2:$C$177,個票データ１!$B26,3)=\"\",\"\",INDEX(所属名!$A$2:$C$177,個票データ１!$B26,3))","v":{"$error":"#REF!"}},{"$f":"IF(#REF!>=0,#REF!)","v":{"$error":"#REF!"}},{"$f":"IF(#REF!>=0,#REF!)","v":{"$error":"#REF!"}},{"$f":"IF(#REF!>=0,#REF!)","v":{"$error":"#REF!"}},{"$f":"IF(#REF!>=0,#REF!)","v":{"$error":"#REF!"}},{"$error":"#REF!"},{"$f":"IF(#REF!>=0,#REF!)","v":{"$error":"#REF!"}},{"$f":"IF(#REF!>=0,#REF!)","v":{"$error":"#REF!"}},{"$f":"IF(#REF!>=0,#REF!)","v":{"$error":"#REF!"}},{"$f":"IF(ISERROR(VLOOKUP(J26,#REF!,2,0)),\"\",VLOOKUP(J26,#REF!,2,0))","v":""}]
[26,{"$f":"IF(#REF!>=0,#REF!)","v":{"$error":"#REF!"}},{"$f":"IF(INDEX(所属名!$A$2:$C$177,個票データ１!$B27,3)=\"\",\"\",INDEX(所属名!$A$2:$C$177,個票データ１!$B27,3))","v":{"$error":"#REF!"}},{"$f":"IF(#REF!>=0,#REF!)","v":{"$error":"#REF!"}},{"$f":"IF(#REF!>=0,#REF!)","v":{"$error":"#REF!"}},{"$f":"IF(#REF!>=0,#REF!)","v":{"$error":"#REF!"}},{"$f":"IF(#REF!>=0,#REF!)","v":{"$error":"#REF!"}},{"$error":"#REF!"},{"$f":"IF(#REF!>=0,#REF!)","v":{"$error":"#REF!"}},{"$f":"IF(#REF!>=0,#REF!)","v":{"$error":"#REF!"}},{"$f":"IF(#REF!>=0,#REF!)","v":{"$error":"#REF!"}},{"$f":"IF(ISERROR(VLOOKUP(J27,#REF!,2,0)),\"\",VLOOKUP(J27,#REF!,2,0))","v":""}]
[27,{"$f":"IF(#REF!>=0,#REF!)","v":{"$error":"#REF!"}},{"$f":"IF(INDEX(所属名!$A$2:$C$177,個票データ１!$B28,3)=\"\",\"\",INDEX(所属名!$A$2:$C$177,個票データ１!$B28,3))","v":{"$error":"#REF!"}},{"$f":"IF(#REF!>=0,#REF!)","v":{"$error":"#REF!"}},{"$f":"IF(#REF!>=0,#REF!)","v":{"$error":"#REF!"}},{"$f":"IF(#REF!>=0,#REF!)","v":{"$error":"#REF!"}},{"$f":"IF(#REF!>=0,#REF!)","v":{"$error":"#REF!"}},{"$error":"#REF!"},{"$f":"IF(#REF!>=0,#REF!)","v":{"$error":"#REF!"}},{"$f":"IF(#REF!>=0,#REF!)","v":{"$error":"#REF!"}},{"$f":"IF(#REF!>=0,#REF!)","v":{"$error":"#REF!"}},{"$f":"IF(ISERROR(VLOOKUP(J28,#REF!,2,0)),\"\",VLOOKUP(J28,#REF!,2,0))","v":""}]
[28,{"$f":"IF(#REF!>=0,#REF!)","v":{"$error":"#REF!"}},{"$f":"IF(INDEX(所属名!$A$2:$C$177,個票データ１!$B29,3)=\"\",\"\",INDEX(所属名!$A$2:$C$177,個票データ１!$B29,3))","v":{"$error":"#REF!"}},{"$f":"IF(#REF!>=0,#REF!)","v":{"$error":"#REF!"}},{"$f":"IF(#REF!>=0,#REF!)","v":{"$error":"#REF!"}},{"$f":"IF(#REF!>=0,#REF!)","v":{"$error":"#REF!"}},{"$f":"IF(#REF!>=0,#REF!)","v":{"$error":"#REF!"}},{"$error":"#REF!"},{"$f":"IF(#REF!>=0,#REF!)","v":{"$error":"#REF!"}},{"$f":"IF(#REF!>=0,#REF!)","v":{"$error":"#REF!"}},{"$f":"IF(#REF!>=0,#REF!)","v":{"$error":"#REF!"}},{"$f":"IF(ISERROR(VLOOKUP(J29,#REF!,2,0)),\"\",VLOOKUP(J29,#REF!,2,0))","v":""}]
[29,{"$f":"IF(#REF!>=0,#REF!)","v":{"$error":"#REF!"}},{"$f":"IF(INDEX(所属名!$A$2:$C$177,個票データ１!$B30,3)=\"\",\"\",INDEX(所属名!$A$2:$C$177,個票データ１!$B30,3))","v":{"$error":"#REF!"}},{"$f":"IF(#REF!>=0,#REF!)","v":{"$error":"#REF!"}},{"$f":"IF(#REF!>=0,#REF!)","v":{"$error":"#REF!"}},{"$f":"IF(#REF!>=0,#REF!)","v":{"$error":"#REF!"}},{"$f":"IF(#REF!>=0,#REF!)","v":{"$error":"#REF!"}},{"$error":"#REF!"},{"$f":"IF(#REF!>=0,#REF!)","v":{"$error":"#REF!"}},{"$f":"IF(#REF!>=0,#REF!)","v":{"$error":"#REF!"}},{"$f":"IF(#REF!>=0,#REF!)","v":{"$error":"#REF!"}},{"$f":"IF(ISERROR(VLOOKUP(J30,#REF!,2,0)),\"\",VLOOKUP(J30,#REF!,2,0))","v":""}]
[30,{"$f":"IF(#REF!>=0,#REF!)","v":{"$error":"#REF!"}},{"$f":"IF(INDEX(所属名!$A$2:$C$177,個票データ１!$B31,3)=\"\",\"\",INDEX(所属名!$A$2:$C$177,個票データ１!$B31,3))","v":{"$error":"#REF!"}},{"$f":"IF(#REF!>=0,#REF!)","v":{"$error":"#REF!"}},{"$f":"IF(#REF!>=0,#REF!)","v":{"$error":"#REF!"}},{"$f":"IF(#REF!>=0,#REF!)","v":{"$error":"#REF!"}},{"$f":"IF(#REF!>=0,#REF!)","v":{"$error":"#REF!"}},{"$error":"#REF!"},{"$f":"IF(#REF!>=0,#REF!)","v":{"$error":"#REF!"}},{"$f":"IF(#REF!>=0,#REF!)","v":{"$error":"#REF!"}},{"$f":"IF(#REF!>=0,#REF!)","v":{"$error":"#REF!"}},{"$f":"IF(ISERROR(VLOOKUP(J31,#REF!,2,0)),\"\",VLOOKUP(J31,#REF!,2,0))","v":""}]
[31,{"$f":"IF(#REF!>=0,#REF!)","v":{"$error":"#REF!"}},{"$f":"IF(INDEX(所属名!$A$2:$C$177,個票データ１!$B32,3)=\"\",\"\",INDEX(所属名!$A$2:$C$177,個票データ１!$B32,3))","v":{"$error":"#REF!"}},{"$f":"IF(#REF!>=0,#REF!)","v":{"$error":"#REF!"}},{"$f":"IF(#REF!>=0,#REF!)","v":{"$error":"#REF!"}},{"$f":"IF(#REF!>=0,#REF!)","v":{"$error":"#REF!"}},{"$f":"IF(#REF!>=0,#REF!)","v":{"$error":"#REF!"}},{"$error":"#REF!"},{"$f":"IF(#REF!>=0,#REF!)","v":{"$error":"#REF!"}},{"$f":"IF(#REF!>=0,#REF!)","v":{"$error":"#REF!"}},{"$f":"IF(#REF!>=0,#REF!)","v":{"$error":"#REF!"}},{"$f":"IF(ISERROR(VLOOKUP(J32,#REF!,2,0)),\"\",VLOOKUP(J32,#REF!,2,0))","v":""}]
[32,{"$f":"IF(#REF!>=0,#REF!)","v":{"$error":"#REF!"}},{"$f":"IF(INDEX(所属名!$A$2:$C$177,個票データ１!$B33,3)=\"\",\"\",INDEX(所属名!$A$2:$C$177,個票データ１!$B33,3))","v":{"$error":"#REF!"}},{"$f":"IF(#REF!>=0,#REF!)","v":{"$error":"#REF!"}},{"$f":"IF(#REF!>=0,#REF!)","v":{"$error":"#REF!"}},{"$f":"IF(#REF!>=0,#REF!)","v":{"$error":"#REF!"}},{"$f":"IF(#REF!>=0,#REF!)","v":{"$error":"#REF!"}},{"$error":"#REF!"},{"$f":"IF(#REF!>=0,#REF!)","v":{"$error":"#REF!"}},{"$f":"IF(#REF!>=0,#REF!)","v":{"$error":"#REF!"}},{"$f":"IF(#REF!>=0,#REF!)","v":{"$error":"#REF!"}},{"$f":"IF(ISERROR(VLOOKUP(J33,#REF!,2,0)),\"\",VLOOKUP(J33,#REF!,2,0))","v":""}]
[33,{"$f":"IF(#REF!>=0,#REF!)","v":{"$error":"#REF!"}},{"$f":"IF(INDEX(所属名!$A$2:$C$177,個票データ１!$B34,3)=\"\",\"\",INDEX(所属名!$A$2:$C$177,個票データ１!$B34,3))","v":{"$error":"#REF!"}},{"$f":"IF(#REF!>=0,#REF!)","v":{"$error":"#REF!"}},{"$f":"IF(#REF!>=0,#REF!)","v":{"$error":"#REF!"}},{"$f":"IF(#REF!>=0,#REF!)","v":{"$error":"#REF!"}},{"$f":"IF(#REF!>=0,#REF!)","v":{"$error":"#REF!"}},{"$error":"#REF!"},{"$f":"IF(#REF!>=0,#REF!)","v":{"$error":"#REF!"}},{"$f":"IF(#REF!>=0,#REF!)","v":{"$error":"#REF!"}},{"$f":"IF(#REF!>=0,#REF!)","v":{"$error":"#REF!"}},{"$f":"IF(ISERROR(VLOOKUP(J34,#REF!,2,0)),\"\",VLOOKUP(J34,#REF!,2,0))","v":""}]
[34,{"$f":"IF(#REF!>=0,#REF!)","v":{"$error":"#REF!"}},{"$f":"IF(INDEX(所属名!$A$2:$C$177,個票データ１!$B35,3)=\"\",\"\",INDEX(所属名!$A$2:$C$177,個票データ１!$B35,3))","v":{"$error":"#REF!"}},{"$f":"IF(#REF!>=0,#REF!)","v":{"$error":"#REF!"}},{"$f":"IF(#REF!>=0,#REF!)","v":{"$error":"#REF!"}},{"$f":"IF(#REF!>=0,#REF!)","v":{"$error":"#REF!"}},{"$f":"IF(#REF!>=0,#REF!)","v":{"$error":"#REF!"}},{"$error":"#REF!"},{"$f":"IF(#REF!>=0,#REF!)","v":{"$error":"#REF!"}},{"$f":"IF(#REF!>=0,#REF!)","v":{"$error":"#REF!"}},{"$f":"IF(#REF!>=0,#REF!)","v":{"$error":"#REF!"}},{"$f":"IF(ISERROR(VLOOKUP(J35,#REF!,2,0)),\"\",VLOOKUP(J35,#REF!,2,0))","v":""}]
[35,{"$f":"IF(#REF!>=0,#REF!)","v":{"$error":"#REF!"}},{"$f":"IF(INDEX(所属名!$A$2:$C$177,個票データ１!$B36,3)=\"\",\"\",INDEX(所属名!$A$2:$C$177,個票データ１!$B36,3))","v":{"$error":"#REF!"}},{"$f":"IF(#REF!>=0,#REF!)","v":{"$error":"#REF!"}},{"$f":"IF(#REF!>=0,#REF!)","v":{"$error":"#REF!"}},{"$f":"IF(#REF!>=0,#REF!)","v":{"$error":"#REF!"}},{"$f":"IF(#REF!>=0,#REF!)","v":{"$error":"#REF!"}},{"$error":"#REF!"},{"$f":"IF(#REF!>=0,#REF!)","v":{"$error":"#REF!"}},{"$f":"IF(#REF!>=0,#REF!)","v":{"$error":"#REF!"}},{"$f":"IF(#REF!>=0,#REF!)","v":{"$error":"#REF!"}},{"$f":"IF(ISERROR(VLOOKUP(J36,#REF!,2,0)),\"\",VLOOKUP(J36,#REF!,2,0))","v":""}]
[36,{"$f":"IF(#REF!>=0,#REF!)","v":{"$error":"#REF!"}},{"$f":"IF(INDEX(所属名!$A$2:$C$177,個票データ１!$B37,3)=\"\",\"\",INDEX(所属名!$A$2:$C$177,個票データ１!$B37,3))","v":{"$error":"#REF!"}},{"$f":"IF(#REF!>=0,#REF!)","v":{"$error":"#REF!"}},{"$f":"IF(#REF!>=0,#REF!)","v":{"$error":"#REF!"}},{"$f":"IF(#REF!>=0,#REF!)","v":{"$error":"#REF!"}},{"$f":"IF(#REF!>=0,#REF!)","v":{"$error":"#REF!"}},{"$error":"#REF!"},{"$f":"IF(#REF!>=0,#REF!)","v":{"$error":"#REF!"}},{"$f":"IF(#REF!>=0,#REF!)","v":{"$error":"#REF!"}},{"$f":"IF(#REF!>=0,#REF!)","v":{"$error":"#REF!"}},{"$f":"IF(ISERROR(VLOOKUP(J37,#REF!,2,0)),\"\",VLOOKUP(J37,#REF!,2,0))","v":""}]
[37,{"$f":"IF(#REF!>=0,#REF!)","v":{"$error":"#REF!"}},{"$f":"IF(INDEX(所属名!$A$2:$C$177,個票データ１!$B38,3)=\"\",\"\",INDEX(所属名!$A$2:$C$177,個票データ１!$B38,3))","v":{"$error":"#REF!"}},{"$f":"IF(#REF!>=0,#REF!)","v":{"$error":"#REF!"}},{"$f":"IF(#REF!>=0,#REF!)","v":{"$error":"#REF!"}},{"$f":"IF(#REF!>=0,#REF!)","v":{"$error":"#REF!"}},{"$f":"IF(#REF!>=0,#REF!)","v":{"$error":"#REF!"}},{"$error":"#REF!"},{"$f":"IF(#REF!>=0,#REF!)","v":{"$error":"#REF!"}},{"$f":"IF(#REF!>=0,#REF!)","v":{"$error":"#REF!"}},{"$f":"IF(#REF!>=0,#REF!)","v":{"$error":"#REF!"}},{"$f":"IF(ISERROR(VLOOKUP(J38,#REF!,2,0)),\"\",VLOOKUP(J38,#REF!,2,0))","v":""}]
[38,{"$f":"IF(#REF!>=0,#REF!)","v":{"$error":"#REF!"}},{"$f":"IF(INDEX(所属名!$A$2:$C$177,個票データ１!$B39,3)=\"\",\"\",INDEX(所属名!$A$2:$C$177,個票データ１!$B39,3))","v":{"$error":"#REF!"}},{"$f":"IF(#REF!>=0,#REF!)","v":{"$error":"#REF!"}},{"$f":"IF(#REF!>=0,#REF!)","v":{"$error":"#REF!"}},{"$f":"IF(#REF!>=0,#REF!)","v":{"$error":"#REF!"}},{"$f":"IF(#REF!>=0,#REF!)","v":{"$error":"#REF!"}},{"$error":"#REF!"},{"$f":"IF(#REF!>=0,#REF!)","v":{"$error":"#REF!"}},{"$f":"IF(#REF!>=0,#REF!)","v":{"$error":"#REF!"}},{"$f":"IF(#REF!>=0,#REF!)","v":{"$error":"#REF!"}},{"$f":"IF(ISERROR(VLOOKUP(J39,#REF!,2,0)),\"\",VLOOKUP(J39,#REF!,2,0))","v":""}]
[39,{"$f":"IF(#REF!>=0,#REF!)","v":{"$error":"#REF!"}},{"$f":"IF(INDEX(所属名!$A$2:$C$177,個票データ１!$B40,3)=\"\",\"\",INDEX(所属名!$A$2:$C$177,個票データ１!$B40,3))","v":{"$error":"#REF!"}},{"$f":"IF(#REF!>=0,#REF!)","v":{"$error":"#REF!"}},{"$f":"IF(#REF!>=0,#REF!)","v":{"$error":"#REF!"}},{"$f":"IF(#REF!>=0,#REF!)","v":{"$error":"#REF!"}},{"$f":"IF(#REF!>=0,#REF!)","v":{"$error":"#REF!"}},{"$error":"#REF!"},{"$f":"IF(#REF!>=0,#REF!)","v":{"$error":"#REF!"}},{"$f":"IF(#REF!>=0,#REF!)","v":{"$error":"#REF!"}},{"$f":"IF(#REF!>=0,#REF!)","v":{"$error":"#REF!"}},{"$f":"IF(ISERROR(VLOOKUP(J40,#REF!,2,0)),\"\",VLOOKUP(J40,#REF!,2,0))","v":""}]
[40,{"$f":"IF(#REF!>=0,#REF!)","v":{"$error":"#REF!"}},{"$f":"IF(INDEX(所属名!$A$2:$C$177,個票データ１!$B41,3)=\"\",\"\",INDEX(所属名!$A$2:$C$177,個票データ１!$B41,3))","v":{"$error":"#REF!"}},{"$f":"IF(#REF!>=0,#REF!)","v":{"$error":"#REF!"}},{"$f":"IF(#REF!>=0,#REF!)","v":{"$error":"#REF!"}},{"$f":"IF(#REF!>=0,#REF!)","v":{"$error":"#REF!"}},{"$f":"IF(#REF!>=0,#REF!)","v":{"$error":"#REF!"}},{"$error":"#REF!"},{"$f":"IF(#REF!>=0,#REF!)","v":{"$error":"#REF!"}},{"$f":"IF(#REF!>=0,#REF!)","v":{"$error":"#REF!"}},{"$f":"IF(#REF!>=0,#REF!)","v":{"$error":"#REF!"}},{"$f":"IF(ISERROR(VLOOKUP(J41,#REF!,2,0)),\"\",VLOOKUP(J41,#REF!,2,0))","v":""}]
[41,{"$f":"IF(#REF!>=0,#REF!)","v":{"$error":"#REF!"}},{"$f":"IF(INDEX(所属名!$A$2:$C$177,個票データ１!$B42,3)=\"\",\"\",INDEX(所属名!$A$2:$C$177,個票データ１!$B42,3))","v":{"$error":"#REF!"}},{"$f":"IF(#REF!>=0,#REF!)","v":{"$error":"#REF!"}},{"$f":"IF(#REF!>=0,#REF!)","v":{"$error":"#REF!"}},{"$f":"IF(#REF!>=0,#REF!)","v":{"$error":"#REF!"}},{"$f":"IF(#REF!>=0,#REF!)","v":{"$error":"#REF!"}},{"$error":"#REF!"},{"$f":"IF(#REF!>=0,#REF!)","v":{"$error":"#REF!"}},{"$f":"IF(#REF!>=0,#REF!)","v":{"$error":"#REF!"}},{"$f":"IF(#REF!>=0,#REF!)","v":{"$error":"#REF!"}},{"$f":"IF(ISERROR(VLOOKUP(J42,#REF!,2,0)),\"\",VLOOKUP(J42,#REF!,2,0))","v":""}]
[42,{"$f":"IF(#REF!>=0,#REF!)","v":{"$error":"#REF!"}},{"$f":"IF(INDEX(所属名!$A$2:$C$177,個票データ１!$B43,3)=\"\",\"\",INDEX(所属名!$A$2:$C$177,個票データ１!$B43,3))","v":{"$error":"#REF!"}},{"$f":"IF(#REF!>=0,#REF!)","v":{"$error":"#REF!"}},{"$f":"IF(#REF!>=0,#REF!)","v":{"$error":"#REF!"}},{"$f":"IF(#REF!>=0,#REF!)","v":{"$error":"#REF!"}},{"$f":"IF(#REF!>=0,#REF!)","v":{"$error":"#REF!"}},{"$error":"#REF!"},{"$f":"IF(#REF!>=0,#REF!)","v":{"$error":"#REF!"}},{"$f":"IF(#REF!>=0,#REF!)","v":{"$error":"#REF!"}},{"$f":"IF(#REF!>=0,#REF!)","v":{"$error":"#REF!"}},{"$f":"IF(ISERROR(VLOOKUP(J43,#REF!,2,0)),\"\",VLOOKUP(J43,#REF!,2,0))","v":""}]
[43,{"$f":"IF(#REF!>=0,#REF!)","v":{"$error":"#REF!"}},{"$f":"IF(INDEX(所属名!$A$2:$C$177,個票データ１!$B44,3)=\"\",\"\",INDEX(所属名!$A$2:$C$177,個票データ１!$B44,3))","v":{"$error":"#REF!"}},{"$f":"IF(#REF!>=0,#REF!)","v":{"$error":"#REF!"}},{"$f":"IF(#REF!>=0,#REF!)","v":{"$error":"#REF!"}},{"$f":"IF(#REF!>=0,#REF!)","v":{"$error":"#REF!"}},{"$f":"IF(#REF!>=0,#REF!)","v":{"$error":"#REF!"}},{"$error":"#REF!"},{"$f":"IF(#REF!>=0,#REF!)","v":{"$error":"#REF!"}},{"$f":"IF(#REF!>=0,#REF!)","v":{"$error":"#REF!"}},{"$f":"IF(#REF!>=0,#REF!)","v":{"$error":"#REF!"}},{"$f":"IF(ISERROR(VLOOKUP(J44,#REF!,2,0)),\"\",VLOOKUP(J44,#REF!,2,0))","v":""}]
[44,{"$f":"IF(#REF!>=0,#REF!)","v":{"$error":"#REF!"}},{"$f":"IF(INDEX(所属名!$A$2:$C$177,個票データ１!$B45,3)=\"\",\"\",INDEX(所属名!$A$2:$C$177,個票データ１!$B45,3))","v":{"$error":"#REF!"}},{"$f":"IF(#REF!>=0,#REF!)","v":{"$error":"#REF!"}},{"$f":"IF(#REF!>=0,#REF!)","v":{"$error":"#REF!"}},{"$f":"IF(#REF!>=0,#REF!)","v":{"$error":"#REF!"}},{"$f":"IF(#REF!>=0,#REF!)","v":{"$error":"#REF!"}},{"$f":"IF(G45=1,\"男\",IF(G45=2,\"女\",\"\"))","v":{"$error":"#REF!"}},{"$f":"IF(#REF!>=0,#REF!)","v":{"$error":"#REF!"}},{"$f":"IF(#REF!>=0,#REF!)","v":{"$error":"#REF!"}},{"$f":"IF(#REF!>=0,#REF!)","v":{"$error":"#REF!"}},{"$f":"IF(ISERROR(VLOOKUP(J45,#REF!,2,0)),\"\",VLOOKUP(J45,#REF!,2,0))","v":""}]
[45,{"$f":"IF(#REF!>=0,#REF!)","v":{"$error":"#REF!"}},{"$f":"IF(INDEX(所属名!$A$2:$C$177,個票データ１!$B46,3)=\"\",\"\",INDEX(所属名!$A$2:$C$177,個票データ１!$B46,3))","v":{"$error":"#REF!"}},{"$f":"IF(#REF!>=0,#REF!)","v":{"$error":"#REF!"}},{"$f":"IF(#REF!>=0,#REF!)","v":{"$error":"#REF!"}},{"$f":"IF(#REF!>=0,#REF!)","v":{"$error":"#REF!"}},{"$f":"IF(#REF!>=0,#REF!)","v":{"$error":"#REF!"}},{"$error":"#REF!"},{"$f":"IF(#REF!>=0,#REF!)","v":{"$error":"#REF!"}},{"$f":"IF(#REF!>=0,#REF!)","v":{"$error":"#REF!"}},{"$f":"IF(#REF!>=0,#REF!)","v":{"$error":"#REF!"}},{"$f":"IF(ISERROR(VLOOKUP(J46,#REF!,2,0)),\"\",VLOOKUP(J46,#REF!,2,0))","v":""}]
[46,{"$f":"IF(#REF!>=0,#REF!)","v":{"$error":"#REF!"}},{"$f":"IF(INDEX(所属名!$A$2:$C$177,個票データ１!$B47,3)=\"\",\"\",INDEX(所属名!$A$2:$C$177,個票データ１!$B47,3))","v":{"$error":"#REF!"}},{"$f":"IF(#REF!>=0,#REF!)","v":{"$error":"#REF!"}},{"$f":"IF(#REF!>=0,#REF!)","v":{"$error":"#REF!"}},{"$f":"IF(#REF!>=0,#REF!)","v":{"$error":"#REF!"}},{"$f":"IF(#REF!>=0,#REF!)","v":{"$error":"#REF!"}},{"$error":"#REF!"},{"$f":"IF(#REF!>=0,#REF!)","v":{"$error":"#REF!"}},{"$f":"IF(#REF!>=0,#REF!)","v":{"$error":"#REF!"}},{"$f":"IF(#REF!>=0,#REF!)","v":{"$error":"#REF!"}},{"$f":"IF(ISERROR(VLOOKUP(J47,#REF!,2,0)),\"\",VLOOKUP(J47,#REF!,2,0))","v":""}]
[47,{"$f":"IF(#REF!>=0,#REF!)","v":{"$error":"#REF!"}},{"$f":"IF(INDEX(所属名!$A$2:$C$177,個票データ１!$B48,3)=\"\",\"\",INDEX(所属名!$A$2:$C$177,個票データ１!$B48,3))","v":{"$error":"#REF!"}},{"$f":"IF(#REF!>=0,#REF!)","v":{"$error":"#REF!"}},{"$f":"IF(#REF!>=0,#REF!)","v":{"$error":"#REF!"}},{"$f":"IF(#REF!>=0,#REF!)","v":{"$error":"#REF!"}},{"$f":"IF(#REF!>=0,#REF!)","v":{"$error":"#REF!"}},{"$error":"#REF!"},{"$f":"IF(#REF!>=0,#REF!)","v":{"$error":"#REF!"}},{"$f":"IF(#REF!>=0,#REF!)","v":{"$error":"#REF!"}},{"$f":"IF(#REF!>=0,#REF!)","v":{"$error":"#REF!"}},{"$f":"IF(ISERROR(VLOOKUP(J48,#REF!,2,0)),\"\",VLOOKUP(J48,#REF!,2,0))","v":""}]
[48,{"$f":"IF(#REF!>=0,#REF!)","v":{"$error":"#REF!"}},{"$f":"IF(INDEX(所属名!$A$2:$C$177,個票データ１!$B49,3)=\"\",\"\",INDEX(所属名!$A$2:$C$177,個票データ１!$B49,3))","v":{"$error":"#REF!"}},{"$f":"IF(#REF!>=0,#REF!)","v":{"$error":"#REF!"}},{"$f":"IF(#REF!>=0,#REF!)","v":{"$error":"#REF!"}},{"$f":"IF(#REF!>=0,#REF!)","v":{"$error":"#REF!"}},{"$f":"IF(#REF!>=0,#REF!)","v":{"$error":"#REF!"}},{"$error":"#REF!"},{"$f":"IF(#REF!>=0,#REF!)","v":{"$error":"#REF!"}},{"$f":"IF(#REF!>=0,#REF!)","v":{"$error":"#REF!"}},{"$f":"IF(#REF!>=0,#REF!)","v":{"$error":"#REF!"}},{"$f":"IF(ISERROR(VLOOKUP(J49,#REF!,2,0)),\"\",VLOOKUP(J49,#REF!,2,0))","v":""}]
[49,{"$f":"IF(#REF!>=0,#REF!)","v":{"$error":"#REF!"}},{"$f":"IF(INDEX(所属名!$A$2:$C$177,個票データ１!$B50,3)=\"\",\"\",INDEX(所属名!$A$2:$C$177,個票データ１!$B50,3))","v":{"$error":"#REF!"}},{"$f":"IF(#REF!>=0,#REF!)","v":{"$error":"#REF!"}},{"$f":"IF(#REF!>=0,#REF!)","v":{"$error":"#REF!"}},{"$f":"IF(#REF!>=0,#REF!)","v":{"$error":"#REF!"}},{"$f":"IF(#REF!>=0,#REF!)","v":{"$error":"#REF!"}},{"$error":"#REF!"},{"$f":"IF(#REF!>=0,#REF!)","v":{"$error":"#REF!"}},{"$f":"IF(#REF!>=0,#REF!)","v":{"$error":"#REF!"}},{"$f":"IF(#REF!>=0,#REF!)","v":{"$error":"#REF!"}},{"$f":"IF(ISERROR(VLOOKUP(J50,#REF!,2,0)),\"\",VLOOKUP(J50,#REF!,2,0))","v":""}]
[50,{"$f":"IF(#REF!>=0,#REF!)","v":{"$error":"#REF!"}},{"$f":"IF(INDEX(所属名!$A$2:$C$177,個票データ１!$B51,3)=\"\",\"\",INDEX(所属名!$A$2:$C$177,個票データ１!$B51,3))","v":{"$error":"#REF!"}},{"$f":"IF(#REF!>=0,#REF!)","v":{"$error":"#REF!"}},{"$f":"IF(#REF!>=0,#REF!)","v":{"$error":"#REF!"}},{"$f":"IF(#REF!>=0,#REF!)","v":{"$error":"#REF!"}},{"$f":"IF(#REF!>=0,#REF!)","v":{"$error":"#REF!"}},{"$error":"#REF!"},{"$f":"IF(#REF!>=0,#REF!)","v":{"$error":"#REF!"}},{"$f":"IF(#REF!>=0,#REF!)","v":{"$error":"#REF!"}},{"$f":"IF(#REF!>=0,#REF!)","v":{"$error":"#REF!"}},{"$f":"IF(ISERROR(VLOOKUP(J51,#REF!,2,0)),\"\",VLOOKUP(J51,#REF!,2,0))","v":""}]
[51,{"$f":"IF(#REF!>=0,#REF!)","v":{"$error":"#REF!"}},{"$f":"IF(INDEX(所属名!$A$2:$C$177,個票データ１!$B52,3)=\"\",\"\",INDEX(所属名!$A$2:$C$177,個票データ１!$B52,3))","v":{"$error":"#REF!"}},{"$f":"IF(#REF!>=0,#REF!)","v":{"$error":"#REF!"}},{"$f":"IF(#REF!>=0,#REF!)","v":{"$error":"#REF!"}},{"$f":"IF(#REF!>=0,#REF!)","v":{"$error":"#REF!"}},{"$f":"IF(#REF!>=0,#REF!)","v":{"$error":"#REF!"}},{"$error":"#REF!"},{"$f":"IF(#REF!>=0,#REF!)","v":{"$error":"#REF!"}},{"$f":"IF(#REF!>=0,#REF!)","v":{"$error":"#REF!"}},{"$f":"IF(#REF!>=0,#REF!)","v":{"$error":"#REF!"}},{"$f":"IF(ISERROR(VLOOKUP(J52,#REF!,2,0)),\"\",VLOOKUP(J52,#REF!,2,0))","v":""}]
[52,{"$f":"IF(#REF!>=0,#REF!)","v":{"$error":"#REF!"}},{"$f":"IF(INDEX(所属名!$A$2:$C$177,個票データ１!$B53,3)=\"\",\"\",INDEX(所属名!$A$2:$C$177,個票データ１!$B53,3))","v":{"$error":"#REF!"}},{"$f":"IF(#REF!>=0,#REF!)","v":{"$error":"#REF!"}},{"$f":"IF(#REF!>=0,#REF!)","v":{"$error":"#REF!"}},{"$f":"IF(#REF!>=0,#REF!)","v":{"$error":"#REF!"}},{"$f":"IF(#REF!>=0,#REF!)","v":{"$error":"#REF!"}},{"$error":"#REF!"},{"$f":"IF(#REF!>=0,#REF!)","v":{"$error":"#REF!"}},{"$f":"IF(#REF!>=0,#REF!)","v":{"$error":"#REF!"}},{"$f":"IF(#REF!>=0,#REF!)","v":{"$error":"#REF!"}},{"$f":"IF(ISERROR(VLOOKUP(J53,#REF!,2,0)),\"\",VLOOKUP(J53,#REF!,2,0))","v":""}]
[53,{"$f":"IF(#REF!>=0,#REF!)","v":{"$error":"#REF!"}},{"$f":"IF(INDEX(所属名!$A$2:$C$177,個票データ１!$B54,3)=\"\",\"\",INDEX(所属名!$A$2:$C$177,個票データ１!$B54,3))","v":{"$error":"#REF!"}},{"$f":"IF(#REF!>=0,#REF!)","v":{"$error":"#REF!"}},{"$f":"IF(#REF!>=0,#REF!)","v":{"$error":"#REF!"}},{"$f":"IF(#REF!>=0,#REF!)","v":{"$error":"#REF!"}},{"$f":"IF(#REF!>=0,#REF!)","v":{"$error":"#REF!"}},{"$error":"#REF!"},{"$f":"IF(#REF!>=0,#REF!)","v":{"$error":"#REF!"}},{"$f":"IF(#REF!>=0,#REF!)","v":{"$error":"#REF!"}},{"$f":"IF(#REF!>=0,#REF!)","v":{"$error":"#REF!"}},{"$f":"IF(ISERROR(VLOOKUP(J54,#REF!,2,0)),\"\",VLOOKUP(J54,#REF!,2,0))","v":""}]
[54,{"$f":"IF(#REF!>=0,#REF!)","v":{"$error":"#REF!"}},{"$f":"IF(INDEX(所属名!$A$2:$C$177,個票データ１!$B55,3)=\"\",\"\",INDEX(所属名!$A$2:$C$177,個票データ１!$B55,3))","v":{"$error":"#REF!"}},{"$f":"IF(#REF!>=0,#REF!)","v":{"$error":"#REF!"}},{"$f":"IF(#REF!>=0,#REF!)","v":{"$error":"#REF!"}},{"$f":"IF(#REF!>=0,#REF!)","v":{"$error":"#REF!"}},{"$f":"IF(#REF!>=0,#REF!)","v":{"$error":"#REF!"}},{"$error":"#REF!"},{"$f":"IF(#REF!>=0,#REF!)","v":{"$error":"#REF!"}},{"$f":"IF(#REF!>=0,#REF!)","v":{"$error":"#REF!"}},{"$f":"IF(#REF!>=0,#REF!)","v":{"$error":"#REF!"}},{"$f":"IF(ISERROR(VLOOKUP(J55,#REF!,2,0)),\"\",VLOOKUP(J55,#REF!,2,0))","v":""}]
[55,{"$f":"IF(#REF!>=0,#REF!)","v":{"$error":"#REF!"}},{"$f":"IF(INDEX(所属名!$A$2:$C$177,個票データ１!$B56,3)=\"\",\"\",INDEX(所属名!$A$2:$C$177,個票データ１!$B56,3))","v":{"$error":"#REF!"}},{"$f":"IF(#REF!>=0,#REF!)","v":{"$error":"#REF!"}},{"$f":"IF(#REF!>=0,#REF!)","v":{"$error":"#REF!"}},{"$f":"IF(#REF!>=0,#REF!)","v":{"$error":"#REF!"}},{"$f":"IF(#REF!>=0,#REF!)","v":{"$error":"#REF!"}},{"$error":"#REF!"},{"$f":"IF(#REF!>=0,#REF!)","v":{"$error":"#REF!"}},{"$f":"IF(#REF!>=0,#REF!)","v":{"$error":"#REF!"}},{"$f":"IF(#REF!>=0,#REF!)","v":{"$error":"#REF!"}},{"$f":"IF(ISERROR(VLOOKUP(J56,#REF!,2,0)),\"\",VLOOKUP(J56,#REF!,2,0))","v":""}]
[56,{"$f":"IF(#REF!>=0,#REF!)","v":{"$error":"#REF!"}},{"$f":"IF(INDEX(所属名!$A$2:$C$177,個票データ１!$B57,3)=\"\",\"\",INDEX(所属名!$A$2:$C$177,個票データ１!$B57,3))","v":{"$error":"#REF!"}},{"$f":"IF(#REF!>=0,#REF!)","v":{"$error":"#REF!"}},{"$f":"IF(#REF!>=0,#REF!)","v":{"$error":"#REF!"}},{"$f":"IF(#REF!>=0,#REF!)","v":{"$error":"#REF!"}},{"$f":"IF(#REF!>=0,#REF!)","v":{"$error":"#REF!"}},{"$error":"#REF!"},{"$f":"IF(#REF!>=0,#REF!)","v":{"$error":"#REF!"}},{"$f":"IF(#REF!>=0,#REF!)","v":{"$error":"#REF!"}},{"$f":"IF(#REF!>=0,#REF!)","v":{"$error":"#REF!"}},{"$f":"IF(ISERROR(VLOOKUP(J57,#REF!,2,0)),\"\",VLOOKUP(J57,#REF!,2,0))","v":""}]
[57,{"$f":"IF(#REF!>=0,#REF!)","v":{"$error":"#REF!"}},{"$f":"IF(INDEX(所属名!$A$2:$C$177,個票データ１!$B58,3)=\"\",\"\",INDEX(所属名!$A$2:$C$177,個票データ１!$B58,3))","v":{"$error":"#REF!"}},{"$f":"IF(#REF!>=0,#REF!)","v":{"$error":"#REF!"}},{"$f":"IF(#REF!>=0,#REF!)","v":{"$error":"#REF!"}},{"$f":"IF(#REF!>=0,#REF!)","v":{"$error":"#REF!"}},{"$f":"IF(#REF!>=0,#REF!)","v":{"$error":"#REF!"}},{"$error":"#REF!"},{"$f":"IF(#REF!>=0,#REF!)","v":{"$error":"#REF!"}},{"$f":"IF(#REF!>=0,#REF!)","v":{"$error":"#REF!"}},{"$f":"IF(#REF!>=0,#REF!)","v":{"$error":"#REF!"}},{"$f":"IF(ISERROR(VLOOKUP(J58,#REF!,2,0)),\"\",VLOOKUP(J58,#REF!,2,0))","v":""}]
[58,{"$f":"IF(#REF!>=0,#REF!)","v":{"$error":"#REF!"}},{"$f":"IF(INDEX(所属名!$A$2:$C$177,個票データ１!$B59,3)=\"\",\"\",INDEX(所属名!$A$2:$C$177,個票データ１!$B59,3))","v":{"$error":"#REF!"}},{"$f":"IF(#REF!>=0,#REF!)","v":{"$error":"#REF!"}},{"$f":"IF(#REF!>=0,#REF!)","v":{"$error":"#REF!"}},{"$f":"IF(#REF!>=0,#REF!)","v":{"$error":"#REF!"}},{"$f":"IF(#REF!>=0,#REF!)","v":{"$error":"#REF!"}},{"$error":"#REF!"},{"$f":"IF(#REF!>=0,#REF!)","v":{"$error":"#REF!"}},{"$f":"IF(#REF!>=0,#REF!)","v":{"$error":"#REF!"}},{"$f":"IF(#REF!>=0,#REF!)","v":{"$error":"#REF!"}},{"$f":"IF(ISERROR(VLOOKUP(J59,#REF!,2,0)),\"\",VLOOKUP(J59,#REF!,2,0))","v":""}]
[59,{"$f":"IF(#REF!>=0,#REF!)","v":{"$error":"#REF!"}},{"$f":"IF(INDEX(所属名!$A$2:$C$177,個票データ１!$B60,3)=\"\",\"\",INDEX(所属名!$A$2:$C$177,個票データ１!$B60,3))","v":{"$error":"#REF!"}},{"$f":"IF(#REF!>=0,#REF!)","v":{"$error":"#REF!"}},{"$f":"IF(#REF!>=0,#REF!)","v":{"$error":"#REF!"}},{"$f":"IF(#REF!>=0,#REF!)","v":{"$error":"#REF!"}},{"$f":"IF(#REF!>=0,#REF!)","v":{"$error":"#REF!"}},{"$error":"#REF!"},{"$f":"IF(#REF!>=0,#REF!)","v":{"$error":"#REF!"}},{"$f":"IF(#REF!>=0,#REF!)","v":{"$error":"#REF!"}},{"$f":"IF(#REF!>=0,#REF!)","v":{"$error":"#REF!"}},{"$f":"IF(ISERROR(VLOOKUP(J60,#REF!,2,0)),\"\",VLOOKUP(J60,#REF!,2,0))","v":""}]
[60,{"$f":"IF(#REF!>=0,#REF!)","v":{"$error":"#REF!"}},{"$f":"IF(INDEX(所属名!$A$2:$C$177,個票データ１!$B61,3)=\"\",\"\",INDEX(所属名!$A$2:$C$177,個票データ１!$B61,3))","v":{"$error":"#REF!"}},{"$f":"IF(#REF!>=0,#REF!)","v":{"$error":"#REF!"}},{"$f":"IF(#REF!>=0,#REF!)","v":{"$error":"#REF!"}},{"$f":"IF(#REF!>=0,#REF!)","v":{"$error":"#REF!"}},{"$f":"IF(#REF!>=0,#REF!)","v":{"$error":"#REF!"}},{"$error":"#REF!"},{"$f":"IF(#REF!>=0,#REF!)","v":{"$error":"#REF!"}},{"$f":"IF(#REF!>=0,#REF!)","v":{"$error":"#REF!"}},{"$f":"IF(#REF!>=0,#REF!)","v":{"$error":"#REF!"}},{"$f":"IF(ISERROR(VLOOKUP(J61,#REF!,2,0)),\"\",VLOOKUP(J61,#REF!,2,0))","v":""}]
[61,{"$f":"IF(#REF!>=0,#REF!)","v":{"$error":"#REF!"}},{"$f":"IF(INDEX(所属名!$A$2:$C$177,個票データ１!$B62,3)=\"\",\"\",INDEX(所属名!$A$2:$C$177,個票データ１!$B62,3))","v":{"$error":"#REF!"}},{"$f":"IF(#REF!>=0,#REF!)","v":{"$error":"#REF!"}},{"$f":"IF(#REF!>=0,#REF!)","v":{"$error":"#REF!"}},{"$f":"IF(#REF!>=0,#REF!)","v":{"$error":"#REF!"}},{"$f":"IF(#REF!>=0,#REF!)","v":{"$error":"#REF!"}},{"$error":"#REF!"},{"$f":"IF(#REF!>=0,#REF!)","v":{"$error":"#REF!"}},{"$f":"IF(#REF!>=0,#REF!)","v":{"$error":"#REF!"}},{"$f":"IF(#REF!>=0,#REF!)","v":{"$error":"#REF!"}},{"$f":"IF(ISERROR(VLOOKUP(J62,#REF!,2,0)),\"\",VLOOKUP(J62,#REF!,2,0))","v":""}]
[62,{"$f":"IF(#REF!>=0,#REF!)","v":{"$error":"#REF!"}},{"$f":"IF(INDEX(所属名!$A$2:$C$177,個票データ１!$B63,3)=\"\",\"\",INDEX(所属名!$A$2:$C$177,個票データ１!$B63,3))","v":{"$error":"#REF!"}},{"$f":"IF(#REF!>=0,#REF!)","v":{"$error":"#REF!"}},{"$f":"IF(#REF!>=0,#REF!)","v":{"$error":"#REF!"}},{"$f":"IF(#REF!>=0,#REF!)","v":{"$error":"#REF!"}},{"$f":"IF(#REF!>=0,#REF!)","v":{"$error":"#REF!"}},{"$error":"#REF!"},{"$f":"IF(#REF!>=0,#REF!)","v":{"$error":"#REF!"}},{"$f":"IF(#REF!>=0,#REF!)","v":{"$error":"#REF!"}},{"$f":"IF(#REF!>=0,#REF!)","v":{"$error":"#REF!"}},{"$f":"IF(ISERROR(VLOOKUP(J63,#REF!,2,0)),\"\",VLOOKUP(J63,#REF!,2,0))","v":""}]
[63,{"$f":"IF(#REF!>=0,#REF!)","v":{"$error":"#REF!"}},{"$f":"IF(INDEX(所属名!$A$2:$C$177,個票データ１!$B64,3)=\"\",\"\",INDEX(所属名!$A$2:$C$177,個票データ１!$B64,3))","v":{"$error":"#REF!"}},{"$f":"IF(#REF!>=0,#REF!)","v":{"$error":"#REF!"}},{"$f":"IF(#REF!>=0,#REF!)","v":{"$error":"#REF!"}},{"$f":"IF(#REF!>=0,#REF!)","v":{"$error":"#REF!"}},{"$f":"IF(#REF!>=0,#REF!)","v":{"$error":"#REF!"}},{"$error":"#REF!"},{"$f":"IF(#REF!>=0,#REF!)","v":{"$error":"#REF!"}},{"$f":"IF(#REF!>=0,#REF!)","v":{"$error":"#REF!"}},{"$f":"IF(#REF!>=0,#REF!)","v":{"$error":"#REF!"}},{"$f":"IF(ISERROR(VLOOKUP(J64,#REF!,2,0)),\"\",VLOOKUP(J64,#REF!,2,0))","v":""}]
[64,{"$f":"IF(#REF!>=0,#REF!)","v":{"$error":"#REF!"}},{"$f":"IF(INDEX(所属名!$A$2:$C$177,個票データ１!$B65,3)=\"\",\"\",INDEX(所属名!$A$2:$C$177,個票データ１!$B65,3))","v":{"$error":"#REF!"}},{"$f":"IF(#REF!>=0,#REF!)","v":{"$error":"#REF!"}},{"$f":"IF(#REF!>=0,#REF!)","v":{"$error":"#REF!"}},{"$f":"IF(#REF!>=0,#REF!)","v":{"$error":"#REF!"}},{"$f":"IF(#REF!>=0,#REF!)","v":{"$error":"#REF!"}},{"$error":"#REF!"},{"$f":"IF(#REF!>=0,#REF!)","v":{"$error":"#REF!"}},{"$f":"IF(#REF!>=0,#REF!)","v":{"$error":"#REF!"}},{"$f":"IF(#REF!>=0,#REF!)","v":{"$error":"#REF!"}},{"$f":"IF(ISERROR(VLOOKUP(J65,#REF!,2,0)),\"\",VLOOKUP(J65,#REF!,2,0))","v":""}]
[65,{"$f":"IF(#REF!>=0,#REF!)","v":{"$error":"#REF!"}},{"$f":"IF(INDEX(所属名!$A$2:$C$177,個票データ１!$B66,3)=\"\",\"\",INDEX(所属名!$A$2:$C$177,個票データ１!$B66,3))","v":{"$error":"#REF!"}},{"$f":"IF(#REF!>=0,#REF!)","v":{"$error":"#REF!"}},{"$f":"IF(#REF!>=0,#REF!)","v":{"$error":"#REF!"}},{"$f":"IF(#REF!>=0,#REF!)","v":{"$error":"#REF!"}},{"$f":"IF(#REF!>=0,#REF!)","v":{"$error":"#REF!"}},{"$error":"#REF!"},{"$f":"IF(#REF!>=0,#REF!)","v":{"$error":"#REF!"}},{"$f":"IF(#REF!>=0,#REF!)","v":{"$error":"#REF!"}},{"$f":"IF(#REF!>=0,#REF!)","v":{"$error":"#REF!"}},{"$f":"IF(ISERROR(VLOOKUP(J66,#REF!,2,0)),\"\",VLOOKUP(J66,#REF!,2,0))","v":""}]
[66,{"$f":"IF(#REF!>=0,#REF!)","v":{"$error":"#REF!"}},{"$f":"IF(INDEX(所属名!$A$2:$C$177,個票データ１!$B67,3)=\"\",\"\",INDEX(所属名!$A$2:$C$177,個票データ１!$B67,3))","v":{"$error":"#REF!"}},{"$f":"IF(#REF!>=0,#REF!)","v":{"$error":"#REF!"}},{"$f":"IF(#REF!>=0,#REF!)","v":{"$error":"#REF!"}},{"$f":"IF(#REF!>=0,#REF!)","v":{"$error":"#REF!"}},{"$f":"IF(#REF!>=0,#REF!)","v":{"$error":"#REF!"}},{"$error":"#REF!"},{"$f":"IF(#REF!>=0,#REF!)","v":{"$error":"#REF!"}},{"$f":"IF(#REF!>=0,#REF!)","v":{"$error":"#REF!"}},{"$f":"IF(#REF!>=0,#REF!)","v":{"$error":"#REF!"}},{"$f":"IF(ISERROR(VLOOKUP(J67,#REF!,2,0)),\"\",VLOOKUP(J67,#REF!,2,0))","v":""}]
[67,{"$f":"IF(#REF!>=0,#REF!)","v":{"$error":"#REF!"}},{"$f":"IF(INDEX(所属名!$A$2:$C$177,個票データ１!$B68,3)=\"\",\"\",INDEX(所属名!$A$2:$C$177,個票データ１!$B68,3))","v":{"$error":"#REF!"}},{"$f":"IF(#REF!>=0,#REF!)","v":{"$error":"#REF!"}},{"$f":"IF(#REF!>=0,#REF!)","v":{"$error":"#REF!"}},{"$f":"IF(#REF!>=0,#REF!)","v":{"$error":"#REF!"}},{"$f":"IF(#REF!>=0,#REF!)","v":{"$error":"#REF!"}},{"$error":"#REF!"},{"$f":"IF(#REF!>=0,#REF!)","v":{"$error":"#REF!"}},{"$f":"IF(#REF!>=0,#REF!)","v":{"$error":"#REF!"}},{"$f":"IF(#REF!>=0,#REF!)","v":{"$error":"#REF!"}},{"$f":"IF(ISERROR(VLOOKUP(J68,#REF!,2,0)),\"\",VLOOKUP(J68,#REF!,2,0))","v":""}]
[68,{"$f":"IF(#REF!>=0,#REF!)","v":{"$error":"#REF!"}},{"$f":"IF(INDEX(所属名!$A$2:$C$177,個票データ１!$B69,3)=\"\",\"\",INDEX(所属名!$A$2:$C$177,個票データ１!$B69,3))","v":{"$error":"#REF!"}},{"$f":"IF(#REF!>=0,#REF!)","v":{"$error":"#REF!"}},{"$f":"IF(#REF!>=0,#REF!)","v":{"$error":"#REF!"}},{"$f":"IF(#REF!>=0,#REF!)","v":{"$error":"#REF!"}},{"$f":"IF(#REF!>=0,#REF!)","v":{"$error":"#REF!"}},{"$error":"#REF!"},{"$f":"IF(#REF!>=0,#REF!)","v":{"$error":"#REF!"}},{"$f":"IF(#REF!>=0,#REF!)","v":{"$error":"#REF!"}},{"$f":"IF(#REF!>=0,#REF!)","v":{"$error":"#REF!"}},{"$f":"IF(ISERROR(VLOOKUP(J69,#REF!,2,0)),\"\",VLOOKUP(J69,#REF!,2,0))","v":""}]
[69,{"$f":"IF(#REF!>=0,#REF!)","v":{"$error":"#REF!"}},{"$f":"IF(INDEX(所属名!$A$2:$C$177,個票データ１!$B70,3)=\"\",\"\",INDEX(所属名!$A$2:$C$177,個票データ１!$B70,3))","v":{"$error":"#REF!"}},{"$f":"IF(#REF!>=0,#REF!)","v":{"$error":"#REF!"}},{"$f":"IF(#REF!>=0,#REF!)","v":{"$error":"#REF!"}},{"$f":"IF(#REF!>=0,#REF!)","v":{"$error":"#REF!"}},{"$f":"IF(#REF!>=0,#REF!)","v":{"$error":"#REF!"}},{"$error":"#REF!"},{"$f":"IF(#REF!>=0,#REF!)","v":{"$error":"#REF!"}},{"$f":"IF(#REF!>=0,#REF!)","v":{"$error":"#REF!"}},{"$f":"IF(#REF!>=0,#REF!)","v":{"$error":"#REF!"}},{"$f":"IF(ISERROR(VLOOKUP(J70,#REF!,2,0)),\"\",VLOOKUP(J70,#REF!,2,0))","v":""}]
[70,{"$f":"IF(#REF!>=0,#REF!)","v":{"$error":"#REF!"}},{"$f":"IF(INDEX(所属名!$A$2:$C$177,個票データ１!$B71,3)=\"\",\"\",INDEX(所属名!$A$2:$C$177,個票データ１!$B71,3))","v":{"$error":"#REF!"}},{"$f":"IF(#REF!>=0,#REF!)","v":{"$error":"#REF!"}},{"$f":"IF(#REF!>=0,#REF!)","v":{"$error":"#REF!"}},{"$f":"IF(#REF!>=0,#REF!)","v":{"$error":"#REF!"}},{"$f":"IF(#REF!>=0,#REF!)","v":{"$error":"#REF!"}},{"$error":"#REF!"},{"$f":"IF(#REF!>=0,#REF!)","v":{"$error":"#REF!"}},{"$f":"IF(#REF!>=0,#REF!)","v":{"$error":"#REF!"}},{"$f":"IF(#REF!>=0,#REF!)","v":{"$error":"#REF!"}},{"$f":"IF(ISERROR(VLOOKUP(J71,#REF!,2,0)),\"\",VLOOKUP(J71,#REF!,2,0))","v":""}]
[71,{"$f":"IF(#REF!>=0,#REF!)","v":{"$error":"#REF!"}},{"$f":"IF(INDEX(所属名!$A$2:$C$177,個票データ１!$B72,3)=\"\",\"\",INDEX(所属名!$A$2:$C$177,個票データ１!$B72,3))","v":{"$error":"#REF!"}},{"$f":"IF(#REF!>=0,#REF!)","v":{"$error":"#REF!"}},{"$f":"IF(#REF!>=0,#REF!)","v":{"$error":"#REF!"}},{"$f":"IF(#REF!>=0,#REF!)","v":{"$error":"#REF!"}},{"$f":"IF(#REF!>=0,#REF!)","v":{"$error":"#REF!"}},{"$error":"#REF!"},{"$f":"IF(#REF!>=0,#REF!)","v":{"$error":"#REF!"}},{"$f":"IF(#REF!>=0,#REF!)","v":{"$error":"#REF!"}},{"$f":"IF(#REF!>=0,#REF!)","v":{"$error":"#REF!"}},{"$f":"IF(ISERROR(VLOOKUP(J72,#REF!,2,0)),\"\",VLOOKUP(J72,#REF!,2,0))","v":""}]
[72,{"$f":"IF(#REF!>=0,#REF!)","v":{"$error":"#REF!"}},{"$f":"IF(INDEX(所属名!$A$2:$C$177,個票データ１!$B73,3)=\"\",\"\",INDEX(所属名!$A$2:$C$177,個票データ１!$B73,3))","v":{"$error":"#REF!"}},{"$f":"IF(#REF!>=0,#REF!)","v":{"$error":"#REF!"}},{"$f":"IF(#REF!>=0,#REF!)","v":{"$error":"#REF!"}},{"$f":"IF(#REF!>=0,#REF!)","v":{"$error":"#REF!"}},{"$f":"IF(#REF!>=0,#REF!)","v":{"$error":"#REF!"}},{"$error":"#REF!"},{"$f":"IF(#REF!>=0,#REF!)","v":{"$error":"#REF!"}},{"$f":"IF(#REF!>=0,#REF!)","v":{"$error":"#REF!"}},{"$f":"IF(#REF!>=0,#REF!)","v":{"$error":"#REF!"}},{"$f":"IF(ISERROR(VLOOKUP(J73,#REF!,2,0)),\"\",VLOOKUP(J73,#REF!,2,0))","v":""}]
[73,{"$f":"IF(#REF!>=0,#REF!)","v":{"$error":"#REF!"}},{"$f":"IF(INDEX(所属名!$A$2:$C$177,個票データ１!$B74,3)=\"\",\"\",INDEX(所属名!$A$2:$C$177,個票データ１!$B74,3))","v":{"$error":"#REF!"}},{"$f":"IF(#REF!>=0,#REF!)","v":{"$error":"#REF!"}},{"$f":"IF(#REF!>=0,#REF!)","v":{"$error":"#REF!"}},{"$f":"IF(#REF!>=0,#REF!)","v":{"$error":"#REF!"}},{"$f":"IF(#REF!>=0,#REF!)","v":{"$error":"#REF!"}},{"$error":"#REF!"},{"$f":"IF(#REF!>=0,#REF!)","v":{"$error":"#REF!"}},{"$f":"IF(#REF!>=0,#REF!)","v":{"$error":"#REF!"}},{"$f":"IF(#REF!>=0,#REF!)","v":{"$error":"#REF!"}},{"$f":"IF(ISERROR(VLOOKUP(J74,#REF!,2,0)),\"\",VLOOKUP(J74,#REF!,2,0))","v":""}]
[74,{"$f":"IF(#REF!>=0,#REF!)","v":{"$error":"#REF!"}},{"$f":"IF(INDEX(所属名!$A$2:$C$177,個票データ１!$B75,3)=\"\",\"\",INDEX(所属名!$A$2:$C$177,個票データ１!$B75,3))","v":{"$error":"#REF!"}},{"$f":"IF(#REF!>=0,#REF!)","v":{"$error":"#REF!"}},{"$f":"IF(#REF!>=0,#REF!)","v":{"$error":"#REF!"}},{"$f":"IF(#REF!>=0,#REF!)","v":{"$error":"#REF!"}},{"$f":"IF(#REF!>=0,#REF!)","v":{"$error":"#REF!"}},{"$error":"#REF!"},{"$f":"IF(#REF!>=0,#REF!)","v":{"$error":"#REF!"}},{"$f":"IF(#REF!>=0,#REF!)","v":{"$error":"#REF!"}},{"$f":"IF(#REF!>=0,#REF!)","v":{"$error":"#REF!"}},{"$f":"IF(ISERROR(VLOOKUP(J75,#REF!,2,0)),\"\",VLOOKUP(J75,#REF!,2,0))","v":""}]
[75,{"$f":"IF(#REF!>=0,#REF!)","v":{"$error":"#REF!"}},{"$f":"IF(INDEX(所属名!$A$2:$C$177,個票データ１!$B76,3)=\"\",\"\",INDEX(所属名!$A$2:$C$177,個票データ１!$B76,3))","v":{"$error":"#REF!"}},{"$f":"IF(#REF!>=0,#REF!)","v":{"$error":"#REF!"}},{"$f":"IF(#REF!>=0,#REF!)","v":{"$error":"#REF!"}},{"$f":"IF(#REF!>=0,#REF!)","v":{"$error":"#REF!"}},{"$f":"IF(#REF!>=0,#REF!)","v":{"$error":"#REF!"}},{"$error":"#REF!"},{"$f":"IF(#REF!>=0,#REF!)","v":{"$error":"#REF!"}},{"$f":"IF(#REF!>=0,#REF!)","v":{"$error":"#REF!"}},{"$f":"IF(#REF!>=0,#REF!)","v":{"$error":"#REF!"}},{"$f":"IF(ISERROR(VLOOKUP(J76,#REF!,2,0)),\"\",VLOOKUP(J76,#REF!,2,0))","v":""}]
[76,{"$f":"IF(#REF!>=0,#REF!)","v":{"$error":"#REF!"}},{"$f":"IF(INDEX(所属名!$A$2:$C$177,個票データ１!$B77,3)=\"\",\"\",INDEX(所属名!$A$2:$C$177,個票データ１!$B77,3))","v":{"$error":"#REF!"}},{"$f":"IF(#REF!>=0,#REF!)","v":{"$error":"#REF!"}},{"$f":"IF(#REF!>=0,#REF!)","v":{"$error":"#REF!"}},{"$f":"IF(#REF!>=0,#REF!)","v":{"$error":"#REF!"}},{"$f":"IF(#REF!>=0,#REF!)","v":{"$error":"#REF!"}},{"$error":"#REF!"},{"$f":"IF(#REF!>=0,#REF!)","v":{"$error":"#REF!"}},{"$f":"IF(#REF!>=0,#REF!)","v":{"$error":"#REF!"}},{"$f":"IF(#REF!>=0,#REF!)","v":{"$error":"#REF!"}},{"$f":"IF(ISERROR(VLOOKUP(J77,#REF!,2,0)),\"\",VLOOKUP(J77,#REF!,2,0))","v":""}]
[77,{"$f":"IF(#REF!>=0,#REF!)","v":{"$error":"#REF!"}},{"$f":"IF(INDEX(所属名!$A$2:$C$177,個票データ１!$B78,3)=\"\",\"\",INDEX(所属名!$A$2:$C$177,個票データ１!$B78,3))","v":{"$error":"#REF!"}},{"$f":"IF(#REF!>=0,#REF!)","v":{"$error":"#REF!"}},{"$f":"IF(#REF!>=0,#REF!)","v":{"$error":"#REF!"}},{"$f":"IF(#REF!>=0,#REF!)","v":{"$error":"#REF!"}},{"$f":"IF(#REF!>=0,#REF!)","v":{"$error":"#REF!"}},{"$error":"#REF!"},{"$f":"IF(#REF!>=0,#REF!)","v":{"$error":"#REF!"}},{"$f":"IF(#REF!>=0,#REF!)","v":{"$error":"#REF!"}},{"$f":"IF(#REF!>=0,#REF!)","v":{"$error":"#REF!"}},{"$f":"IF(ISERROR(VLOOKUP(J78,#REF!,2,0)),\"\",VLOOKUP(J78,#REF!,2,0))","v":""}]
[78,{"$f":"IF(#REF!>=0,#REF!)","v":{"$error":"#REF!"}},{"$f":"IF(INDEX(所属名!$A$2:$C$177,個票データ１!$B79,3)=\"\",\"\",INDEX(所属名!$A$2:$C$177,個票データ１!$B79,3))","v":{"$error":"#REF!"}},{"$f":"IF(#REF!>=0,#REF!)","v":{"$error":"#REF!"}},{"$f":"IF(#REF!>=0,#REF!)","v":{"$error":"#REF!"}},{"$f":"IF(#REF!>=0,#REF!)","v":{"$error":"#REF!"}},{"$f":"IF(#REF!>=0,#REF!)","v":{"$error":"#REF!"}},{"$error":"#REF!"},{"$f":"IF(#REF!>=0,#REF!)","v":{"$error":"#REF!"}},{"$f":"IF(#REF!>=0,#REF!)","v":{"$error":"#REF!"}},{"$f":"IF(#REF!>=0,#REF!)","v":{"$error":"#REF!"}},{"$f":"IF(ISERROR(VLOOKUP(J79,#REF!,2,0)),\"\",VLOOKUP(J79,#REF!,2,0))","v":""}]
[79,{"$f":"IF(#REF!>=0,#REF!)","v":{"$error":"#REF!"}},{"$f":"IF(INDEX(所属名!$A$2:$C$177,個票データ１!$B80,3)=\"\",\"\",INDEX(所属名!$A$2:$C$177,個票データ１!$B80,3))","v":{"$error":"#REF!"}},{"$f":"IF(#REF!>=0,#REF!)","v":{"$error":"#REF!"}},{"$f":"IF(#REF!>=0,#REF!)","v":{"$error":"#REF!"}},{"$f":"IF(#REF!>=0,#REF!)","v":{"$error":"#REF!"}},{"$f":"IF(#REF!>=0,#REF!)","v":{"$error":"#REF!"}},{"$error":"#REF!"},{"$f":"IF(#REF!>=0,#REF!)","v":{"$error":"#REF!"}},{"$f":"IF(#REF!>=0,#REF!)","v":{"$error":"#REF!"}},{"$f":"IF(#REF!>=0,#REF!)","v":{"$error":"#REF!"}},{"$f":"IF(ISERROR(VLOOKUP(J80,#REF!,2,0)),\"\",VLOOKUP(J80,#REF!,2,0))","v":""}]
[80,{"$f":"IF(#REF!>=0,#REF!)","v":{"$error":"#REF!"}},{"$f":"IF(INDEX(所属名!$A$2:$C$177,個票データ１!$B81,3)=\"\",\"\",INDEX(所属名!$A$2:$C$177,個票データ１!$B81,3))","v":{"$error":"#REF!"}},{"$f":"IF(#REF!>=0,#REF!)","v":{"$error":"#REF!"}},{"$f":"IF(#REF!>=0,#REF!)","v":{"$error":"#REF!"}},{"$f":"IF(#REF!>=0,#REF!)","v":{"$error":"#REF!"}},{"$f":"IF(#REF!>=0,#REF!)","v":{"$error":"#REF!"}},{"$error":"#REF!"},{"$f":"IF(#REF!>=0,#REF!)","v":{"$error":"#REF!"}},{"$f":"IF(#REF!>=0,#REF!)","v":{"$error":"#REF!"}},{"$f":"IF(#REF!>=0,#REF!)","v":{"$error":"#REF!"}},{"$f":"IF(ISERROR(VLOOKUP(J81,#REF!,2,0)),\"\",VLOOKUP(J81,#REF!,2,0))","v":""}]
[81,{"$f":"IF(#REF!>=0,#REF!)","v":{"$error":"#REF!"}},{"$f":"IF(INDEX(所属名!$A$2:$C$177,個票データ１!$B82,3)=\"\",\"\",INDEX(所属名!$A$2:$C$177,個票データ１!$B82,3))","v":{"$error":"#REF!"}},{"$f":"IF(#REF!>=0,#REF!)","v":{"$error":"#REF!"}},{"$f":"IF(#REF!>=0,#REF!)","v":{"$error":"#REF!"}},{"$f":"IF(#REF!>=0,#REF!)","v":{"$error":"#REF!"}},{"$f":"IF(#REF!>=0,#REF!)","v":{"$error":"#REF!"}},{"$error":"#REF!"},{"$f":"IF(#REF!>=0,#REF!)","v":{"$error":"#REF!"}},{"$f":"IF(#REF!>=0,#REF!)","v":{"$error":"#REF!"}},{"$f":"IF(#REF!>=0,#REF!)","v":{"$error":"#REF!"}},{"$f":"IF(ISERROR(VLOOKUP(J82,#REF!,2,0)),\"\",VLOOKUP(J82,#REF!,2,0))","v":""}]
[82,{"$f":"IF(#REF!>=0,#REF!)","v":{"$error":"#REF!"}},{"$f":"IF(INDEX(所属名!$A$2:$C$177,個票データ１!$B83,3)=\"\",\"\",INDEX(所属名!$A$2:$C$177,個票データ１!$B83,3))","v":{"$error":"#REF!"}},{"$f":"IF(#REF!>=0,#REF!)","v":{"$error":"#REF!"}},{"$f":"IF(#REF!>=0,#REF!)","v":{"$error":"#REF!"}},{"$f":"IF(#REF!>=0,#REF!)","v":{"$error":"#REF!"}},{"$f":"IF(#REF!>=0,#REF!)","v":{"$error":"#REF!"}},{"$error":"#REF!"},{"$f":"IF(#REF!>=0,#REF!)","v":{"$error":"#REF!"}},{"$f":"IF(#REF!>=0,#REF!)","v":{"$error":"#REF!"}},{"$f":"IF(#REF!>=0,#REF!)","v":{"$error":"#REF!"}},{"$f":"IF(ISERROR(VLOOKUP(J83,#REF!,2,0)),\"\",VLOOKUP(J83,#REF!,2,0))","v":""}]
[83,{"$f":"IF(#REF!>=0,#REF!)","v":{"$error":"#REF!"}},{"$f":"IF(INDEX(所属名!$A$2:$C$177,個票データ１!$B84,3)=\"\",\"\",INDEX(所属名!$A$2:$C$177,個票データ１!$B84,3))","v":{"$error":"#REF!"}},{"$f":"IF(#REF!>=0,#REF!)","v":{"$error":"#REF!"}},{"$f":"IF(#REF!>=0,#REF!)","v":{"$error":"#REF!"}},{"$f":"IF(#REF!>=0,#REF!)","v":{"$error":"#REF!"}},{"$f":"IF(#REF!>=0,#REF!)","v":{"$error":"#REF!"}},{"$error":"#REF!"},{"$f":"IF(#REF!>=0,#REF!)","v":{"$error":"#REF!"}},{"$f":"IF(#REF!>=0,#REF!)","v":{"$error":"#REF!"}},{"$f":"IF(#REF!>=0,#REF!)","v":{"$error":"#REF!"}},{"$f":"IF(ISERROR(VLOOKUP(J84,#REF!,2,0)),\"\",VLOOKUP(J84,#REF!,2,0))","v":""}]
[84,{"$f":"IF(#REF!>=0,#REF!)","v":{"$error":"#REF!"}},{"$f":"IF(INDEX(所属名!$A$2:$C$177,個票データ１!$B85,3)=\"\",\"\",INDEX(所属名!$A$2:$C$177,個票データ１!$B85,3))","v":{"$error":"#REF!"}},{"$f":"IF(#REF!>=0,#REF!)","v":{"$error":"#REF!"}},{"$f":"IF(#REF!>=0,#REF!)","v":{"$error":"#REF!"}},{"$f":"IF(#REF!>=0,#REF!)","v":{"$error":"#REF!"}},{"$f":"IF(#REF!>=0,#REF!)","v":{"$error":"#REF!"}},{"$error":"#REF!"},{"$f":"IF(#REF!>=0,#REF!)","v":{"$error":"#REF!"}},{"$f":"IF(#REF!>=0,#REF!)","v":{"$error":"#REF!"}},{"$f":"IF(#REF!>=0,#REF!)","v":{"$error":"#REF!"}},{"$f":"IF(ISERROR(VLOOKUP(J85,#REF!,2,0)),\"\",VLOOKUP(J85,#REF!,2,0))","v":""}]
[85,{"$f":"IF(#REF!>=0,#REF!)","v":{"$error":"#REF!"}},{"$f":"IF(INDEX(所属名!$A$2:$C$177,個票データ１!$B86,3)=\"\",\"\",INDEX(所属名!$A$2:$C$177,個票データ１!$B86,3))","v":{"$error":"#REF!"}},{"$f":"IF(#REF!>=0,#REF!)","v":{"$error":"#REF!"}},{"$f":"IF(#REF!>=0,#REF!)","v":{"$error":"#REF!"}},{"$f":"IF(#REF!>=0,#REF!)","v":{"$error":"#REF!"}},{"$f":"IF(#REF!>=0,#REF!)","v":{"$error":"#REF!"}},{"$error":"#REF!"},{"$f":"IF(#REF!>=0,#REF!)","v":{"$error":"#REF!"}},{"$f":"IF(#REF!>=0,#REF!)","v":{"$error":"#REF!"}},{"$f":"IF(#REF!>=0,#REF!)","v":{"$error":"#REF!"}},{"$f":"IF(ISERROR(VLOOKUP(J86,#REF!,2,0)),\"\",VLOOKUP(J86,#REF!,2,0))","v":""}]
[86,{"$f":"IF(#REF!>=0,#REF!)","v":{"$error":"#REF!"}},{"$f":"IF(INDEX(所属名!$A$2:$C$177,個票データ１!$B87,3)=\"\",\"\",INDEX(所属名!$A$2:$C$177,個票データ１!$B87,3))","v":{"$error":"#REF!"}},{"$f":"IF(#REF!>=0,#REF!)","v":{"$error":"#REF!"}},{"$f":"IF(#REF!>=0,#REF!)","v":{"$error":"#REF!"}},{"$f":"IF(#REF!>=0,#REF!)","v":{"$error":"#REF!"}},{"$f":"IF(#REF!>=0,#REF!)","v":{"$error":"#REF!"}},{"$error":"#REF!"},{"$f":"IF(#REF!>=0,#REF!)","v":{"$error":"#REF!"}},{"$f":"IF(#REF!>=0,#REF!)","v":{"$error":"#REF!"}},{"$f":"IF(#REF!>=0,#REF!)","v":{"$error":"#REF!"}},{"$f":"IF(ISERROR(VLOOKUP(J87,#REF!,2,0)),\"\",VLOOKUP(J87,#REF!,2,0))","v":""}]
[87,{"$f":"IF(#REF!>=0,#REF!)","v":{"$error":"#REF!"}},{"$f":"IF(INDEX(所属名!$A$2:$C$177,個票データ１!$B88,3)=\"\",\"\",INDEX(所属名!$A$2:$C$177,個票データ１!$B88,3))","v":{"$error":"#REF!"}},{"$f":"IF(#REF!>=0,#REF!)","v":{"$error":"#REF!"}},{"$f":"IF(#REF!>=0,#REF!)","v":{"$error":"#REF!"}},{"$f":"IF(#REF!>=0,#REF!)","v":{"$error":"#REF!"}},{"$f":"IF(#REF!>=0,#REF!)","v":{"$error":"#REF!"}},{"$f":"IF(G88=1,\"男\",IF(G88=2,\"女\",\"\"))","v":{"$error":"#REF!"}},{"$f":"IF(#REF!>=0,#REF!)","v":{"$error":"#REF!"}},{"$f":"IF(#REF!>=0,#REF!)","v":{"$error":"#REF!"}},{"$f":"IF(#REF!>=0,#REF!)","v":{"$error":"#REF!"}},{"$f":"IF(ISERROR(VLOOKUP(J88,#REF!,2,0)),\"\",VLOOKUP(J88,#REF!,2,0))","v":""}]
[88,{"$f":"IF(#REF!>=0,#REF!)","v":{"$error":"#REF!"}},{"$f":"IF(INDEX(所属名!$A$2:$C$177,個票データ１!$B89,3)=\"\",\"\",INDEX(所属名!$A$2:$C$177,個票データ１!$B89,3))","v":{"$error":"#REF!"}},{"$f":"IF(#REF!>=0,#REF!)","v":{"$error":"#REF!"}},{"$f":"IF(#REF!>=0,#REF!)","v":{"$error":"#REF!"}},{"$f":"IF(#REF!>=0,#REF!)","v":{"$error":"#REF!"}},{"$f":"IF(#REF!>=0,#REF!)","v":{"$error":"#REF!"}},{"$error":"#REF!"},{"$f":"IF(#REF!>=0,#REF!)","v":{"$error":"#REF!"}},{"$f":"IF(#REF!>=0,#REF!)","v":{"$error":"#REF!"}},{"$f":"IF(#REF!>=0,#REF!)","v":{"$error":"#REF!"}},{"$f":"IF(ISERROR(VLOOKUP(J89,#REF!,2,0)),\"\",VLOOKUP(J89,#REF!,2,0))","v":""}]
[89,{"$f":"IF(#REF!>=0,#REF!)","v":{"$error":"#REF!"}},{"$f":"IF(INDEX(所属名!$A$2:$C$177,個票データ１!$B90,3)=\"\",\"\",INDEX(所属名!$A$2:$C$177,個票データ１!$B90,3))","v":{"$error":"#REF!"}},{"$f":"IF(#REF!>=0,#REF!)","v":{"$error":"#REF!"}},{"$f":"IF(#REF!>=0,#REF!)","v":{"$error":"#REF!"}},{"$f":"IF(#REF!>=0,#REF!)","v":{"$error":"#REF!"}},{"$f":"IF(#REF!>=0,#REF!)","v":{"$error":"#REF!"}},{"$error":"#REF!"},{"$f":"IF(#REF!>=0,#REF!)","v":{"$error":"#REF!"}},{"$f":"IF(#REF!>=0,#REF!)","v":{"$error":"#REF!"}},{"$f":"IF(#REF!>=0,#REF!)","v":{"$error":"#REF!"}},{"$f":"IF(ISERROR(VLOOKUP(J90,#REF!,2,0)),\"\",VLOOKUP(J90,#REF!,2,0))","v":""}]
[90,{"$f":"IF(#REF!>=0,#REF!)","v":{"$error":"#REF!"}},{"$f":"IF(INDEX(所属名!$A$2:$C$177,個票データ１!$B91,3)=\"\",\"\",INDEX(所属名!$A$2:$C$177,個票データ１!$B91,3))","v":{"$error":"#REF!"}},{"$f":"IF(#REF!>=0,#REF!)","v":{"$error":"#REF!"}},{"$f":"IF(#REF!>=0,#REF!)","v":{"$error":"#REF!"}},{"$f":"IF(#REF!>=0,#REF!)","v":{"$error":"#REF!"}},{"$f":"IF(#REF!>=0,#REF!)","v":{"$error":"#REF!"}},{"$error":"#REF!"},{"$f":"IF(#REF!>=0,#REF!)","v":{"$error":"#REF!"}},{"$f":"IF(#REF!>=0,#REF!)","v":{"$error":"#REF!"}},{"$f":"IF(#REF!>=0,#REF!)","v":{"$error":"#REF!"}},{"$f":"IF(ISERROR(VLOOKUP(J91,#REF!,2,0)),\"\",VLOOKUP(J91,#REF!,2,0))","v":""}]
[91,{"$f":"IF(#REF!>=0,#REF!)","v":{"$error":"#REF!"}},{"$f":"IF(INDEX(所属名!$A$2:$C$177,個票データ１!$B92,3)=\"\",\"\",INDEX(所属名!$A$2:$C$177,個票データ１!$B92,3))","v":{"$error":"#REF!"}},{"$f":"IF(#REF!>=0,#REF!)","v":{"$error":"#REF!"}},{"$f":"IF(#REF!>=0,#REF!)","v":{"$error":"#REF!"}},{"$f":"IF(#REF!>=0,#REF!)","v":{"$error":"#REF!"}},{"$f":"IF(#REF!>=0,#REF!)","v":{"$error":"#REF!"}},{"$error":"#REF!"},{"$f":"IF(#REF!>=0,#REF!)","v":{"$error":"#REF!"}},{"$f":"IF(#REF!>=0,#REF!)","v":{"$error":"#REF!"}},{"$f":"IF(#REF!>=0,#REF!)","v":{"$error":"#REF!"}},{"$f":"IF(ISERROR(VLOOKUP(J92,#REF!,2,0)),\"\",VLOOKUP(J92,#REF!,2,0))","v":""}]
[92,{"$f":"IF(#REF!>=0,#REF!)","v":{"$error":"#REF!"}},{"$f":"IF(INDEX(所属名!$A$2:$C$177,個票データ１!$B93,3)=\"\",\"\",INDEX(所属名!$A$2:$C$177,個票データ１!$B93,3))","v":{"$error":"#REF!"}},{"$f":"IF(#REF!>=0,#REF!)","v":{"$error":"#REF!"}},{"$f":"IF(#REF!>=0,#REF!)","v":{"$error":"#REF!"}},{"$f":"IF(#REF!>=0,#REF!)","v":{"$error":"#REF!"}},{"$f":"IF(#REF!>=0,#REF!)","v":{"$error":"#REF!"}},{"$error":"#REF!"},{"$f":"IF(#REF!>=0,#REF!)","v":{"$error":"#REF!"}},{"$f":"IF(#REF!>=0,#REF!)","v":{"$error":"#REF!"}},{"$f":"IF(#REF!>=0,#REF!)","v":{"$error":"#REF!"}},{"$f":"IF(ISERROR(VLOOKUP(J93,#REF!,2,0)),\"\",VLOOKUP(J93,#REF!,2,0))","v":""}]
[93,{"$f":"IF(#REF!>=0,#REF!)","v":{"$error":"#REF!"}},{"$f":"IF(INDEX(所属名!$A$2:$C$177,個票データ１!$B94,3)=\"\",\"\",INDEX(所属名!$A$2:$C$177,個票データ１!$B94,3))","v":{"$error":"#REF!"}},{"$f":"IF(#REF!>=0,#REF!)","v":{"$error":"#REF!"}},{"$f":"IF(#REF!>=0,#REF!)","v":{"$error":"#REF!"}},{"$f":"IF(#REF!>=0,#REF!)","v":{"$error":"#REF!"}},{"$f":"IF(#REF!>=0,#REF!)","v":{"$error":"#REF!"}},{"$error":"#REF!"},{"$f":"IF(#REF!>=0,#REF!)","v":{"$error":"#REF!"}},{"$f":"IF(#REF!>=0,#REF!)","v":{"$error":"#REF!"}},{"$f":"IF(#REF!>=0,#REF!)","v":{"$error":"#REF!"}},{"$f":"IF(ISERROR(VLOOKUP(J94,#REF!,2,0)),\"\",VLOOKUP(J94,#REF!,2,0))","v":""}]
[94,{"$f":"IF(#REF!>=0,#REF!)","v":{"$error":"#REF!"}},{"$f":"IF(INDEX(所属名!$A$2:$C$177,個票データ１!$B95,3)=\"\",\"\",INDEX(所属名!$A$2:$C$177,個票データ１!$B95,3))","v":{"$error":"#REF!"}},{"$f":"IF(#REF!>=0,#REF!)","v":{"$error":"#REF!"}},{"$f":"IF(#REF!>=0,#REF!)","v":{"$error":"#REF!"}},{"$f":"IF(#REF!>=0,#REF!)","v":{"$error":"#REF!"}},{"$f":"IF(#REF!>=0,#REF!)","v":{"$error":"#REF!"}},{"$error":"#REF!"},{"$f":"IF(#REF!>=0,#REF!)","v":{"$error":"#REF!"}},{"$f":"IF(#REF!>=0,#REF!)","v":{"$error":"#REF!"}},{"$f":"IF(#REF!>=0,#REF!)","v":{"$error":"#REF!"}},{"$f":"IF(ISERROR(VLOOKUP(J95,#REF!,2,0)),\"\",VLOOKUP(J95,#REF!,2,0))","v":""}]
[95,{"$f":"IF(#REF!>=0,#REF!)","v":{"$error":"#REF!"}},{"$f":"IF(INDEX(所属名!$A$2:$C$177,個票データ１!$B96,3)=\"\",\"\",INDEX(所属名!$A$2:$C$177,個票データ１!$B96,3))","v":{"$error":"#REF!"}},{"$f":"IF(#REF!>=0,#REF!)","v":{"$error":"#REF!"}},{"$f":"IF(#REF!>=0,#REF!)","v":{"$error":"#REF!"}},{"$f":"IF(#REF!>=0,#REF!)","v":{"$error":"#REF!"}},{"$f":"IF(#REF!>=0,#REF!)","v":{"$error":"#REF!"}},{"$error":"#REF!"},{"$f":"IF(#REF!>=0,#REF!)","v":{"$error":"#REF!"}},{"$f":"IF(#REF!>=0,#REF!)","v":{"$error":"#REF!"}},{"$f":"IF(#REF!>=0,#REF!)","v":{"$error":"#REF!"}},{"$f":"IF(ISERROR(VLOOKUP(J96,#REF!,2,0)),\"\",VLOOKUP(J96,#REF!,2,0))","v":""}]
[96,{"$f":"IF(#REF!>=0,#REF!)","v":{"$error":"#REF!"}},{"$f":"IF(INDEX(所属名!$A$2:$C$177,個票データ１!$B97,3)=\"\",\"\",INDEX(所属名!$A$2:$C$177,個票データ１!$B97,3))","v":{"$error":"#REF!"}},{"$f":"IF(#REF!>=0,#REF!)","v":{"$error":"#REF!"}},{"$f":"IF(#REF!>=0,#REF!)","v":{"$error":"#REF!"}},{"$f":"IF(#REF!>=0,#REF!)","v":{"$error":"#REF!"}},{"$f":"IF(#REF!>=0,#REF!)","v":{"$error":"#REF!"}},{"$error":"#REF!"},{"$f":"IF(#REF!>=0,#REF!)","v":{"$error":"#REF!"}},{"$f":"IF(#REF!>=0,#REF!)","v":{"$error":"#REF!"}},{"$f":"IF(#REF!>=0,#REF!)","v":{"$error":"#REF!"}},{"$f":"IF(ISERROR(VLOOKUP(J97,#REF!,2,0)),\"\",VLOOKUP(J97,#REF!,2,0))","v":""}]
[97,{"$f":"IF(#REF!>=0,#REF!)","v":{"$error":"#REF!"}},{"$f":"IF(INDEX(所属名!$A$2:$C$177,個票データ１!$B98,3)=\"\",\"\",INDEX(所属名!$A$2:$C$177,個票データ１!$B98,3))","v":{"$error":"#REF!"}},{"$f":"IF(#REF!>=0,#REF!)","v":{"$error":"#REF!"}},{"$f":"IF(#REF!>=0,#REF!)","v":{"$error":"#REF!"}},{"$f":"IF(#REF!>=0,#REF!)","v":{"$error":"#REF!"}},{"$f":"IF(#REF!>=0,#REF!)","v":{"$error":"#REF!"}},{"$error":"#REF!"},{"$f":"IF(#REF!>=0,#REF!)","v":{"$error":"#REF!"}},{"$f":"IF(#REF!>=0,#REF!)","v":{"$error":"#REF!"}},{"$f":"IF(#REF!>=0,#REF!)","v":{"$error":"#REF!"}},{"$f":"IF(ISERROR(VLOOKUP(J98,#REF!,2,0)),\"\",VLOOKUP(J98,#REF!,2,0))","v":""}]
[98,{"$f":"IF(#REF!>=0,#REF!)","v":{"$error":"#REF!"}},{"$f":"IF(INDEX(所属名!$A$2:$C$177,個票データ１!$B99,3)=\"\",\"\",INDEX(所属名!$A$2:$C$177,個票データ１!$B99,3))","v":{"$error":"#REF!"}},{"$f":"IF(#REF!>=0,#REF!)","v":{"$error":"#REF!"}},{"$f":"IF(#REF!>=0,#REF!)","v":{"$error":"#REF!"}},{"$f":"IF(#REF!>=0,#REF!)","v":{"$error":"#REF!"}},{"$f":"IF(#REF!>=0,#REF!)","v":{"$error":"#REF!"}},{"$error":"#REF!"},{"$f":"IF(#REF!>=0,#REF!)","v":{"$error":"#REF!"}},{"$f":"IF(#REF!>=0,#REF!)","v":{"$error":"#REF!"}},{"$f":"IF(#REF!>=0,#REF!)","v":{"$error":"#REF!"}},{"$f":"IF(ISERROR(VLOOKUP(J99,#REF!,2,0)),\"\",VLOOKUP(J99,#REF!,2,0))","v":""}]
[99,{"$f":"IF(#REF!>=0,#REF!)","v":{"$error":"#REF!"}},{"$f":"IF(INDEX(所属名!$A$2:$C$177,個票データ１!$B100,3)=\"\",\"\",INDEX(所属名!$A$2:$C$177,個票データ１!$B100,3))","v":{"$error":"#REF!"}},{"$f":"IF(#REF!>=0,#REF!)","v":{"$error":"#REF!"}},{"$f":"IF(#REF!>=0,#REF!)","v":{"$error":"#REF!"}},{"$f":"IF(#REF!>=0,#REF!)","v":{"$error":"#REF!"}},{"$f":"IF(#REF!>=0,#REF!)","v":{"$error":"#REF!"}},{"$error":"#REF!"},{"$f":"IF(#REF!>=0,#REF!)","v":{"$error":"#REF!"}},{"$f":"IF(#REF!>=0,#REF!)","v":{"$error":"#REF!"}},{"$f":"IF(#REF!>=0,#REF!)","v":{"$error":"#REF!"}},{"$f":"IF(ISERROR(VLOOKUP(J100,#REF!,2,0)),\"\",VLOOKUP(J100,#REF!,2,0))","v":""}]
[100,{"$f":"IF(#REF!>=0,#REF!)","v":{"$error":"#REF!"}},{"$f":"IF(INDEX(所属名!$A$2:$C$177,個票データ１!$B101,3)=\"\",\"\",INDEX(所属名!$A$2:$C$177,個票データ１!$B101,3))","v":{"$error":"#REF!"}},{"$f":"IF(#REF!>=0,#REF!)","v":{"$error":"#REF!"}},{"$f":"IF(#REF!>=0,#REF!)","v":{"$error":"#REF!"}},{"$f":"IF(#REF!>=0,#REF!)","v":{"$error":"#REF!"}},{"$f":"IF(#REF!>=0,#REF!)","v":{"$error":"#REF!"}},{"$error":"#REF!"},{"$f":"IF(#REF!>=0,#REF!)","v":{"$error":"#REF!"}},{"$f":"IF(#REF!>=0,#REF!)","v":{"$error":"#REF!"}},{"$f":"IF(#REF!>=0,#REF!)","v":{"$error":"#REF!"}},{"$f":"IF(ISERROR(VLOOKUP(J101,#REF!,2,0)),\"\",VLOOKUP(J101,#REF!,2,0))","v":""}]
[101,{"$f":"IF(#REF!>=0,#REF!)","v":{"$error":"#REF!"}},{"$f":"IF(INDEX(所属名!$A$2:$C$177,個票データ１!$B102,3)=\"\",\"\",INDEX(所属名!$A$2:$C$177,個票データ１!$B102,3))","v":{"$error":"#REF!"}},{"$f":"IF(#REF!>=0,#REF!)","v":{"$error":"#REF!"}},{"$f":"IF(#REF!>=0,#REF!)","v":{"$error":"#REF!"}},{"$f":"IF(#REF!>=0,#REF!)","v":{"$error":"#REF!"}},{"$f":"IF(#REF!>=0,#REF!)","v":{"$error":"#REF!"}},{"$error":"#REF!"},{"$f":"IF(#REF!>=0,#REF!)","v":{"$error":"#REF!"}},{"$f":"IF(#REF!>=0,#REF!)","v":{"$error":"#REF!"}},{"$f":"IF(#REF!>=0,#REF!)","v":{"$error":"#REF!"}},{"$f":"IF(ISERROR(VLOOKUP(J102,#REF!,2,0)),\"\",VLOOKUP(J102,#REF!,2,0))","v":""}]
[102,{"$f":"IF(#REF!>=0,#REF!)","v":{"$error":"#REF!"}},{"$f":"IF(INDEX(所属名!$A$2:$C$177,個票データ１!$B103,3)=\"\",\"\",INDEX(所属名!$A$2:$C$177,個票データ１!$B103,3))","v":{"$error":"#REF!"}},{"$f":"IF(#REF!>=0,#REF!)","v":{"$error":"#REF!"}},{"$f":"IF(#REF!>=0,#REF!)","v":{"$error":"#REF!"}},{"$f":"IF(#REF!>=0,#REF!)","v":{"$error":"#REF!"}},{"$f":"IF(#REF!>=0,#REF!)","v":{"$error":"#REF!"}},{"$error":"#REF!"},{"$f":"IF(#REF!>=0,#REF!)","v":{"$error":"#REF!"}},{"$f":"IF(#REF!>=0,#REF!)","v":{"$error":"#REF!"}},{"$f":"IF(#REF!>=0,#REF!)","v":{"$error":"#REF!"}},{"$f":"IF(ISERROR(VLOOKUP(J103,#REF!,2,0)),\"\",VLOOKUP(J103,#REF!,2,0))","v":""}]
[103,{"$f":"IF(#REF!>=0,#REF!)","v":{"$error":"#REF!"}},{"$f":"IF(INDEX(所属名!$A$2:$C$177,個票データ１!$B104,3)=\"\",\"\",INDEX(所属名!$A$2:$C$177,個票データ１!$B104,3))","v":{"$error":"#REF!"}},{"$f":"IF(#REF!>=0,#REF!)","v":{"$error":"#REF!"}},{"$f":"IF(#REF!>=0,#REF!)","v":{"$error":"#REF!"}},{"$f":"IF(#REF!>=0,#REF!)","v":{"$error":"#REF!"}},{"$f":"IF(#REF!>=0,#REF!)","v":{"$error":"#REF!"}},{"$error":"#REF!"},{"$f":"IF(#REF!>=0,#REF!)","v":{"$error":"#REF!"}},{"$f":"IF(#REF!>=0,#REF!)","v":{"$error":"#REF!"}},{"$f":"IF(#REF!>=0,#REF!)","v":{"$error":"#REF!"}},{"$f":"IF(ISERROR(VLOOKUP(J104,#REF!,2,0)),\"\",VLOOKUP(J104,#REF!,2,0))","v":""}]
[104,{"$f":"IF(#REF!>=0,#REF!)","v":{"$error":"#REF!"}},{"$f":"IF(INDEX(所属名!$A$2:$C$177,個票データ１!$B105,3)=\"\",\"\",INDEX(所属名!$A$2:$C$177,個票データ１!$B105,3))","v":{"$error":"#REF!"}},{"$f":"IF(#REF!>=0,#REF!)","v":{"$error":"#REF!"}},{"$f":"IF(#REF!>=0,#REF!)","v":{"$error":"#REF!"}},{"$f":"IF(#REF!>=0,#REF!)","v":{"$error":"#REF!"}},{"$f":"IF(#REF!>=0,#REF!)","v":{"$error":"#REF!"}},{"$error":"#REF!"},{"$f":"IF(#REF!>=0,#REF!)","v":{"$error":"#REF!"}},{"$f":"IF(#REF!>=0,#REF!)","v":{"$error":"#REF!"}},{"$f":"IF(#REF!>=0,#REF!)","v":{"$error":"#REF!"}},{"$f":"IF(ISERROR(VLOOKUP(J105,#REF!,2,0)),\"\",VLOOKUP(J105,#REF!,2,0))","v":""}]
[105,{"$f":"IF(#REF!>=0,#REF!)","v":{"$error":"#REF!"}},{"$f":"IF(INDEX(所属名!$A$2:$C$177,個票データ１!$B106,3)=\"\",\"\",INDEX(所属名!$A$2:$C$177,個票データ１!$B106,3))","v":{"$error":"#REF!"}},{"$f":"IF(#REF!>=0,#REF!)","v":{"$error":"#REF!"}},{"$f":"IF(#REF!>=0,#REF!)","v":{"$error":"#REF!"}},{"$f":"IF(#REF!>=0,#REF!)","v":{"$error":"#REF!"}},{"$f":"IF(#REF!>=0,#REF!)","v":{"$error":"#REF!"}},{"$error":"#REF!"},{"$f":"IF(#REF!>=0,#REF!)","v":{"$error":"#REF!"}},{"$f":"IF(#REF!>=0,#REF!)","v":{"$error":"#REF!"}},{"$f":"IF(#REF!>=0,#REF!)","v":{"$error":"#REF!"}},{"$f":"IF(ISERROR(VLOOKUP(J106,#REF!,2,0)),\"\",VLOOKUP(J106,#REF!,2,0))","v":""}]
[106,{"$f":"IF(#REF!>=0,#REF!)","v":{"$error":"#REF!"}},{"$f":"IF(INDEX(所属名!$A$2:$C$177,個票データ１!$B107,3)=\"\",\"\",INDEX(所属名!$A$2:$C$177,個票データ１!$B107,3))","v":{"$error":"#REF!"}},{"$f":"IF(#REF!>=0,#REF!)","v":{"$error":"#REF!"}},{"$f":"IF(#REF!>=0,#REF!)","v":{"$error":"#REF!"}},{"$f":"IF(#REF!>=0,#REF!)","v":{"$error":"#REF!"}},{"$f":"IF(#REF!>=0,#REF!)","v":{"$error":"#REF!"}},{"$error":"#REF!"},{"$f":"IF(#REF!>=0,#REF!)","v":{"$error":"#REF!"}},{"$f":"IF(#REF!>=0,#REF!)","v":{"$error":"#REF!"}},{"$f":"IF(#REF!>=0,#REF!)","v":{"$error":"#REF!"}},{"$f":"IF(ISERROR(VLOOKUP(J107,#REF!,2,0)),\"\",VLOOKUP(J107,#REF!,2,0))","v":""}]
[107,{"$f":"IF(#REF!>=0,#REF!)","v":{"$error":"#REF!"}},{"$f":"IF(INDEX(所属名!$A$2:$C$177,個票データ１!$B108,3)=\"\",\"\",INDEX(所属名!$A$2:$C$177,個票データ１!$B108,3))","v":{"$error":"#REF!"}},{"$f":"IF(#REF!>=0,#REF!)","v":{"$error":"#REF!"}},{"$f":"IF(#REF!>=0,#REF!)","v":{"$error":"#REF!"}},{"$f":"IF(#REF!>=0,#REF!)","v":{"$error":"#REF!"}},{"$f":"IF(#REF!>=0,#REF!)","v":{"$error":"#REF!"}},{"$error":"#REF!"},{"$f":"IF(#REF!>=0,#REF!)","v":{"$error":"#REF!"}},{"$f":"IF(#REF!>=0,#REF!)","v":{"$error":"#REF!"}},{"$f":"IF(#REF!>=0,#REF!)","v":{"$error":"#REF!"}},{"$f":"IF(ISERROR(VLOOKUP(J108,#REF!,2,0)),\"\",VLOOKUP(J108,#REF!,2,0))","v":""}]
[108,{"$f":"IF(#REF!>=0,#REF!)","v":{"$error":"#REF!"}},{"$f":"IF(INDEX(所属名!$A$2:$C$177,個票データ１!$B109,3)=\"\",\"\",INDEX(所属名!$A$2:$C$177,個票データ１!$B109,3))","v":{"$error":"#REF!"}},{"$f":"IF(#REF!>=0,#REF!)","v":{"$error":"#REF!"}},{"$f":"IF(#REF!>=0,#REF!)","v":{"$error":"#REF!"}},{"$f":"IF(#REF!>=0,#REF!)","v":{"$error":"#REF!"}},{"$f":"IF(#REF!>=0,#REF!)","v":{"$error":"#REF!"}},{"$error":"#REF!"},{"$f":"IF(#REF!>=0,#REF!)","v":{"$error":"#REF!"}},{"$f":"IF(#REF!>=0,#REF!)","v":{"$error":"#REF!"}},{"$f":"IF(#REF!>=0,#REF!)","v":{"$error":"#REF!"}},{"$f":"IF(ISERROR(VLOOKUP(J109,#REF!,2,0)),\"\",VLOOKUP(J109,#REF!,2,0))","v":""}]
[109,{"$f":"IF(#REF!>=0,#REF!)","v":{"$error":"#REF!"}},{"$f":"IF(INDEX(所属名!$A$2:$C$177,個票データ１!$B110,3)=\"\",\"\",INDEX(所属名!$A$2:$C$177,個票データ１!$B110,3))","v":{"$error":"#REF!"}},{"$f":"IF(#REF!>=0,#REF!)","v":{"$error":"#REF!"}},{"$f":"IF(#REF!>=0,#REF!)","v":{"$error":"#REF!"}},{"$f":"IF(#REF!>=0,#REF!)","v":{"$error":"#REF!"}},{"$f":"IF(#REF!>=0,#REF!)","v":{"$error":"#REF!"}},{"$error":"#REF!"},{"$f":"IF(#REF!>=0,#REF!)","v":{"$error":"#REF!"}},{"$f":"IF(#REF!>=0,#REF!)","v":{"$error":"#REF!"}},{"$f":"IF(#REF!>=0,#REF!)","v":{"$error":"#REF!"}},{"$f":"IF(ISERROR(VLOOKUP(J110,#REF!,2,0)),\"\",VLOOKUP(J110,#REF!,2,0))","v":""}]
[110,{"$f":"IF(#REF!>=0,#REF!)","v":{"$error":"#REF!"}},{"$f":"IF(INDEX(所属名!$A$2:$C$177,個票データ１!$B111,3)=\"\",\"\",INDEX(所属名!$A$2:$C$177,個票データ１!$B111,3))","v":{"$error":"#REF!"}},{"$f":"IF(#REF!>=0,#REF!)","v":{"$error":"#REF!"}},{"$f":"IF(#REF!>=0,#REF!)","v":{"$error":"#REF!"}},{"$f":"IF(#REF!>=0,#REF!)","v":{"$error":"#REF!"}},{"$f":"IF(#REF!>=0,#REF!)","v":{"$error":"#REF!"}},{"$error":"#REF!"},{"$f":"IF(#REF!>=0,#REF!)","v":{"$error":"#REF!"}},{"$f":"IF(#REF!>=0,#REF!)","v":{"$error":"#REF!"}},{"$f":"IF(#REF!>=0,#REF!)","v":{"$error":"#REF!"}},{"$f":"IF(ISERROR(VLOOKUP(J111,#REF!,2,0)),\"\",VLOOKUP(J111,#REF!,2,0))","v":""}]
[111,{"$f":"IF(#REF!>=0,#REF!)","v":{"$error":"#REF!"}},{"$f":"IF(INDEX(所属名!$A$2:$C$177,個票データ１!$B112,3)=\"\",\"\",INDEX(所属名!$A$2:$C$177,個票データ１!$B112,3))","v":{"$error":"#REF!"}},{"$f":"IF(#REF!>=0,#REF!)","v":{"$error":"#REF!"}},{"$f":"IF(#REF!>=0,#REF!)","v":{"$error":"#REF!"}},{"$f":"IF(#REF!>=0,#REF!)","v":{"$error":"#REF!"}},{"$f":"IF(#REF!>=0,#REF!)","v":{"$error":"#REF!"}},{"$error":"#REF!"},{"$f":"IF(#REF!>=0,#REF!)","v":{"$error":"#REF!"}},{"$f":"IF(#REF!>=0,#REF!)","v":{"$error":"#REF!"}},{"$f":"IF(#REF!>=0,#REF!)","v":{"$error":"#REF!"}},{"$f":"IF(ISERROR(VLOOKUP(J112,#REF!,2,0)),\"\",VLOOKUP(J112,#REF!,2,0))","v":""}]
[112,{"$f":"IF(#REF!>=0,#REF!)","v":{"$error":"#REF!"}},{"$f":"IF(INDEX(所属名!$A$2:$C$177,個票データ１!$B113,3)=\"\",\"\",INDEX(所属名!$A$2:$C$177,個票データ１!$B113,3))","v":{"$error":"#REF!"}},{"$f":"IF(#REF!>=0,#REF!)","v":{"$error":"#REF!"}},{"$f":"IF(#REF!>=0,#REF!)","v":{"$error":"#REF!"}},{"$f":"IF(#REF!>=0,#REF!)","v":{"$error":"#REF!"}},{"$f":"IF(#REF!>=0,#REF!)","v":{"$error":"#REF!"}},{"$error":"#REF!"},{"$f":"IF(#REF!>=0,#REF!)","v":{"$error":"#REF!"}},{"$f":"IF(#REF!>=0,#REF!)","v":{"$error":"#REF!"}},{"$f":"IF(#REF!>=0,#REF!)","v":{"$error":"#REF!"}},{"$f":"IF(ISERROR(VLOOKUP(J113,#REF!,2,0)),\"\",VLOOKUP(J113,#REF!,2,0))","v":""}]
[113,{"$f":"IF(#REF!>=0,#REF!)","v":{"$error":"#REF!"}},{"$f":"IF(INDEX(所属名!$A$2:$C$177,個票データ１!$B114,3)=\"\",\"\",INDEX(所属名!$A$2:$C$177,個票データ１!$B114,3))","v":{"$error":"#REF!"}},{"$f":"IF(#REF!>=0,#REF!)","v":{"$error":"#REF!"}},{"$f":"IF(#REF!>=0,#REF!)","v":{"$error":"#REF!"}},{"$f":"IF(#REF!>=0,#REF!)","v":{"$error":"#REF!"}},{"$f":"IF(#REF!>=0,#REF!)","v":{"$error":"#REF!"}},{"$error":"#REF!"},{"$f":"IF(#REF!>=0,#REF!)","v":{"$error":"#REF!"}},{"$f":"IF(#REF!>=0,#REF!)","v":{"$error":"#REF!"}},{"$f":"IF(#REF!>=0,#REF!)","v":{"$error":"#REF!"}},{"$f":"IF(ISERROR(VLOOKUP(J114,#REF!,2,0)),\"\",VLOOKUP(J114,#REF!,2,0))","v":""}]
[114,{"$f":"IF(#REF!>=0,#REF!)","v":{"$error":"#REF!"}},{"$f":"IF(INDEX(所属名!$A$2:$C$177,個票データ１!$B115,3)=\"\",\"\",INDEX(所属名!$A$2:$C$177,個票データ１!$B115,3))","v":{"$error":"#REF!"}},{"$f":"IF(#REF!>=0,#REF!)","v":{"$error":"#REF!"}},{"$f":"IF(#REF!>=0,#REF!)","v":{"$error":"#REF!"}},{"$f":"IF(#REF!>=0,#REF!)","v":{"$error":"#REF!"}},{"$f":"IF(#REF!>=0,#REF!)","v":{"$error":"#REF!"}},{"$error":"#REF!"},{"$f":"IF(#REF!>=0,#REF!)","v":{"$error":"#REF!"}},{"$f":"IF(#REF!>=0,#REF!)","v":{"$error":"#REF!"}},{"$f":"IF(#REF!>=0,#REF!)","v":{"$error":"#REF!"}},{"$f":"IF(ISERROR(VLOOKUP(J115,#REF!,2,0)),\"\",VLOOKUP(J115,#REF!,2,0))","v":""}]
[115,{"$f":"IF(#REF!>=0,#REF!)","v":{"$error":"#REF!"}},{"$f":"IF(INDEX(所属名!$A$2:$C$177,個票データ１!$B116,3)=\"\",\"\",INDEX(所属名!$A$2:$C$177,個票データ１!$B116,3))","v":{"$error":"#REF!"}},{"$f":"IF(#REF!>=0,#REF!)","v":{"$error":"#REF!"}},{"$f":"IF(#REF!>=0,#REF!)","v":{"$error":"#REF!"}},{"$f":"IF(#REF!>=0,#REF!)","v":{"$error":"#REF!"}},{"$f":"IF(#REF!>=0,#REF!)","v":{"$error":"#REF!"}},{"$error":"#REF!"},{"$f":"IF(#REF!>=0,#REF!)","v":{"$error":"#REF!"}},{"$f":"IF(#REF!>=0,#REF!)","v":{"$error":"#REF!"}},{"$f":"IF(#REF!>=0,#REF!)","v":{"$error":"#REF!"}},{"$f":"IF(ISERROR(VLOOKUP(J116,#REF!,2,0)),\"\",VLOOKUP(J116,#REF!,2,0))","v":""}]
[116,{"$f":"IF(#REF!>=0,#REF!)","v":{"$error":"#REF!"}},{"$f":"IF(INDEX(所属名!$A$2:$C$177,個票データ１!$B117,3)=\"\",\"\",INDEX(所属名!$A$2:$C$177,個票データ１!$B117,3))","v":{"$error":"#REF!"}},{"$f":"IF(#REF!>=0,#REF!)","v":{"$error":"#REF!"}},{"$f":"IF(#REF!>=0,#REF!)","v":{"$error":"#REF!"}},{"$f":"IF(#REF!>=0,#REF!)","v":{"$error":"#REF!"}},{"$f":"IF(#REF!>=0,#REF!)","v":{"$error":"#REF!"}},{"$error":"#REF!"},{"$f":"IF(#REF!>=0,#REF!)","v":{"$error":"#REF!"}},{"$f":"IF(#REF!>=0,#REF!)","v":{"$error":"#REF!"}},{"$f":"IF(#REF!>=0,#REF!)","v":{"$error":"#REF!"}},{"$f":"IF(ISERROR(VLOOKUP(J117,#REF!,2,0)),\"\",VLOOKUP(J117,#REF!,2,0))","v":""}]
[117,{"$f":"IF(#REF!>=0,#REF!)","v":{"$error":"#REF!"}},{"$f":"IF(INDEX(所属名!$A$2:$C$177,個票データ１!$B118,3)=\"\",\"\",INDEX(所属名!$A$2:$C$177,個票データ１!$B118,3))","v":{"$error":"#REF!"}},{"$f":"IF(#REF!>=0,#REF!)","v":{"$error":"#REF!"}},{"$f":"IF(#REF!>=0,#REF!)","v":{"$error":"#REF!"}},{"$f":"IF(#REF!>=0,#REF!)","v":{"$error":"#REF!"}},{"$f":"IF(#REF!>=0,#REF!)","v":{"$error":"#REF!"}},{"$error":"#REF!"},{"$f":"IF(#REF!>=0,#REF!)","v":{"$error":"#REF!"}},{"$f":"IF(#REF!>=0,#REF!)","v":{"$error":"#REF!"}},{"$f":"IF(#REF!>=0,#REF!)","v":{"$error":"#REF!"}},{"$f":"IF(ISERROR(VLOOKUP(J118,#REF!,2,0)),\"\",VLOOKUP(J118,#REF!,2,0))","v":""}]
[118,{"$f":"IF(#REF!>=0,#REF!)","v":{"$error":"#REF!"}},{"$f":"IF(INDEX(所属名!$A$2:$C$177,個票データ１!$B119,3)=\"\",\"\",INDEX(所属名!$A$2:$C$177,個票データ１!$B119,3))","v":{"$error":"#REF!"}},{"$f":"IF(#REF!>=0,#REF!)","v":{"$error":"#REF!"}},{"$f":"IF(#REF!>=0,#REF!)","v":{"$error":"#REF!"}},{"$f":"IF(#REF!>=0,#REF!)","v":{"$error":"#REF!"}},{"$f":"IF(#REF!>=0,#REF!)","v":{"$error":"#REF!"}},{"$error":"#REF!"},{"$f":"IF(#REF!>=0,#REF!)","v":{"$error":"#REF!"}},{"$f":"IF(#REF!>=0,#REF!)","v":{"$error":"#REF!"}},{"$f":"IF(#REF!>=0,#REF!)","v":{"$error":"#REF!"}},{"$f":"IF(ISERROR(VLOOKUP(J119,#REF!,2,0)),\"\",VLOOKUP(J119,#REF!,2,0))","v":""}]
[119,{"$f":"IF(#REF!>=0,#REF!)","v":{"$error":"#REF!"}},{"$f":"IF(INDEX(所属名!$A$2:$C$177,個票データ１!$B120,3)=\"\",\"\",INDEX(所属名!$A$2:$C$177,個票データ１!$B120,3))","v":{"$error":"#REF!"}},{"$f":"IF(#REF!>=0,#REF!)","v":{"$error":"#REF!"}},{"$f":"IF(#REF!>=0,#REF!)","v":{"$error":"#REF!"}},{"$f":"IF(#REF!>=0,#REF!)","v":{"$error":"#REF!"}},{"$f":"IF(#REF!>=0,#REF!)","v":{"$error":"#REF!"}},{"$error":"#REF!"},{"$f":"IF(#REF!>=0,#REF!)","v":{"$error":"#REF!"}},{"$f":"IF(#REF!>=0,#REF!)","v":{"$error":"#REF!"}},{"$f":"IF(#REF!>=0,#REF!)","v":{"$error":"#REF!"}},{"$f":"IF(ISERROR(VLOOKUP(J120,#REF!,2,0)),\"\",VLOOKUP(J120,#REF!,2,0))","v":""}]
[120,{"$f":"IF(#REF!>=0,#REF!)","v":{"$error":"#REF!"}},{"$f":"IF(INDEX(所属名!$A$2:$C$177,個票データ１!$B121,3)=\"\",\"\",INDEX(所属名!$A$2:$C$177,個票データ１!$B121,3))","v":{"$error":"#REF!"}},{"$f":"IF(#REF!>=0,#REF!)","v":{"$error":"#REF!"}},{"$f":"IF(#REF!>=0,#REF!)","v":{"$error":"#REF!"}},{"$f":"IF(#REF!>=0,#REF!)","v":{"$error":"#REF!"}},{"$f":"IF(#REF!>=0,#REF!)","v":{"$error":"#REF!"}},{"$error":"#REF!"},{"$f":"IF(#REF!>=0,#REF!)","v":{"$error":"#REF!"}},{"$f":"IF(#REF!>=0,#REF!)","v":{"$error":"#REF!"}},{"$f":"IF(#REF!>=0,#REF!)","v":{"$error":"#REF!"}},{"$f":"IF(ISERROR(VLOOKUP(J121,#REF!,2,0)),\"\",VLOOKUP(J121,#REF!,2,0))","v":""}]
[121,{"$f":"IF(#REF!>=0,#REF!)","v":{"$error":"#REF!"}},{"$f":"IF(INDEX(所属名!$A$2:$C$177,個票データ１!$B122,3)=\"\",\"\",INDEX(所属名!$A$2:$C$177,個票データ１!$B122,3))","v":{"$error":"#REF!"}},{"$f":"IF(#REF!>=0,#REF!)","v":{"$error":"#REF!"}},{"$f":"IF(#REF!>=0,#REF!)","v":{"$error":"#REF!"}},{"$f":"IF(#REF!>=0,#REF!)","v":{"$error":"#REF!"}},{"$f":"IF(#REF!>=0,#REF!)","v":{"$error":"#REF!"}},{"$error":"#REF!"},{"$f":"IF(#REF!>=0,#REF!)","v":{"$error":"#REF!"}},{"$f":"IF(#REF!>=0,#REF!)","v":{"$error":"#REF!"}},{"$f":"IF(#REF!>=0,#REF!)","v":{"$error":"#REF!"}},{"$f":"IF(ISERROR(VLOOKUP(J122,#REF!,2,0)),\"\",VLOOKUP(J122,#REF!,2,0))","v":""}]
[122,{"$f":"IF(#REF!>=0,#REF!)","v":{"$error":"#REF!"}},{"$f":"IF(INDEX(所属名!$A$2:$C$177,個票データ１!$B123,3)=\"\",\"\",INDEX(所属名!$A$2:$C$177,個票データ１!$B123,3))","v":{"$error":"#REF!"}},{"$f":"IF(#REF!>=0,#REF!)","v":{"$error":"#REF!"}},{"$f":"IF(#REF!>=0,#REF!)","v":{"$error":"#REF!"}},{"$f":"IF(#REF!>=0,#REF!)","v":{"$error":"#REF!"}},{"$f":"IF(#REF!>=0,#REF!)","v":{"$error":"#REF!"}},{"$error":"#REF!"},{"$f":"IF(#REF!>=0,#REF!)","v":{"$error":"#REF!"}},{"$f":"IF(#REF!>=0,#REF!)","v":{"$error":"#REF!"}},{"$f":"IF(#REF!>=0,#REF!)","v":{"$error":"#REF!"}},{"$f":"IF(ISERROR(VLOOKUP(J123,#REF!,2,0)),\"\",VLOOKUP(J123,#REF!,2,0))","v":""}]
[123,{"$f":"IF(#REF!>=0,#REF!)","v":{"$error":"#REF!"}},{"$f":"IF(INDEX(所属名!$A$2:$C$177,個票データ１!$B124,3)=\"\",\"\",INDEX(所属名!$A$2:$C$177,個票データ１!$B124,3))","v":{"$error":"#REF!"}},{"$f":"IF(#REF!>=0,#REF!)","v":{"$error":"#REF!"}},{"$f":"IF(#REF!>=0,#REF!)","v":{"$error":"#REF!"}},{"$f":"IF(#REF!>=0,#REF!)","v":{"$error":"#REF!"}},{"$f":"IF(#REF!>=0,#REF!)","v":{"$error":"#REF!"}},{"$error":"#REF!"},{"$f":"IF(#REF!>=0,#REF!)","v":{"$error":"#REF!"}},{"$f":"IF(#REF!>=0,#REF!)","v":{"$error":"#REF!"}},{"$f":"IF(#REF!>=0,#REF!)","v":{"$error":"#REF!"}},{"$f":"IF(ISERROR(VLOOKUP(J124,#REF!,2,0)),\"\",VLOOKUP(J124,#REF!,2,0))","v":""}]
[124,{"$f":"IF(#REF!>=0,#REF!)","v":{"$error":"#REF!"}},{"$f":"IF(INDEX(所属名!$A$2:$C$177,個票データ１!$B125,3)=\"\",\"\",INDEX(所属名!$A$2:$C$177,個票データ１!$B125,3))","v":{"$error":"#REF!"}},{"$f":"IF(#REF!>=0,#REF!)","v":{"$error":"#REF!"}},{"$f":"IF(#REF!>=0,#REF!)","v":{"$error":"#REF!"}},{"$f":"IF(#REF!>=0,#REF!)","v":{"$error":"#REF!"}},{"$f":"IF(#REF!>=0,#REF!)","v":{"$error":"#REF!"}},{"$error":"#REF!"},{"$f":"IF(#REF!>=0,#REF!)","v":{"$error":"#REF!"}},{"$f":"IF(#REF!>=0,#REF!)","v":{"$error":"#REF!"}},{"$f":"IF(#REF!>=0,#REF!)","v":{"$error":"#REF!"}},{"$f":"IF(ISERROR(VLOOKUP(J125,#REF!,2,0)),\"\",VLOOKUP(J125,#REF!,2,0))","v":""}]
[125,{"$f":"IF(#REF!>=0,#REF!)","v":{"$error":"#REF!"}},{"$f":"IF(INDEX(所属名!$A$2:$C$177,個票データ１!$B126,3)=\"\",\"\",INDEX(所属名!$A$2:$C$177,個票データ１!$B126,3))","v":{"$error":"#REF!"}},{"$f":"IF(#REF!>=0,#REF!)","v":{"$error":"#REF!"}},{"$f":"IF(#REF!>=0,#REF!)","v":{"$error":"#REF!"}},{"$f":"IF(#REF!>=0,#REF!)","v":{"$error":"#REF!"}},{"$f":"IF(#REF!>=0,#REF!)","v":{"$error":"#REF!"}},{"$error":"#REF!"},{"$f":"IF(#REF!>=0,#REF!)","v":{"$error":"#REF!"}},{"$f":"IF(#REF!>=0,#REF!)","v":{"$error":"#REF!"}},{"$f":"IF(#REF!>=0,#REF!)","v":{"$error":"#REF!"}},{"$f":"IF(ISERROR(VLOOKUP(J126,#REF!,2,0)),\"\",VLOOKUP(J126,#REF!,2,0))","v":""}]
[126,{"$f":"IF(#REF!>=0,#REF!)","v":{"$error":"#REF!"}},{"$f":"IF(INDEX(所属名!$A$2:$C$177,個票データ１!$B127,3)=\"\",\"\",INDEX(所属名!$A$2:$C$177,個票データ１!$B127,3))","v":{"$error":"#REF!"}},{"$f":"IF(#REF!>=0,#REF!)","v":{"$error":"#REF!"}},{"$f":"IF(#REF!>=0,#REF!)","v":{"$error":"#REF!"}},{"$f":"IF(#REF!>=0,#REF!)","v":{"$error":"#REF!"}},{"$f":"IF(#REF!>=0,#REF!)","v":{"$error":"#REF!"}},{"$error":"#REF!"},{"$f":"IF(#REF!>=0,#REF!)","v":{"$error":"#REF!"}},{"$f":"IF(#REF!>=0,#REF!)","v":{"$error":"#REF!"}},{"$f":"IF(#REF!>=0,#REF!)","v":{"$error":"#REF!"}},{"$f":"IF(ISERROR(VLOOKUP(J127,#REF!,2,0)),\"\",VLOOKUP(J127,#REF!,2,0))","v":""}]
[127,{"$f":"IF(#REF!>=0,#REF!)","v":{"$error":"#REF!"}},{"$f":"IF(INDEX(所属名!$A$2:$C$177,個票データ１!$B128,3)=\"\",\"\",INDEX(所属名!$A$2:$C$177,個票データ１!$B128,3))","v":{"$error":"#REF!"}},{"$f":"IF(#REF!>=0,#REF!)","v":{"$error":"#REF!"}},{"$f":"IF(#REF!>=0,#REF!)","v":{"$error":"#REF!"}},{"$f":"IF(#REF!>=0,#REF!)","v":{"$error":"#REF!"}},{"$f":"IF(#REF!>=0,#REF!)","v":{"$error":"#REF!"}},{"$error":"#REF!"},{"$f":"IF(#REF!>=0,#REF!)","v":{"$error":"#REF!"}},{"$f":"IF(#REF!>=0,#REF!)","v":{"$error":"#REF!"}},{"$f":"IF(#REF!>=0,#REF!)","v":{"$error":"#REF!"}},{"$f":"IF(ISERROR(VLOOKUP(J128,#REF!,2,0)),\"\",VLOOKUP(J128,#REF!,2,0))","v":""}]
[128,{"$f":"IF(#REF!>=0,#REF!)","v":{"$error":"#REF!"}},{"$f":"IF(INDEX(所属名!$A$2:$C$177,個票データ１!$B129,3)=\"\",\"\",INDEX(所属名!$A$2:$C$177,個票データ１!$B129,3))","v":{"$error":"#REF!"}},{"$f":"IF(#REF!>=0,#REF!)","v":{"$error":"#REF!"}},{"$f":"IF(#REF!>=0,#REF!)","v":{"$error":"#REF!"}},{"$f":"IF(#REF!>=0,#REF!)","v":{"$error":"#REF!"}},{"$f":"IF(#REF!>=0,#REF!)","v":{"$error":"#REF!"}},{"$error":"#REF!"},{"$f":"IF(#REF!>=0,#REF!)","v":{"$error":"#REF!"}},{"$f":"IF(#REF!>=0,#REF!)","v":{"$error":"#REF!"}},{"$f":"IF(#REF!>=0,#REF!)","v":{"$error":"#REF!"}},{"$f":"IF(ISERROR(VLOOKUP(J129,#REF!,2,0)),\"\",VLOOKUP(J129,#REF!,2,0))","v":""}]
[129,{"$f":"IF(#REF!>=0,#REF!)","v":{"$error":"#REF!"}},{"$f":"IF(INDEX(所属名!$A$2:$C$177,個票データ１!$B130,3)=\"\",\"\",INDEX(所属名!$A$2:$C$177,個票データ１!$B130,3))","v":{"$error":"#REF!"}},{"$f":"IF(#REF!>=0,#REF!)","v":{"$error":"#REF!"}},{"$f":"IF(#REF!>=0,#REF!)","v":{"$error":"#REF!"}},{"$f":"IF(#REF!>=0,#REF!)","v":{"$error":"#REF!"}},{"$f":"IF(#REF!>=0,#REF!)","v":{"$error":"#REF!"}},{"$f":"IF(G130=1,\"男\",IF(G130=2,\"女\",\"\"))","v":{"$error":"#REF!"}},{"$f":"IF(#REF!>=0,#REF!)","v":{"$error":"#REF!"}},{"$f":"IF(#REF!>=0,#REF!)","v":{"$error":"#REF!"}},{"$f":"IF(#REF!>=0,#REF!)","v":{"$error":"#REF!"}},{"$f":"IF(ISERROR(VLOOKUP(J130,#REF!,2,0)),\"\",VLOOKUP(J130,#REF!,2,0))","v":""}]
[130,{"$f":"IF(#REF!>=0,#REF!)","v":{"$error":"#REF!"}},{"$f":"IF(INDEX(所属名!$A$2:$C$177,個票データ１!$B131,3)=\"\",\"\",INDEX(所属名!$A$2:$C$177,個票データ１!$B131,3))","v":{"$error":"#REF!"}},{"$f":"IF(#REF!>=0,#REF!)","v":{"$error":"#REF!"}},{"$f":"IF(#REF!>=0,#REF!)","v":{"$error":"#REF!"}},{"$f":"IF(#REF!>=0,#REF!)","v":{"$error":"#REF!"}},{"$f":"IF(#REF!>=0,#REF!)","v":{"$error":"#REF!"}},{"$error":"#REF!"},{"$f":"IF(#REF!>=0,#REF!)","v":{"$error":"#REF!"}},{"$f":"IF(#REF!>=0,#REF!)","v":{"$error":"#REF!"}},{"$f":"IF(#REF!>=0,#REF!)","v":{"$error":"#REF!"}},{"$f":"IF(ISERROR(VLOOKUP(J131,#REF!,2,0)),\"\",VLOOKUP(J131,#REF!,2,0))","v":""}]
[131,{"$f":"IF(#REF!>=0,#REF!)","v":{"$error":"#REF!"}},{"$f":"IF(INDEX(所属名!$A$2:$C$177,個票データ１!$B132,3)=\"\",\"\",INDEX(所属名!$A$2:$C$177,個票データ１!$B132,3))","v":{"$error":"#REF!"}},{"$f":"IF(#REF!>=0,#REF!)","v":{"$error":"#REF!"}},{"$f":"IF(#REF!>=0,#REF!)","v":{"$error":"#REF!"}},{"$f":"IF(#REF!>=0,#REF!)","v":{"$error":"#REF!"}},{"$f":"IF(#REF!>=0,#REF!)","v":{"$error":"#REF!"}},{"$error":"#REF!"},{"$f":"IF(#REF!>=0,#REF!)","v":{"$error":"#REF!"}},{"$f":"IF(#REF!>=0,#REF!)","v":{"$error":"#REF!"}},{"$f":"IF(#REF!>=0,#REF!)","v":{"$error":"#REF!"}},{"$f":"IF(ISERROR(VLOOKUP(J132,#REF!,2,0)),\"\",VLOOKUP(J132,#REF!,2,0))","v":""}]
[132,{"$f":"IF(#REF!>=0,#REF!)","v":{"$error":"#REF!"}},{"$f":"IF(INDEX(所属名!$A$2:$C$177,個票データ１!$B133,3)=\"\",\"\",INDEX(所属名!$A$2:$C$177,個票データ１!$B133,3))","v":{"$error":"#REF!"}},{"$f":"IF(#REF!>=0,#REF!)","v":{"$error":"#REF!"}},{"$f":"IF(#REF!>=0,#REF!)","v":{"$error":"#REF!"}},{"$f":"IF(#REF!>=0,#REF!)","v":{"$error":"#REF!"}},{"$f":"IF(#REF!>=0,#REF!)","v":{"$error":"#REF!"}},{"$error":"#REF!"},{"$f":"IF(#REF!>=0,#REF!)","v":{"$error":"#REF!"}},{"$f":"IF(#REF!>=0,#REF!)","v":{"$error":"#REF!"}},{"$f":"IF(#REF!>=0,#REF!)","v":{"$error":"#REF!"}},{"$f":"IF(ISERROR(VLOOKUP(J133,#REF!,2,0)),\"\",VLOOKUP(J133,#REF!,2,0))","v":""}]
[133,{"$f":"IF(#REF!>=0,#REF!)","v":{"$error":"#REF!"}},{"$f":"IF(INDEX(所属名!$A$2:$C$177,個票データ１!$B134,3)=\"\",\"\",INDEX(所属名!$A$2:$C$177,個票データ１!$B134,3))","v":{"$error":"#REF!"}},{"$f":"IF(#REF!>=0,#REF!)","v":{"$error":"#REF!"}},{"$f":"IF(#REF!>=0,#REF!)","v":{"$error":"#REF!"}},{"$f":"IF(#REF!>=0,#REF!)","v":{"$error":"#REF!"}},{"$f":"IF(#REF!>=0,#REF!)","v":{"$error":"#REF!"}},{"$error":"#REF!"},{"$f":"IF(#REF!>=0,#REF!)","v":{"$error":"#REF!"}},{"$f":"IF(#REF!>=0,#REF!)","v":{"$error":"#REF!"}},{"$f":"IF(#REF!>=0,#REF!)","v":{"$error":"#REF!"}},{"$f":"IF(ISERROR(VLOOKUP(J134,#REF!,2,0)),\"\",VLOOKUP(J134,#REF!,2,0))","v":""}]
[134,{"$f":"IF(#REF!>=0,#REF!)","v":{"$error":"#REF!"}},{"$f":"IF(INDEX(所属名!$A$2:$C$177,個票データ１!$B135,3)=\"\",\"\",INDEX(所属名!$A$2:$C$177,個票データ１!$B135,3))","v":{"$error":"#REF!"}},{"$f":"IF(#REF!>=0,#REF!)","v":{"$error":"#REF!"}},{"$f":"IF(#REF!>=0,#REF!)","v":{"$error":"#REF!"}},{"$f":"IF(#REF!>=0,#REF!)","v":{"$error":"#REF!"}},{"$f":"IF(#REF!>=0,#REF!)","v":{"$error":"#REF!"}},{"$error":"#REF!"},{"$f":"IF(#REF!>=0,#REF!)","v":{"$error":"#REF!"}},{"$f":"IF(#REF!>=0,#REF!)","v":{"$error":"#REF!"}},{"$f":"IF(#REF!>=0,#REF!)","v":{"$error":"#REF!"}},{"$f":"IF(ISERROR(VLOOKUP(J135,#REF!,2,0)),\"\",VLOOKUP(J135,#REF!,2,0))","v":""}]
[135,{"$f":"IF(#REF!>=0,#REF!)","v":{"$error":"#REF!"}},{"$f":"IF(INDEX(所属名!$A$2:$C$177,個票データ１!$B136,3)=\"\",\"\",INDEX(所属名!$A$2:$C$177,個票データ１!$B136,3))","v":{"$error":"#REF!"}},{"$f":"IF(#REF!>=0,#REF!)","v":{"$error":"#REF!"}},{"$f":"IF(#REF!>=0,#REF!)","v":{"$error":"#REF!"}},{"$f":"IF(#REF!>=0,#REF!)","v":{"$error":"#REF!"}},{"$f":"IF(#REF!>=0,#REF!)","v":{"$error":"#REF!"}},{"$error":"#REF!"},{"$f":"IF(#REF!>=0,#REF!)","v":{"$error":"#REF!"}},{"$f":"IF(#REF!>=0,#REF!)","v":{"$error":"#REF!"}},{"$f":"IF(#REF!>=0,#REF!)","v":{"$error":"#REF!"}},{"$f":"IF(ISERROR(VLOOKUP(J136,#REF!,2,0)),\"\",VLOOKUP(J136,#REF!,2,0))","v":""}]
[136,{"$f":"IF(#REF!>=0,#REF!)","v":{"$error":"#REF!"}},{"$f":"IF(INDEX(所属名!$A$2:$C$177,個票データ１!$B137,3)=\"\",\"\",INDEX(所属名!$A$2:$C$177,個票データ１!$B137,3))","v":{"$error":"#REF!"}},{"$f":"IF(#REF!>=0,#REF!)","v":{"$error":"#REF!"}},{"$f":"IF(#REF!>=0,#REF!)","v":{"$error":"#REF!"}},{"$f":"IF(#REF!>=0,#REF!)","v":{"$error":"#REF!"}},{"$f":"IF(#REF!>=0,#REF!)","v":{"$error":"#REF!"}},{"$error":"#REF!"},{"$f":"IF(#REF!>=0,#REF!)","v":{"$error":"#REF!"}},{"$f":"IF(#REF!>=0,#REF!)","v":{"$error":"#REF!"}},{"$f":"IF(#REF!>=0,#REF!)","v":{"$error":"#REF!"}},{"$f":"IF(ISERROR(VLOOKUP(J137,#REF!,2,0)),\"\",VLOOKUP(J137,#REF!,2,0))","v":""}]
[137,{"$f":"IF(#REF!>=0,#REF!)","v":{"$error":"#REF!"}},{"$f":"IF(INDEX(所属名!$A$2:$C$177,個票データ１!$B138,3)=\"\",\"\",INDEX(所属名!$A$2:$C$177,個票データ１!$B138,3))","v":{"$error":"#REF!"}},{"$f":"IF(#REF!>=0,#REF!)","v":{"$error":"#REF!"}},{"$f":"IF(#REF!>=0,#REF!)","v":{"$error":"#REF!"}},{"$f":"IF(#REF!>=0,#REF!)","v":{"$error":"#REF!"}},{"$f":"IF(#REF!>=0,#REF!)","v":{"$error":"#REF!"}},{"$error":"#REF!"},{"$f":"IF(#REF!>=0,#REF!)","v":{"$error":"#REF!"}},{"$f":"IF(#REF!>=0,#REF!)","v":{"$error":"#REF!"}},{"$f":"IF(#REF!>=0,#REF!)","v":{"$error":"#REF!"}},{"$f":"IF(ISERROR(VLOOKUP(J138,#REF!,2,0)),\"\",VLOOKUP(J138,#REF!,2,0))","v":""}]
[138,{"$f":"IF(#REF!>=0,#REF!)","v":{"$error":"#REF!"}},{"$f":"IF(INDEX(所属名!$A$2:$C$177,個票データ１!$B139,3)=\"\",\"\",INDEX(所属名!$A$2:$C$177,個票データ１!$B139,3))","v":{"$error":"#REF!"}},{"$f":"IF(#REF!>=0,#REF!)","v":{"$error":"#REF!"}},{"$f":"IF(#REF!>=0,#REF!)","v":{"$error":"#REF!"}},{"$f":"IF(#REF!>=0,#REF!)","v":{"$error":"#REF!"}},{"$f":"IF(#REF!>=0,#REF!)","v":{"$error":"#REF!"}},{"$error":"#REF!"},{"$f":"IF(#REF!>=0,#REF!)","v":{"$error":"#REF!"}},{"$f":"IF(#REF!>=0,#REF!)","v":{"$error":"#REF!"}},{"$f":"IF(#REF!>=0,#REF!)","v":{"$error":"#REF!"}},{"$f":"IF(ISERROR(VLOOKUP(J139,#REF!,2,0)),\"\",VLOOKUP(J139,#REF!,2,0))","v":""}]
[139,{"$f":"IF(#REF!>=0,#REF!)","v":{"$error":"#REF!"}},{"$f":"IF(INDEX(所属名!$A$2:$C$177,個票データ１!$B140,3)=\"\",\"\",INDEX(所属名!$A$2:$C$177,個票データ１!$B140,3))","v":{"$error":"#REF!"}},{"$f":"IF(#REF!>=0,#REF!)","v":{"$error":"#REF!"}},{"$f":"IF(#REF!>=0,#REF!)","v":{"$error":"#REF!"}},{"$f":"IF(#REF!>=0,#REF!)","v":{"$error":"#REF!"}},{"$f":"IF(#REF!>=0,#REF!)","v":{"$error":"#REF!"}},{"$error":"#REF!"},{"$f":"IF(#REF!>=0,#REF!)","v":{"$error":"#REF!"}},{"$f":"IF(#REF!>=0,#REF!)","v":{"$error":"#REF!"}},{"$f":"IF(#REF!>=0,#REF!)","v":{"$error":"#REF!"}},{"$f":"IF(ISERROR(VLOOKUP(J140,#REF!,2,0)),\"\",VLOOKUP(J140,#REF!,2,0))","v":""}]
[140,{"$f":"IF(#REF!>=0,#REF!)","v":{"$error":"#REF!"}},{"$f":"IF(INDEX(所属名!$A$2:$C$177,個票データ１!$B141,3)=\"\",\"\",INDEX(所属名!$A$2:$C$177,個票データ１!$B141,3))","v":{"$error":"#REF!"}},{"$f":"IF(#REF!>=0,#REF!)","v":{"$error":"#REF!"}},{"$f":"IF(#REF!>=0,#REF!)","v":{"$error":"#REF!"}},{"$f":"IF(#REF!>=0,#REF!)","v":{"$error":"#REF!"}},{"$f":"IF(#REF!>=0,#REF!)","v":{"$error":"#REF!"}},{"$error":"#REF!"},{"$f":"IF(#REF!>=0,#REF!)","v":{"$error":"#REF!"}},{"$f":"IF(#REF!>=0,#REF!)","v":{"$error":"#REF!"}},{"$f":"IF(#REF!>=0,#REF!)","v":{"$error":"#REF!"}},{"$f":"IF(ISERROR(VLOOKUP(J141,#REF!,2,0)),\"\",VLOOKUP(J141,#REF!,2,0))","v":""}]
[141,{"$f":"IF(#REF!>=0,#REF!)","v":{"$error":"#REF!"}},{"$f":"IF(INDEX(所属名!$A$2:$C$177,個票データ１!$B142,3)=\"\",\"\",INDEX(所属名!$A$2:$C$177,個票データ１!$B142,3))","v":{"$error":"#REF!"}},{"$f":"IF(#REF!>=0,#REF!)","v":{"$error":"#REF!"}},{"$f":"IF(#REF!>=0,#REF!)","v":{"$error":"#REF!"}},{"$f":"IF(#REF!>=0,#REF!)","v":{"$error":"#REF!"}},{"$f":"IF(#REF!>=0,#REF!)","v":{"$error":"#REF!"}},{"$error":"#REF!"},{"$f":"IF(#REF!>=0,#REF!)","v":{"$error":"#REF!"}},{"$f":"IF(#REF!>=0,#REF!)","v":{"$error":"#REF!"}},{"$f":"IF(#REF!>=0,#REF!)","v":{"$error":"#REF!"}},{"$f":"IF(ISERROR(VLOOKUP(J142,#REF!,2,0)),\"\",VLOOKUP(J142,#REF!,2,0))","v":""}]
[142,{"$f":"IF(#REF!>=0,#REF!)","v":{"$error":"#REF!"}},{"$f":"IF(INDEX(所属名!$A$2:$C$177,個票データ１!$B143,3)=\"\",\"\",INDEX(所属名!$A$2:$C$177,個票データ１!$B143,3))","v":{"$error":"#REF!"}},{"$f":"IF(#REF!>=0,#REF!)","v":{"$error":"#REF!"}},{"$f":"IF(#REF!>=0,#REF!)","v":{"$error":"#REF!"}},{"$f":"IF(#REF!>=0,#REF!)","v":{"$error":"#REF!"}},{"$f":"IF(#REF!>=0,#REF!)","v":{"$error":"#REF!"}},{"$error":"#REF!"},{"$f":"IF(#REF!>=0,#REF!)","v":{"$error":"#REF!"}},{"$f":"IF(#REF!>=0,#REF!)","v":{"$error":"#REF!"}},{"$f":"IF(#REF!>=0,#REF!)","v":{"$error":"#REF!"}},{"$f":"IF(ISERROR(VLOOKUP(J143,#REF!,2,0)),\"\",VLOOKUP(J143,#REF!,2,0))","v":""}]
[143,{"$f":"IF(#REF!>=0,#REF!)","v":{"$error":"#REF!"}},{"$f":"IF(INDEX(所属名!$A$2:$C$177,個票データ１!$B144,3)=\"\",\"\",INDEX(所属名!$A$2:$C$177,個票データ１!$B144,3))","v":{"$error":"#REF!"}},{"$f":"IF(#REF!>=0,#REF!)","v":{"$error":"#REF!"}},{"$f":"IF(#REF!>=0,#REF!)","v":{"$error":"#REF!"}},{"$f":"IF(#REF!>=0,#REF!)","v":{"$error":"#REF!"}},{"$f":"IF(#REF!>=0,#REF!)","v":{"$error":"#REF!"}},{"$error":"#REF!"},{"$f":"IF(#REF!>=0,#REF!)","v":{"$error":"#REF!"}},{"$f":"IF(#REF!>=0,#REF!)","v":{"$error":"#REF!"}},{"$f":"IF(#REF!>=0,#REF!)","v":{"$error":"#REF!"}},{"$f":"IF(ISERROR(VLOOKUP(J144,#REF!,2,0)),\"\",VLOOKUP(J144,#REF!,2,0))","v":""}]
[144,{"$f":"IF(#REF!>=0,#REF!)","v":{"$error":"#REF!"}},{"$f":"IF(INDEX(所属名!$A$2:$C$177,個票データ１!$B145,3)=\"\",\"\",INDEX(所属名!$A$2:$C$177,個票データ１!$B145,3))","v":{"$error":"#REF!"}},{"$f":"IF(#REF!>=0,#REF!)","v":{"$error":"#REF!"}},{"$f":"IF(#REF!>=0,#REF!)","v":{"$error":"#REF!"}},{"$f":"IF(#REF!>=0,#REF!)","v":{"$error":"#REF!"}},{"$f":"IF(#REF!>=0,#REF!)","v":{"$error":"#REF!"}},{"$error":"#REF!"},{"$f":"IF(#REF!>=0,#REF!)","v":{"$error":"#REF!"}},{"$f":"IF(#REF!>=0,#REF!)","v":{"$error":"#REF!"}},{"$f":"IF(#REF!>=0,#REF!)","v":{"$error":"#REF!"}},{"$f":"IF(ISERROR(VLOOKUP(J145,#REF!,2,0)),\"\",VLOOKUP(J145,#REF!,2,0))","v":""}]
[145,{"$f":"IF(#REF!>=0,#REF!)","v":{"$error":"#REF!"}},{"$f":"IF(INDEX(所属名!$A$2:$C$177,個票データ１!$B146,3)=\"\",\"\",INDEX(所属名!$A$2:$C$177,個票データ１!$B146,3))","v":{"$error":"#REF!"}},{"$f":"IF(#REF!>=0,#REF!)","v":{"$error":"#REF!"}},{"$f":"IF(#REF!>=0,#REF!)","v":{"$error":"#REF!"}},{"$f":"IF(#REF!>=0,#REF!)","v":{"$error":"#REF!"}},{"$f":"IF(#REF!>=0,#REF!)","v":{"$error":"#REF!"}},{"$error":"#REF!"},{"$f":"IF(#REF!>=0,#REF!)","v":{"$error":"#REF!"}},{"$f":"IF(#REF!>=0,#REF!)","v":{"$error":"#REF!"}},{"$f":"IF(#REF!>=0,#REF!)","v":{"$error":"#REF!"}},{"$f":"IF(ISERROR(VLOOKUP(J146,#REF!,2,0)),\"\",VLOOKUP(J146,#REF!,2,0))","v":""}]
[146,{"$f":"IF(#REF!>=0,#REF!)","v":{"$error":"#REF!"}},{"$f":"IF(INDEX(所属名!$A$2:$C$177,個票データ１!$B147,3)=\"\",\"\",INDEX(所属名!$A$2:$C$177,個票データ１!$B147,3))","v":{"$error":"#REF!"}},{"$f":"IF(#REF!>=0,#REF!)","v":{"$error":"#REF!"}},{"$f":"IF(#REF!>=0,#REF!)","v":{"$error":"#REF!"}},{"$f":"IF(#REF!>=0,#REF!)","v":{"$error":"#REF!"}},{"$f":"IF(#REF!>=0,#REF!)","v":{"$error":"#REF!"}},{"$error":"#REF!"},{"$f":"IF(#REF!>=0,#REF!)","v":{"$error":"#REF!"}},{"$f":"IF(#REF!>=0,#REF!)","v":{"$error":"#REF!"}},{"$f":"IF(#REF!>=0,#REF!)","v":{"$error":"#REF!"}},{"$f":"IF(ISERROR(VLOOKUP(J147,#REF!,2,0)),\"\",VLOOKUP(J147,#REF!,2,0))","v":""}]
[147,{"$f":"IF(#REF!>=0,#REF!)","v":{"$error":"#REF!"}},{"$f":"IF(INDEX(所属名!$A$2:$C$177,個票データ１!$B148,3)=\"\",\"\",INDEX(所属名!$A$2:$C$177,個票データ１!$B148,3))","v":{"$error":"#REF!"}},{"$f":"IF(#REF!>=0,#REF!)","v":{"$error":"#REF!"}},{"$f":"IF(#REF!>=0,#REF!)","v":{"$error":"#REF!"}},{"$f":"IF(#REF!>=0,#REF!)","v":{"$error":"#REF!"}},{"$f":"IF(#REF!>=0,#REF!)","v":{"$error":"#REF!"}},{"$error":"#REF!"},{"$f":"IF(#REF!>=0,#REF!)","v":{"$error":"#REF!"}},{"$f":"IF(#REF!>=0,#REF!)","v":{"$error":"#REF!"}},{"$f":"IF(#REF!>=0,#REF!)","v":{"$error":"#REF!"}},{"$f":"IF(ISERROR(VLOOKUP(J148,#REF!,2,0)),\"\",VLOOKUP(J148,#REF!,2,0))","v":""}]
[148,{"$f":"IF(#REF!>=0,#REF!)","v":{"$error":"#REF!"}},{"$f":"IF(INDEX(所属名!$A$2:$C$177,個票データ１!$B149,3)=\"\",\"\",INDEX(所属名!$A$2:$C$177,個票データ１!$B149,3))","v":{"$error":"#REF!"}},{"$f":"IF(#REF!>=0,#REF!)","v":{"$error":"#REF!"}},{"$f":"IF(#REF!>=0,#REF!)","v":{"$error":"#REF!"}},{"$f":"IF(#REF!>=0,#REF!)","v":{"$error":"#REF!"}},{"$f":"IF(#REF!>=0,#REF!)","v":{"$error":"#REF!"}},{"$error":"#REF!"},{"$f":"IF(#REF!>=0,#REF!)","v":{"$error":"#REF!"}},{"$f":"IF(#REF!>=0,#REF!)","v":{"$error":"#REF!"}},{"$f":"IF(#REF!>=0,#REF!)","v":{"$error":"#REF!"}},{"$f":"IF(ISERROR(VLOOKUP(J149,#REF!,2,0)),\"\",VLOOKUP(J149,#REF!,2,0))","v":""}]
[149,{"$f":"IF(#REF!>=0,#REF!)","v":{"$error":"#REF!"}},{"$f":"IF(INDEX(所属名!$A$2:$C$177,個票データ１!$B150,3)=\"\",\"\",INDEX(所属名!$A$2:$C$177,個票データ１!$B150,3))","v":{"$error":"#REF!"}},{"$f":"IF(#REF!>=0,#REF!)","v":{"$error":"#REF!"}},{"$f":"IF(#REF!>=0,#REF!)","v":{"$error":"#REF!"}},{"$f":"IF(#REF!>=0,#REF!)","v":{"$error":"#REF!"}},{"$f":"IF(#REF!>=0,#REF!)","v":{"$error":"#REF!"}},{"$error":"#REF!"},{"$f":"IF(#REF!>=0,#REF!)","v":{"$error":"#REF!"}},{"$f":"IF(#REF!>=0,#REF!)","v":{"$error":"#REF!"}},{"$f":"IF(#REF!>=0,#REF!)","v":{"$error":"#REF!"}},{"$f":"IF(ISERROR(VLOOKUP(J150,#REF!,2,0)),\"\",VLOOKUP(J150,#REF!,2,0))","v":""}]
[150,{"$f":"IF(#REF!>=0,#REF!)","v":{"$error":"#REF!"}},{"$f":"IF(INDEX(所属名!$A$2:$C$177,個票データ１!$B151,3)=\"\",\"\",INDEX(所属名!$A$2:$C$177,個票データ１!$B151,3))","v":{"$error":"#REF!"}},{"$f":"IF(#REF!>=0,#REF!)","v":{"$error":"#REF!"}},{"$f":"IF(#REF!>=0,#REF!)","v":{"$error":"#REF!"}},{"$f":"IF(#REF!>=0,#REF!)","v":{"$error":"#REF!"}},{"$f":"IF(#REF!>=0,#REF!)","v":{"$error":"#REF!"}},{"$error":"#REF!"},{"$f":"IF(#REF!>=0,#REF!)","v":{"$error":"#REF!"}},{"$f":"IF(#REF!>=0,#REF!)","v":{"$error":"#REF!"}},{"$f":"IF(#REF!>=0,#REF!)","v":{"$error":"#REF!"}},{"$f":"IF(ISERROR(VLOOKUP(J151,#REF!,2,0)),\"\",VLOOKUP(J151,#REF!,2,0))","v":""}]
[151,{"$f":"IF(#REF!>=0,#REF!)","v":{"$error":"#REF!"}},{"$f":"IF(INDEX(所属名!$A$2:$C$177,個票データ１!$B152,3)=\"\",\"\",INDEX(所属名!$A$2:$C$177,個票データ１!$B152,3))","v":{"$error":"#REF!"}},{"$f":"IF(#REF!>=0,#REF!)","v":{"$error":"#REF!"}},{"$f":"IF(#REF!>=0,#REF!)","v":{"$error":"#REF!"}},{"$f":"IF(#REF!>=0,#REF!)","v":{"$error":"#REF!"}},{"$f":"IF(#REF!>=0,#REF!)","v":{"$error":"#REF!"}},{"$error":"#REF!"},{"$f":"IF(#REF!>=0,#REF!)","v":{"$error":"#REF!"}},{"$f":"IF(#REF!>=0,#REF!)","v":{"$error":"#REF!"}},{"$f":"IF(#REF!>=0,#REF!)","v":{"$error":"#REF!"}},{"$f":"IF(ISERROR(VLOOKUP(J152,#REF!,2,0)),\"\",VLOOKUP(J152,#REF!,2,0))","v":""}]
[152,{"$f":"IF(#REF!>=0,#REF!)","v":{"$error":"#REF!"}},{"$f":"IF(INDEX(所属名!$A$2:$C$177,個票データ１!$B153,3)=\"\",\"\",INDEX(所属名!$A$2:$C$177,個票データ１!$B153,3))","v":{"$error":"#REF!"}},{"$f":"IF(#REF!>=0,#REF!)","v":{"$error":"#REF!"}},{"$f":"IF(#REF!>=0,#REF!)","v":{"$error":"#REF!"}},{"$f":"IF(#REF!>=0,#REF!)","v":{"$error":"#REF!"}},{"$f":"IF(#REF!>=0,#REF!)","v":{"$error":"#REF!"}},{"$error":"#REF!"},{"$f":"IF(#REF!>=0,#REF!)","v":{"$error":"#REF!"}},{"$f":"IF(#REF!>=0,#REF!)","v":{"$error":"#REF!"}},{"$f":"IF(#REF!>=0,#REF!)","v":{"$error":"#REF!"}},{"$f":"IF(ISERROR(VLOOKUP(J153,#REF!,2,0)),\"\",VLOOKUP(J153,#REF!,2,0))","v":""}]
[153,{"$f":"IF(#REF!>=0,#REF!)","v":{"$error":"#REF!"}},{"$f":"IF(INDEX(所属名!$A$2:$C$177,個票データ１!$B154,3)=\"\",\"\",INDEX(所属名!$A$2:$C$177,個票データ１!$B154,3))","v":{"$error":"#REF!"}},{"$f":"IF(#REF!>=0,#REF!)","v":{"$error":"#REF!"}},{"$f":"IF(#REF!>=0,#REF!)","v":{"$error":"#REF!"}},{"$f":"IF(#REF!>=0,#REF!)","v":{"$error":"#REF!"}},{"$f":"IF(#REF!>=0,#REF!)","v":{"$error":"#REF!"}},{"$error":"#REF!"},{"$f":"IF(#REF!>=0,#REF!)","v":{"$error":"#REF!"}},{"$f":"IF(#REF!>=0,#REF!)","v":{"$error":"#REF!"}},{"$f":"IF(#REF!>=0,#REF!)","v":{"$error":"#REF!"}},{"$f":"IF(ISERROR(VLOOKUP(J154,#REF!,2,0)),\"\",VLOOKUP(J154,#REF!,2,0))","v":""}]
[154,{"$f":"IF(#REF!>=0,#REF!)","v":{"$error":"#REF!"}},{"$f":"IF(INDEX(所属名!$A$2:$C$177,個票データ１!$B155,3)=\"\",\"\",INDEX(所属名!$A$2:$C$177,個票データ１!$B155,3))","v":{"$error":"#REF!"}},{"$f":"IF(#REF!>=0,#REF!)","v":{"$error":"#REF!"}},{"$f":"IF(#REF!>=0,#REF!)","v":{"$error":"#REF!"}},{"$f":"IF(#REF!>=0,#REF!)","v":{"$error":"#REF!"}},{"$f":"IF(#REF!>=0,#REF!)","v":{"$error":"#REF!"}},{"$error":"#REF!"},{"$f":"IF(#REF!>=0,#REF!)","v":{"$error":"#REF!"}},{"$f":"IF(#REF!>=0,#REF!)","v":{"$error":"#REF!"}},{"$f":"IF(#REF!>=0,#REF!)","v":{"$error":"#REF!"}},{"$f":"IF(ISERROR(VLOOKUP(J155,#REF!,2,0)),\"\",VLOOKUP(J155,#REF!,2,0))","v":""}]
[155,{"$f":"IF(#REF!>=0,#REF!)","v":{"$error":"#REF!"}},{"$f":"IF(INDEX(所属名!$A$2:$C$177,個票データ１!$B156,3)=\"\",\"\",INDEX(所属名!$A$2:$C$177,個票データ１!$B156,3))","v":{"$error":"#REF!"}},{"$f":"IF(#REF!>=0,#REF!)","v":{"$error":"#REF!"}},{"$f":"IF(#REF!>=0,#REF!)","v":{"$error":"#REF!"}},{"$f":"IF(#REF!>=0,#REF!)","v":{"$error":"#REF!"}},{"$f":"IF(#REF!>=0,#REF!)","v":{"$error":"#REF!"}},{"$error":"#REF!"},{"$f":"IF(#REF!>=0,#REF!)","v":{"$error":"#REF!"}},{"$f":"IF(#REF!>=0,#REF!)","v":{"$error":"#REF!"}},{"$f":"IF(#REF!>=0,#REF!)","v":{"$error":"#REF!"}},{"$f":"IF(ISERROR(VLOOKUP(J156,#REF!,2,0)),\"\",VLOOKUP(J156,#REF!,2,0))","v":""}]
[156,{"$f":"IF(#REF!>=0,#REF!)","v":{"$error":"#REF!"}},{"$f":"IF(INDEX(所属名!$A$2:$C$177,個票データ１!$B157,3)=\"\",\"\",INDEX(所属名!$A$2:$C$177,個票データ１!$B157,3))","v":{"$error":"#REF!"}},{"$f":"IF(#REF!>=0,#REF!)","v":{"$error":"#REF!"}},{"$f":"IF(#REF!>=0,#REF!)","v":{"$error":"#REF!"}},{"$f":"IF(#REF!>=0,#REF!)","v":{"$error":"#REF!"}},{"$f":"IF(#REF!>=0,#REF!)","v":{"$error":"#REF!"}},{"$error":"#REF!"},{"$f":"IF(#REF!>=0,#REF!)","v":{"$error":"#REF!"}},{"$f":"IF(#REF!>=0,#REF!)","v":{"$error":"#REF!"}},{"$f":"IF(#REF!>=0,#REF!)","v":{"$error":"#REF!"}},{"$f":"IF(ISERROR(VLOOKUP(J157,#REF!,2,0)),\"\",VLOOKUP(J157,#REF!,2,0))","v":""}]
[157,{"$f":"IF(#REF!>=0,#REF!)","v":{"$error":"#REF!"}},{"$f":"IF(INDEX(所属名!$A$2:$C$177,個票データ１!$B158,3)=\"\",\"\",INDEX(所属名!$A$2:$C$177,個票データ１!$B158,3))","v":{"$error":"#REF!"}},{"$f":"IF(#REF!>=0,#REF!)","v":{"$error":"#REF!"}},{"$f":"IF(#REF!>=0,#REF!)","v":{"$error":"#REF!"}},{"$f":"IF(#REF!>=0,#REF!)","v":{"$error":"#REF!"}},{"$f":"IF(#REF!>=0,#REF!)","v":{"$error":"#REF!"}},{"$error":"#REF!"},{"$f":"IF(#REF!>=0,#REF!)","v":{"$error":"#REF!"}},{"$f":"IF(#REF!>=0,#REF!)","v":{"$error":"#REF!"}},{"$f":"IF(#REF!>=0,#REF!)","v":{"$error":"#REF!"}},{"$f":"IF(ISERROR(VLOOKUP(J158,#REF!,2,0)),\"\",VLOOKUP(J158,#REF!,2,0))","v":""}]
[158,{"$f":"IF(#REF!>=0,#REF!)","v":{"$error":"#REF!"}},{"$f":"IF(INDEX(所属名!$A$2:$C$177,個票データ１!$B159,3)=\"\",\"\",INDEX(所属名!$A$2:$C$177,個票データ１!$B159,3))","v":{"$error":"#REF!"}},{"$f":"IF(#REF!>=0,#REF!)","v":{"$error":"#REF!"}},{"$f":"IF(#REF!>=0,#REF!)","v":{"$error":"#REF!"}},{"$f":"IF(#REF!>=0,#REF!)","v":{"$error":"#REF!"}},{"$f":"IF(#REF!>=0,#REF!)","v":{"$error":"#REF!"}},{"$error":"#REF!"},{"$f":"IF(#REF!>=0,#REF!)","v":{"$error":"#REF!"}},{"$f":"IF(#REF!>=0,#REF!)","v":{"$error":"#REF!"}},{"$f":"IF(#REF!>=0,#REF!)","v":{"$error":"#REF!"}},{"$f":"IF(ISERROR(VLOOKUP(J159,#REF!,2,0)),\"\",VLOOKUP(J159,#REF!,2,0))","v":""}]
[159,{"$f":"IF(#REF!>=0,#REF!)","v":{"$error":"#REF!"}},{"$f":"IF(INDEX(所属名!$A$2:$C$177,個票データ１!$B160,3)=\"\",\"\",INDEX(所属名!$A$2:$C$177,個票データ１!$B160,3))","v":{"$error":"#REF!"}},{"$f":"IF(#REF!>=0,#REF!)","v":{"$error":"#REF!"}},{"$f":"IF(#REF!>=0,#REF!)","v":{"$error":"#REF!"}},{"$f":"IF(#REF!>=0,#REF!)","v":{"$error":"#REF!"}},{"$f":"IF(#REF!>=0,#REF!)","v":{"$error":"#REF!"}},{"$error":"#REF!"},{"$f":"IF(#REF!>=0,#REF!)","v":{"$error":"#REF!"}},{"$f":"IF(#REF!>=0,#REF!)","v":{"$error":"#REF!"}},{"$f":"IF(#REF!>=0,#REF!)","v":{"$error":"#REF!"}},{"$f":"IF(ISERROR(VLOOKUP(J160,#REF!,2,0)),\"\",VLOOKUP(J160,#REF!,2,0))","v":""}]
[160,{"$f":"IF(#REF!>=0,#REF!)","v":{"$error":"#REF!"}},{"$f":"IF(INDEX(所属名!$A$2:$C$177,個票データ１!$B161,3)=\"\",\"\",INDEX(所属名!$A$2:$C$177,個票データ１!$B161,3))","v":{"$error":"#REF!"}},{"$f":"IF(#REF!>=0,#REF!)","v":{"$error":"#REF!"}},{"$f":"IF(#REF!>=0,#REF!)","v":{"$error":"#REF!"}},{"$f":"IF(#REF!>=0,#REF!)","v":{"$error":"#REF!"}},{"$f":"IF(#REF!>=0,#REF!)","v":{"$error":"#REF!"}},{"$error":"#REF!"},{"$f":"IF(#REF!>=0,#REF!)","v":{"$error":"#REF!"}},{"$f":"IF(#REF!>=0,#REF!)","v":{"$error":"#REF!"}},{"$f":"IF(#REF!>=0,#REF!)","v":{"$error":"#REF!"}},{"$f":"IF(ISERROR(VLOOKUP(J161,#REF!,2,0)),\"\",VLOOKUP(J161,#REF!,2,0))","v":""}]
[161,{"$f":"IF(#REF!>=0,#REF!)","v":{"$error":"#REF!"}},{"$f":"IF(INDEX(所属名!$A$2:$C$177,個票データ１!$B162,3)=\"\",\"\",INDEX(所属名!$A$2:$C$177,個票データ１!$B162,3))","v":{"$error":"#REF!"}},{"$f":"IF(#REF!>=0,#REF!)","v":{"$error":"#REF!"}},{"$f":"IF(#REF!>=0,#REF!)","v":{"$error":"#REF!"}},{"$f":"IF(#REF!>=0,#REF!)","v":{"$error":"#REF!"}},{"$f":"IF(#REF!>=0,#REF!)","v":{"$error":"#REF!"}},{"$error":"#REF!"},{"$f":"IF(#REF!>=0,#REF!)","v":{"$error":"#REF!"}},{"$f":"IF(#REF!>=0,#REF!)","v":{"$error":"#REF!"}},{"$f":"IF(#REF!>=0,#REF!)","v":{"$error":"#REF!"}},{"$f":"IF(ISERROR(VLOOKUP(J162,#REF!,2,0)),\"\",VLOOKUP(J162,#REF!,2,0))","v":""}]
[162,{"$f":"IF(#REF!>=0,#REF!)","v":{"$error":"#REF!"}},{"$f":"IF(INDEX(所属名!$A$2:$C$177,個票データ１!$B163,3)=\"\",\"\",INDEX(所属名!$A$2:$C$177,個票データ１!$B163,3))","v":{"$error":"#REF!"}},{"$f":"IF(#REF!>=0,#REF!)","v":{"$error":"#REF!"}},{"$f":"IF(#REF!>=0,#REF!)","v":{"$error":"#REF!"}},{"$f":"IF(#REF!>=0,#REF!)","v":{"$error":"#REF!"}},{"$f":"IF(#REF!>=0,#REF!)","v":{"$error":"#REF!"}},{"$error":"#REF!"},{"$f":"IF(#REF!>=0,#REF!)","v":{"$error":"#REF!"}},{"$f":"IF(#REF!>=0,#REF!)","v":{"$error":"#REF!"}},{"$f":"IF(#REF!>=0,#REF!)","v":{"$error":"#REF!"}},{"$f":"IF(ISERROR(VLOOKUP(J163,#REF!,2,0)),\"\",VLOOKUP(J163,#REF!,2,0))","v":""}]
[163,{"$f":"IF(#REF!>=0,#REF!)","v":{"$error":"#REF!"}},{"$f":"IF(INDEX(所属名!$A$2:$C$177,個票データ１!$B164,3)=\"\",\"\",INDEX(所属名!$A$2:$C$177,個票データ１!$B164,3))","v":{"$error":"#REF!"}},{"$f":"IF(#REF!>=0,#REF!)","v":{"$error":"#REF!"}},{"$f":"IF(#REF!>=0,#REF!)","v":{"$error":"#REF!"}},{"$f":"IF(#REF!>=0,#REF!)","v":{"$error":"#REF!"}},{"$f":"IF(#REF!>=0,#REF!)","v":{"$error":"#REF!"}},{"$error":"#REF!"},{"$f":"IF(#REF!>=0,#REF!)","v":{"$error":"#REF!"}},{"$f":"IF(#REF!>=0,#REF!)","v":{"$error":"#REF!"}},{"$f":"IF(#REF!>=0,#REF!)","v":{"$error":"#REF!"}},{"$f":"IF(ISERROR(VLOOKUP(J164,#REF!,2,0)),\"\",VLOOKUP(J164,#REF!,2,0))","v":""}]
[164,{"$f":"IF(#REF!>=0,#REF!)","v":{"$error":"#REF!"}},{"$f":"IF(INDEX(所属名!$A$2:$C$177,個票データ１!$B165,3)=\"\",\"\",INDEX(所属名!$A$2:$C$177,個票データ１!$B165,3))","v":{"$error":"#REF!"}},{"$f":"IF(#REF!>=0,#REF!)","v":{"$error":"#REF!"}},{"$f":"IF(#REF!>=0,#REF!)","v":{"$error":"#REF!"}},{"$f":"IF(#REF!>=0,#REF!)","v":{"$error":"#REF!"}},{"$f":"IF(#REF!>=0,#REF!)","v":{"$error":"#REF!"}},{"$error":"#REF!"},{"$f":"IF(#REF!>=0,#REF!)","v":{"$error":"#REF!"}},{"$f":"IF(#REF!>=0,#REF!)","v":{"$error":"#REF!"}},{"$f":"IF(#REF!>=0,#REF!)","v":{"$error":"#REF!"}},{"$f":"IF(ISERROR(VLOOKUP(J165,#REF!,2,0)),\"\",VLOOKUP(J165,#REF!,2,0))","v":""}]
[165,{"$f":"IF(#REF!>=0,#REF!)","v":{"$error":"#REF!"}},{"$f":"IF(INDEX(所属名!$A$2:$C$177,個票データ１!$B166,3)=\"\",\"\",INDEX(所属名!$A$2:$C$177,個票データ１!$B166,3))","v":{"$error":"#REF!"}},{"$f":"IF(#REF!>=0,#REF!)","v":{"$error":"#REF!"}},{"$f":"IF(#REF!>=0,#REF!)","v":{"$error":"#REF!"}},{"$f":"IF(#REF!>=0,#REF!)","v":{"$error":"#REF!"}},{"$f":"IF(#REF!>=0,#REF!)","v":{"$error":"#REF!"}},{"$error":"#REF!"},{"$f":"IF(#REF!>=0,#REF!)","v":{"$error":"#REF!"}},{"$f":"IF(#REF!>=0,#REF!)","v":{"$error":"#REF!"}},{"$f":"IF(#REF!>=0,#REF!)","v":{"$error":"#REF!"}},{"$f":"IF(ISERROR(VLOOKUP(J166,#REF!,2,0)),\"\",VLOOKUP(J166,#REF!,2,0))","v":""}]
[166,{"$f":"IF(#REF!>=0,#REF!)","v":{"$error":"#REF!"}},{"$f":"IF(INDEX(所属名!$A$2:$C$177,個票データ１!$B167,3)=\"\",\"\",INDEX(所属名!$A$2:$C$177,個票データ１!$B167,3))","v":{"$error":"#REF!"}},{"$f":"IF(#REF!>=0,#REF!)","v":{"$error":"#REF!"}},{"$f":"IF(#REF!>=0,#REF!)","v":{"$error":"#REF!"}},{"$f":"IF(#REF!>=0,#REF!)","v":{"$error":"#REF!"}},{"$f":"IF(#REF!>=0,#REF!)","v":{"$error":"#REF!"}},{"$error":"#REF!"},{"$f":"IF(#REF!>=0,#REF!)","v":{"$error":"#REF!"}},{"$f":"IF(#REF!>=0,#REF!)","v":{"$error":"#REF!"}},{"$f":"IF(#REF!>=0,#REF!)","v":{"$error":"#REF!"}},{"$f":"IF(ISERROR(VLOOKUP(J167,#REF!,2,0)),\"\",VLOOKUP(J167,#REF!,2,0))","v":""}]
[167,{"$f":"IF(#REF!>=0,#REF!)","v":{"$error":"#REF!"}},{"$f":"IF(INDEX(所属名!$A$2:$C$177,個票データ１!$B168,3)=\"\",\"\",INDEX(所属名!$A$2:$C$177,個票データ１!$B168,3))","v":{"$error":"#REF!"}},{"$f":"IF(#REF!>=0,#REF!)","v":{"$error":"#REF!"}},{"$f":"IF(#REF!>=0,#REF!)","v":{"$error":"#REF!"}},{"$f":"IF(#REF!>=0,#REF!)","v":{"$error":"#REF!"}},{"$f":"IF(#REF!>=0,#REF!)","v":{"$error":"#REF!"}},{"$error":"#REF!"},{"$f":"IF(#REF!>=0,#REF!)","v":{"$error":"#REF!"}},{"$f":"IF(#REF!>=0,#REF!)","v":{"$error":"#REF!"}},{"$f":"IF(#REF!>=0,#REF!)","v":{"$error":"#REF!"}},{"$f":"IF(ISERROR(VLOOKUP(J168,#REF!,2,0)),\"\",VLOOKUP(J168,#REF!,2,0))","v":""}]
[168,{"$f":"IF(#REF!>=0,#REF!)","v":{"$error":"#REF!"}},{"$f":"IF(INDEX(所属名!$A$2:$C$177,個票データ１!$B169,3)=\"\",\"\",INDEX(所属名!$A$2:$C$177,個票データ１!$B169,3))","v":{"$error":"#REF!"}},{"$f":"IF(#REF!>=0,#REF!)","v":{"$error":"#REF!"}},{"$f":"IF(#REF!>=0,#REF!)","v":{"$error":"#REF!"}},{"$f":"IF(#REF!>=0,#REF!)","v":{"$error":"#REF!"}},{"$f":"IF(#REF!>=0,#REF!)","v":{"$error":"#REF!"}},{"$error":"#REF!"},{"$f":"IF(#REF!>=0,#REF!)","v":{"$error":"#REF!"}},{"$f":"IF(#REF!>=0,#REF!)","v":{"$error":"#REF!"}},{"$f":"IF(#REF!>=0,#REF!)","v":{"$error":"#REF!"}},{"$f":"IF(ISERROR(VLOOKUP(J169,#REF!,2,0)),\"\",VLOOKUP(J169,#REF!,2,0))","v":""}]
[169,{"$f":"IF(#REF!>=0,#REF!)","v":{"$error":"#REF!"}},{"$f":"IF(INDEX(所属名!$A$2:$C$177,個票データ１!$B170,3)=\"\",\"\",INDEX(所属名!$A$2:$C$177,個票データ１!$B170,3))","v":{"$error":"#REF!"}},{"$f":"IF(#REF!>=0,#REF!)","v":{"$error":"#REF!"}},{"$f":"IF(#REF!>=0,#REF!)","v":{"$error":"#REF!"}},{"$f":"IF(#REF!>=0,#REF!)","v":{"$error":"#REF!"}},{"$f":"IF(#REF!>=0,#REF!)","v":{"$error":"#REF!"}},{"$error":"#REF!"},{"$f":"IF(#REF!>=0,#REF!)","v":{"$error":"#REF!"}},{"$f":"IF(#REF!>=0,#REF!)","v":{"$error":"#REF!"}},{"$f":"IF(#REF!>=0,#REF!)","v":{"$error":"#REF!"}},{"$f":"IF(ISERROR(VLOOKUP(J170,#REF!,2,0)),\"\",VLOOKUP(J170,#REF!,2,0))","v":""}]
[170,{"$f":"IF(#REF!>=0,#REF!)","v":{"$error":"#REF!"}},{"$f":"IF(INDEX(所属名!$A$2:$C$177,個票データ１!$B171,3)=\"\",\"\",INDEX(所属名!$A$2:$C$177,個票データ１!$B171,3))","v":{"$error":"#REF!"}},{"$f":"IF(#REF!>=0,#REF!)","v":{"$error":"#REF!"}},{"$f":"IF(#REF!>=0,#REF!)","v":{"$error":"#REF!"}},{"$f":"IF(#REF!>=0,#REF!)","v":{"$error":"#REF!"}},{"$f":"IF(#REF!>=0,#REF!)","v":{"$error":"#REF!"}},{"$error":"#REF!"},{"$f":"IF(#REF!>=0,#REF!)","v":{"$error":"#REF!"}},{"$f":"IF(#REF!>=0,#REF!)","v":{"$error":"#REF!"}},{"$f":"IF(#REF!>=0,#REF!)","v":{"$error":"#REF!"}},{"$f":"IF(ISERROR(VLOOKUP(J171,#REF!,2,0)),\"\",VLOOKUP(J171,#REF!,2,0))","v":""}]
[171,{"$f":"IF(#REF!>=0,#REF!)","v":{"$error":"#REF!"}},{"$f":"IF(INDEX(所属名!$A$2:$C$177,個票データ１!$B172,3)=\"\",\"\",INDEX(所属名!$A$2:$C$177,個票データ１!$B172,3))","v":{"$error":"#REF!"}},{"$f":"IF(#REF!>=0,#REF!)","v":{"$error":"#REF!"}},{"$f":"IF(#REF!>=0,#REF!)","v":{"$error":"#REF!"}},{"$f":"IF(#REF!>=0,#REF!)","v":{"$error":"#REF!"}},{"$f":"IF(#REF!>=0,#REF!)","v":{"$error":"#REF!"}},{"$error":"#REF!"},{"$f":"IF(#REF!>=0,#REF!)","v":{"$error":"#REF!"}},{"$f":"IF(#REF!>=0,#REF!)","v":{"$error":"#REF!"}},{"$f":"IF(#REF!>=0,#REF!)","v":{"$error":"#REF!"}},{"$f":"IF(ISERROR(VLOOKUP(J172,#REF!,2,0)),\"\",VLOOKUP(J172,#REF!,2,0))","v":""}]
[172,{"$f":"IF(#REF!>=0,#REF!)","v":{"$error":"#REF!"}},{"$f":"IF(INDEX(所属名!$A$2:$C$177,個票データ１!$B173,3)=\"\",\"\",INDEX(所属名!$A$2:$C$177,個票データ１!$B173,3))","v":{"$error":"#REF!"}},{"$f":"IF(#REF!>=0,#REF!)","v":{"$error":"#REF!"}},{"$f":"IF(#REF!>=0,#REF!)","v":{"$error":"#REF!"}},{"$f":"IF(#REF!>=0,#REF!)","v":{"$error":"#REF!"}},{"$f":"IF(#REF!>=0,#REF!)","v":{"$error":"#REF!"}},{"$f":"IF(G173=1,\"男\",IF(G173=2,\"女\",\"\"))","v":{"$error":"#REF!"}},{"$f":"IF(#REF!>=0,#REF!)","v":{"$error":"#REF!"}},{"$f":"IF(#REF!>=0,#REF!)","v":{"$error":"#REF!"}},{"$f":"IF(#REF!>=0,#REF!)","v":{"$error":"#REF!"}},{"$f":"IF(ISERROR(VLOOKUP(J173,#REF!,2,0)),\"\",VLOOKUP(J173,#REF!,2,0))","v":""}]
[173,{"$f":"IF(#REF!>=0,#REF!)","v":{"$error":"#REF!"}},{"$f":"IF(INDEX(所属名!$A$2:$C$177,個票データ１!$B174,3)=\"\",\"\",INDEX(所属名!$A$2:$C$177,個票データ１!$B174,3))","v":{"$error":"#REF!"}},{"$f":"IF(#REF!>=0,#REF!)","v":{"$error":"#REF!"}},{"$f":"IF(#REF!>=0,#REF!)","v":{"$error":"#REF!"}},{"$f":"IF(#REF!>=0,#REF!)","v":{"$error":"#REF!"}},{"$f":"IF(#REF!>=0,#REF!)","v":{"$error":"#REF!"}},{"$error":"#REF!"},{"$f":"IF(#REF!>=0,#REF!)","v":{"$error":"#REF!"}},{"$f":"IF(#REF!>=0,#REF!)","v":{"$error":"#REF!"}},{"$f":"IF(#REF!>=0,#REF!)","v":{"$error":"#REF!"}},{"$f":"IF(ISERROR(VLOOKUP(J174,#REF!,2,0)),\"\",VLOOKUP(J174,#REF!,2,0))","v":""}]
[174,{"$f":"IF(#REF!>=0,#REF!)","v":{"$error":"#REF!"}},{"$f":"IF(INDEX(所属名!$A$2:$C$177,個票データ１!$B175,3)=\"\",\"\",INDEX(所属名!$A$2:$C$177,個票データ１!$B175,3))","v":{"$error":"#REF!"}},{"$f":"IF(#REF!>=0,#REF!)","v":{"$error":"#REF!"}},{"$f":"IF(#REF!>=0,#REF!)","v":{"$error":"#REF!"}},{"$f":"IF(#REF!>=0,#REF!)","v":{"$error":"#REF!"}},{"$f":"IF(#REF!>=0,#REF!)","v":{"$error":"#REF!"}},{"$error":"#REF!"},{"$f":"IF(#REF!>=0,#REF!)","v":{"$error":"#REF!"}},{"$f":"IF(#REF!>=0,#REF!)","v":{"$error":"#REF!"}},{"$f":"IF(#REF!>=0,#REF!)","v":{"$error":"#REF!"}},{"$f":"IF(ISERROR(VLOOKUP(J175,#REF!,2,0)),\"\",VLOOKUP(J175,#REF!,2,0))","v":""}]
[175,{"$f":"IF(#REF!>=0,#REF!)","v":{"$error":"#REF!"}},{"$f":"IF(INDEX(所属名!$A$2:$C$177,個票データ１!$B176,3)=\"\",\"\",INDEX(所属名!$A$2:$C$177,個票データ１!$B176,3))","v":{"$error":"#REF!"}},{"$f":"IF(#REF!>=0,#REF!)","v":{"$error":"#REF!"}},{"$f":"IF(#REF!>=0,#REF!)","v":{"$error":"#REF!"}},{"$f":"IF(#REF!>=0,#REF!)","v":{"$error":"#REF!"}},{"$f":"IF(#REF!>=0,#REF!)","v":{"$error":"#REF!"}},{"$error":"#REF!"},{"$f":"IF(#REF!>=0,#REF!)","v":{"$error":"#REF!"}},{"$f":"IF(#REF!>=0,#REF!)","v":{"$error":"#REF!"}},{"$f":"IF(#REF!>=0,#REF!)","v":{"$error":"#REF!"}},{"$f":"IF(ISERROR(VLOOKUP(J176,#REF!,2,0)),\"\",VLOOKUP(J176,#REF!,2,0))","v":""}]
[176,{"$f":"IF(#REF!>=0,#REF!)","v":{"$error":"#REF!"}},{"$f":"IF(INDEX(所属名!$A$2:$C$177,個票データ１!$B177,3)=\"\",\"\",INDEX(所属名!$A$2:$C$177,個票データ１!$B177,3))","v":{"$error":"#REF!"}},{"$f":"IF(#REF!>=0,#REF!)","v":{"$error":"#REF!"}},{"$f":"IF(#REF!>=0,#REF!)","v":{"$error":"#REF!"}},{"$f":"IF(#REF!>=0,#REF!)","v":{"$error":"#REF!"}},{"$f":"IF(#REF!>=0,#REF!)","v":{"$error":"#REF!"}},{"$error":"#REF!"},{"$f":"IF(#REF!>=0,#REF!)","v":{"$error":"#REF!"}},{"$f":"IF(#REF!>=0,#REF!)","v":{"$error":"#REF!"}},{"$f":"IF(#REF!>=0,#REF!)","v":{"$error":"#REF!"}},{"$f":"IF(ISERROR(VLOOKUP(J177,#REF!,2,0)),\"\",VLOOKUP(J177,#REF!,2,0))","v":""}]
[177,{"$f":"IF(#REF!>=0,#REF!)","v":{"$error":"#REF!"}},{"$f":"IF(INDEX(所属名!$A$2:$C$177,個票データ１!$B178,3)=\"\",\"\",INDEX(所属名!$A$2:$C$177,個票データ１!$B178,3))","v":{"$error":"#REF!"}},{"$f":"IF(#REF!>=0,#REF!)","v":{"$error":"#REF!"}},{"$f":"IF(#REF!>=0,#REF!)","v":{"$error":"#REF!"}},{"$f":"IF(#REF!>=0,#REF!)","v":{"$error":"#REF!"}},{"$f":"IF(#REF!>=0,#REF!)","v":{"$error":"#REF!"}},{"$error":"#REF!"},{"$f":"IF(#REF!>=0,#REF!)","v":{"$error":"#REF!"}},{"$f":"IF(#REF!>=0,#REF!)","v":{"$error":"#REF!"}},{"$f":"IF(#REF!>=0,#REF!)","v":{"$error":"#REF!"}},{"$f":"IF(ISERROR(VLOOKUP(J178,#REF!,2,0)),\"\",VLOOKUP(J178,#REF!,2,0))","v":""}]
[178,{"$f":"IF(#REF!>=0,#REF!)","v":{"$error":"#REF!"}},{"$f":"IF(INDEX(所属名!$A$2:$C$177,個票データ１!$B179,3)=\"\",\"\",INDEX(所属名!$A$2:$C$177,個票データ１!$B179,3))","v":{"$error":"#REF!"}},{"$f":"IF(#REF!>=0,#REF!)","v":{"$error":"#REF!"}},{"$f":"IF(#REF!>=0,#REF!)","v":{"$error":"#REF!"}},{"$f":"IF(#REF!>=0,#REF!)","v":{"$error":"#REF!"}},{"$f":"IF(#REF!>=0,#REF!)","v":{"$error":"#REF!"}},{"$error":"#REF!"},{"$f":"IF(#REF!>=0,#REF!)","v":{"$error":"#REF!"}},{"$f":"IF(#REF!>=0,#REF!)","v":{"$error":"#REF!"}},{"$f":"IF(#REF!>=0,#REF!)","v":{"$error":"#REF!"}},{"$f":"IF(ISERROR(VLOOKUP(J179,#REF!,2,0)),\"\",VLOOKUP(J179,#REF!,2,0))","v":""}]
[179,{"$f":"IF(#REF!>=0,#REF!)","v":{"$error":"#REF!"}},{"$f":"IF(INDEX(所属名!$A$2:$C$177,個票データ１!$B180,3)=\"\",\"\",INDEX(所属名!$A$2:$C$177,個票データ１!$B180,3))","v":{"$error":"#REF!"}},{"$f":"IF(#REF!>=0,#REF!)","v":{"$error":"#REF!"}},{"$f":"IF(#REF!>=0,#REF!)","v":{"$error":"#REF!"}},{"$f":"IF(#REF!>=0,#REF!)","v":{"$error":"#REF!"}},{"$f":"IF(#REF!>=0,#REF!)","v":{"$error":"#REF!"}},{"$error":"#REF!"},{"$f":"IF(#REF!>=0,#REF!)","v":{"$error":"#REF!"}},{"$f":"IF(#REF!>=0,#REF!)","v":{"$error":"#REF!"}},{"$f":"IF(#REF!>=0,#REF!)","v":{"$error":"#REF!"}},{"$f":"IF(ISERROR(VLOOKUP(J180,#REF!,2,0)),\"\",VLOOKUP(J180,#REF!,2,0))","v":""}]
[180,{"$f":"IF(#REF!>=0,#REF!)","v":{"$error":"#REF!"}},{"$f":"IF(INDEX(所属名!$A$2:$C$177,個票データ１!$B181,3)=\"\",\"\",INDEX(所属名!$A$2:$C$177,個票データ１!$B181,3))","v":{"$error":"#REF!"}},{"$f":"IF(#REF!>=0,#REF!)","v":{"$error":"#REF!"}},{"$f":"IF(#REF!>=0,#REF!)","v":{"$error":"#REF!"}},{"$f":"IF(#REF!>=0,#REF!)","v":{"$error":"#REF!"}},{"$f":"IF(#REF!>=0,#REF!)","v":{"$error":"#REF!"}},{"$error":"#REF!"},{"$f":"IF(#REF!>=0,#REF!)","v":{"$error":"#REF!"}},{"$f":"IF(#REF!>=0,#REF!)","v":{"$error":"#REF!"}},{"$f":"IF(#REF!>=0,#REF!)","v":{"$error":"#REF!"}},{"$f":"IF(ISERROR(VLOOKUP(J181,#REF!,2,0)),\"\",VLOOKUP(J181,#REF!,2,0))","v":""}]
[181,{"$f":"IF(#REF!>=0,#REF!)","v":{"$error":"#REF!"}},{"$f":"IF(INDEX(所属名!$A$2:$C$177,個票データ１!$B182,3)=\"\",\"\",INDEX(所属名!$A$2:$C$177,個票データ１!$B182,3))","v":{"$error":"#REF!"}},{"$f":"IF(#REF!>=0,#REF!)","v":{"$error":"#REF!"}},{"$f":"IF(#REF!>=0,#REF!)","v":{"$error":"#REF!"}},{"$f":"IF(#REF!>=0,#REF!)","v":{"$error":"#REF!"}},{"$f":"IF(#REF!>=0,#REF!)","v":{"$error":"#REF!"}},{"$error":"#REF!"},{"$f":"IF(#REF!>=0,#REF!)","v":{"$error":"#REF!"}},{"$f":"IF(#REF!>=0,#REF!)","v":{"$error":"#REF!"}},{"$f":"IF(#REF!>=0,#REF!)","v":{"$error":"#REF!"}},{"$f":"IF(ISERROR(VLOOKUP(J182,#REF!,2,0)),\"\",VLOOKUP(J182,#REF!,2,0))","v":""}]
[182,{"$f":"IF(#REF!>=0,#REF!)","v":{"$error":"#REF!"}},{"$f":"IF(INDEX(所属名!$A$2:$C$177,個票データ１!$B183,3)=\"\",\"\",INDEX(所属名!$A$2:$C$177,個票データ１!$B183,3))","v":{"$error":"#REF!"}},{"$f":"IF(#REF!>=0,#REF!)","v":{"$error":"#REF!"}},{"$f":"IF(#REF!>=0,#REF!)","v":{"$error":"#REF!"}},{"$f":"IF(#REF!>=0,#REF!)","v":{"$error":"#REF!"}},{"$f":"IF(#REF!>=0,#REF!)","v":{"$error":"#REF!"}},{"$error":"#REF!"},{"$f":"IF(#REF!>=0,#REF!)","v":{"$error":"#REF!"}},{"$f":"IF(#REF!>=0,#REF!)","v":{"$error":"#REF!"}},{"$f":"IF(#REF!>=0,#REF!)","v":{"$error":"#REF!"}},{"$f":"IF(ISERROR(VLOOKUP(J183,#REF!,2,0)),\"\",VLOOKUP(J183,#REF!,2,0))","v":""}]
[183,{"$f":"IF(#REF!>=0,#REF!)","v":{"$error":"#REF!"}},{"$f":"IF(INDEX(所属名!$A$2:$C$177,個票データ１!$B184,3)=\"\",\"\",INDEX(所属名!$A$2:$C$177,個票データ１!$B184,3))","v":{"$error":"#REF!"}},{"$f":"IF(#REF!>=0,#REF!)","v":{"$error":"#REF!"}},{"$f":"IF(#REF!>=0,#REF!)","v":{"$error":"#REF!"}},{"$f":"IF(#REF!>=0,#REF!)","v":{"$error":"#REF!"}},{"$f":"IF(#REF!>=0,#REF!)","v":{"$error":"#REF!"}},{"$error":"#REF!"},{"$f":"IF(#REF!>=0,#REF!)","v":{"$error":"#REF!"}},{"$f":"IF(#REF!>=0,#REF!)","v":{"$error":"#REF!"}},{"$f":"IF(#REF!>=0,#REF!)","v":{"$error":"#REF!"}},{"$f":"IF(ISERROR(VLOOKUP(J184,#REF!,2,0)),\"\",VLOOKUP(J184,#REF!,2,0))","v":""}]
[184,{"$f":"IF(#REF!>=0,#REF!)","v":{"$error":"#REF!"}},{"$f":"IF(INDEX(所属名!$A$2:$C$177,個票データ１!$B185,3)=\"\",\"\",INDEX(所属名!$A$2:$C$177,個票データ１!$B185,3))","v":{"$error":"#REF!"}},{"$f":"IF(#REF!>=0,#REF!)","v":{"$error":"#REF!"}},{"$f":"IF(#REF!>=0,#REF!)","v":{"$error":"#REF!"}},{"$f":"IF(#REF!>=0,#REF!)","v":{"$error":"#REF!"}},{"$f":"IF(#REF!>=0,#REF!)","v":{"$error":"#REF!"}},{"$error":"#REF!"},{"$f":"IF(#REF!>=0,#REF!)","v":{"$error":"#REF!"}},{"$f":"IF(#REF!>=0,#REF!)","v":{"$error":"#REF!"}},{"$f":"IF(#REF!>=0,#REF!)","v":{"$error":"#REF!"}},{"$f":"IF(ISERROR(VLOOKUP(J185,#REF!,2,0)),\"\",VLOOKUP(J185,#REF!,2,0))","v":""}]
[185,{"$f":"IF(#REF!>=0,#REF!)","v":{"$error":"#REF!"}},{"$f":"IF(INDEX(所属名!$A$2:$C$177,個票データ１!$B186,3)=\"\",\"\",INDEX(所属名!$A$2:$C$177,個票データ１!$B186,3))","v":{"$error":"#REF!"}},{"$f":"IF(#REF!>=0,#REF!)","v":{"$error":"#REF!"}},{"$f":"IF(#REF!>=0,#REF!)","v":{"$error":"#REF!"}},{"$f":"IF(#REF!>=0,#REF!)","v":{"$error":"#REF!"}},{"$f":"IF(#REF!>=0,#REF!)","v":{"$error":"#REF!"}},{"$error":"#REF!"},{"$f":"IF(#REF!>=0,#REF!)","v":{"$error":"#REF!"}},{"$f":"IF(#REF!>=0,#REF!)","v":{"$error":"#REF!"}},{"$f":"IF(#REF!>=0,#REF!)","v":{"$error":"#REF!"}},{"$f":"IF(ISERROR(VLOOKUP(J186,#REF!,2,0)),\"\",VLOOKUP(J186,#REF!,2,0))","v":""}]
[186,{"$f":"IF(#REF!>=0,#REF!)","v":{"$error":"#REF!"}},{"$f":"IF(INDEX(所属名!$A$2:$C$177,個票データ１!$B187,3)=\"\",\"\",INDEX(所属名!$A$2:$C$177,個票データ１!$B187,3))","v":{"$error":"#REF!"}},{"$f":"IF(#REF!>=0,#REF!)","v":{"$error":"#REF!"}},{"$f":"IF(#REF!>=0,#REF!)","v":{"$error":"#REF!"}},{"$f":"IF(#REF!>=0,#REF!)","v":{"$error":"#REF!"}},{"$f":"IF(#REF!>=0,#REF!)","v":{"$error":"#REF!"}},{"$error":"#REF!"},{"$f":"IF(#REF!>=0,#REF!)","v":{"$error":"#REF!"}},{"$f":"IF(#REF!>=0,#REF!)","v":{"$error":"#REF!"}},{"$f":"IF(#REF!>=0,#REF!)","v":{"$error":"#REF!"}},{"$f":"IF(ISERROR(VLOOKUP(J187,#REF!,2,0)),\"\",VLOOKUP(J187,#REF!,2,0))","v":""}]
[187,{"$f":"IF(#REF!>=0,#REF!)","v":{"$error":"#REF!"}},{"$f":"IF(INDEX(所属名!$A$2:$C$177,個票データ１!$B188,3)=\"\",\"\",INDEX(所属名!$A$2:$C$177,個票データ１!$B188,3))","v":{"$error":"#REF!"}},{"$f":"IF(#REF!>=0,#REF!)","v":{"$error":"#REF!"}},{"$f":"IF(#REF!>=0,#REF!)","v":{"$error":"#REF!"}},{"$f":"IF(#REF!>=0,#REF!)","v":{"$error":"#REF!"}},{"$f":"IF(#REF!>=0,#REF!)","v":{"$error":"#REF!"}},{"$error":"#REF!"},{"$f":"IF(#REF!>=0,#REF!)","v":{"$error":"#REF!"}},{"$f":"IF(#REF!>=0,#REF!)","v":{"$error":"#REF!"}},{"$f":"IF(#REF!>=0,#REF!)","v":{"$error":"#REF!"}},{"$f":"IF(ISERROR(VLOOKUP(J188,#REF!,2,0)),\"\",VLOOKUP(J188,#REF!,2,0))","v":""}]
[188,{"$f":"IF(#REF!>=0,#REF!)","v":{"$error":"#REF!"}},{"$f":"IF(INDEX(所属名!$A$2:$C$177,個票データ１!$B189,3)=\"\",\"\",INDEX(所属名!$A$2:$C$177,個票データ１!$B189,3))","v":{"$error":"#REF!"}},{"$f":"IF(#REF!>=0,#REF!)","v":{"$error":"#REF!"}},{"$f":"IF(#REF!>=0,#REF!)","v":{"$error":"#REF!"}},{"$f":"IF(#REF!>=0,#REF!)","v":{"$error":"#REF!"}},{"$f":"IF(#REF!>=0,#REF!)","v":{"$error":"#REF!"}},{"$error":"#REF!"},{"$f":"IF(#REF!>=0,#REF!)","v":{"$error":"#REF!"}},{"$f":"IF(#REF!>=0,#REF!)","v":{"$error":"#REF!"}},{"$f":"IF(#REF!>=0,#REF!)","v":{"$error":"#REF!"}},{"$f":"IF(ISERROR(VLOOKUP(J189,#REF!,2,0)),\"\",VLOOKUP(J189,#REF!,2,0))","v":""}]
[189,{"$f":"IF(#REF!>=0,#REF!)","v":{"$error":"#REF!"}},{"$f":"IF(INDEX(所属名!$A$2:$C$177,個票データ１!$B190,3)=\"\",\"\",INDEX(所属名!$A$2:$C$177,個票データ１!$B190,3))","v":{"$error":"#REF!"}},{"$f":"IF(#REF!>=0,#REF!)","v":{"$error":"#REF!"}},{"$f":"IF(#REF!>=0,#REF!)","v":{"$error":"#REF!"}},{"$f":"IF(#REF!>=0,#REF!)","v":{"$error":"#REF!"}},{"$f":"IF(#REF!>=0,#REF!)","v":{"$error":"#REF!"}},{"$error":"#REF!"},{"$f":"IF(#REF!>=0,#REF!)","v":{"$error":"#REF!"}},{"$f":"IF(#REF!>=0,#REF!)","v":{"$error":"#REF!"}},{"$f":"IF(#REF!>=0,#REF!)","v":{"$error":"#REF!"}},{"$f":"IF(ISERROR(VLOOKUP(J190,#REF!,2,0)),\"\",VLOOKUP(J190,#REF!,2,0))","v":""}]
[190,{"$f":"IF(#REF!>=0,#REF!)","v":{"$error":"#REF!"}},{"$f":"IF(INDEX(所属名!$A$2:$C$177,個票データ１!$B191,3)=\"\",\"\",INDEX(所属名!$A$2:$C$177,個票データ１!$B191,3))","v":{"$error":"#REF!"}},{"$f":"IF(#REF!>=0,#REF!)","v":{"$error":"#REF!"}},{"$f":"IF(#REF!>=0,#REF!)","v":{"$error":"#REF!"}},{"$f":"IF(#REF!>=0,#REF!)","v":{"$error":"#REF!"}},{"$f":"IF(#REF!>=0,#REF!)","v":{"$error":"#REF!"}},{"$error":"#REF!"},{"$f":"IF(#REF!>=0,#REF!)","v":{"$error":"#REF!"}},{"$f":"IF(#REF!>=0,#REF!)","v":{"$error":"#REF!"}},{"$f":"IF(#REF!>=0,#REF!)","v":{"$error":"#REF!"}},{"$f":"IF(ISERROR(VLOOKUP(J191,#REF!,2,0)),\"\",VLOOKUP(J191,#REF!,2,0))","v":""}]
[191,{"$f":"IF(#REF!>=0,#REF!)","v":{"$error":"#REF!"}},{"$f":"IF(INDEX(所属名!$A$2:$C$177,個票データ１!$B192,3)=\"\",\"\",INDEX(所属名!$A$2:$C$177,個票データ１!$B192,3))","v":{"$error":"#REF!"}},{"$f":"IF(#REF!>=0,#REF!)","v":{"$error":"#REF!"}},{"$f":"IF(#REF!>=0,#REF!)","v":{"$error":"#REF!"}},{"$f":"IF(#REF!>=0,#REF!)","v":{"$error":"#REF!"}},{"$f":"IF(#REF!>=0,#REF!)","v":{"$error":"#REF!"}},{"$error":"#REF!"},{"$f":"IF(#REF!>=0,#REF!)","v":{"$error":"#REF!"}},{"$f":"IF(#REF!>=0,#REF!)","v":{"$error":"#REF!"}},{"$f":"IF(#REF!>=0,#REF!)","v":{"$error":"#REF!"}},{"$f":"IF(ISERROR(VLOOKUP(J192,#REF!,2,0)),\"\",VLOOKUP(J192,#REF!,2,0))","v":""}]
[192,{"$f":"IF(#REF!>=0,#REF!)","v":{"$error":"#REF!"}},{"$f":"IF(INDEX(所属名!$A$2:$C$177,個票データ１!$B193,3)=\"\",\"\",INDEX(所属名!$A$2:$C$177,個票データ１!$B193,3))","v":{"$error":"#REF!"}},{"$f":"IF(#REF!>=0,#REF!)","v":{"$error":"#REF!"}},{"$f":"IF(#REF!>=0,#REF!)","v":{"$error":"#REF!"}},{"$f":"IF(#REF!>=0,#REF!)","v":{"$error":"#REF!"}},{"$f":"IF(#REF!>=0,#REF!)","v":{"$error":"#REF!"}},{"$error":"#REF!"},{"$f":"IF(#REF!>=0,#REF!)","v":{"$error":"#REF!"}},{"$f":"IF(#REF!>=0,#REF!)","v":{"$error":"#REF!"}},{"$f":"IF(#REF!>=0,#REF!)","v":{"$error":"#REF!"}},{"$f":"IF(ISERROR(VLOOKUP(J193,#REF!,2,0)),\"\",VLOOKUP(J193,#REF!,2,0))","v":""}]
[193,{"$f":"IF(#REF!>=0,#REF!)","v":{"$error":"#REF!"}},{"$f":"IF(INDEX(所属名!$A$2:$C$177,個票データ１!$B194,3)=\"\",\"\",INDEX(所属名!$A$2:$C$177,個票データ１!$B194,3))","v":{"$error":"#REF!"}},{"$f":"IF(#REF!>=0,#REF!)","v":{"$error":"#REF!"}},{"$f":"IF(#REF!>=0,#REF!)","v":{"$error":"#REF!"}},{"$f":"IF(#REF!>=0,#REF!)","v":{"$error":"#REF!"}},{"$f":"IF(#REF!>=0,#REF!)","v":{"$error":"#REF!"}},{"$error":"#REF!"},{"$f":"IF(#REF!>=0,#REF!)","v":{"$error":"#REF!"}},{"$f":"IF(#REF!>=0,#REF!)","v":{"$error":"#REF!"}},{"$f":"IF(#REF!>=0,#REF!)","v":{"$error":"#REF!"}},{"$f":"IF(ISERROR(VLOOKUP(J194,#REF!,2,0)),\"\",VLOOKUP(J194,#REF!,2,0))","v":""}]
[194,{"$f":"IF(#REF!>=0,#REF!)","v":{"$error":"#REF!"}},{"$f":"IF(INDEX(所属名!$A$2:$C$177,個票データ１!$B195,3)=\"\",\"\",INDEX(所属名!$A$2:$C$177,個票データ１!$B195,3))","v":{"$error":"#REF!"}},{"$f":"IF(#REF!>=0,#REF!)","v":{"$error":"#REF!"}},{"$f":"IF(#REF!>=0,#REF!)","v":{"$error":"#REF!"}},{"$f":"IF(#REF!>=0,#REF!)","v":{"$error":"#REF!"}},{"$f":"IF(#REF!>=0,#REF!)","v":{"$error":"#REF!"}},{"$error":"#REF!"},{"$f":"IF(#REF!>=0,#REF!)","v":{"$error":"#REF!"}},{"$f":"IF(#REF!>=0,#REF!)","v":{"$error":"#REF!"}},{"$f":"IF(#REF!>=0,#REF!)","v":{"$error":"#REF!"}},{"$f":"IF(ISERROR(VLOOKUP(J195,#REF!,2,0)),\"\",VLOOKUP(J195,#REF!,2,0))","v":""}]
[195,{"$f":"IF(#REF!>=0,#REF!)","v":{"$error":"#REF!"}},{"$f":"IF(INDEX(所属名!$A$2:$C$177,個票データ１!$B196,3)=\"\",\"\",INDEX(所属名!$A$2:$C$177,個票データ１!$B196,3))","v":{"$error":"#REF!"}},{"$f":"IF(#REF!>=0,#REF!)","v":{"$error":"#REF!"}},{"$f":"IF(#REF!>=0,#REF!)","v":{"$error":"#REF!"}},{"$f":"IF(#REF!>=0,#REF!)","v":{"$error":"#REF!"}},{"$f":"IF(#REF!>=0,#REF!)","v":{"$error":"#REF!"}},{"$error":"#REF!"},{"$f":"IF(#REF!>=0,#REF!)","v":{"$error":"#REF!"}},{"$f":"IF(#REF!>=0,#REF!)","v":{"$error":"#REF!"}},{"$f":"IF(#REF!>=0,#REF!)","v":{"$error":"#REF!"}},{"$f":"IF(ISERROR(VLOOKUP(J196,#REF!,2,0)),\"\",VLOOKUP(J196,#REF!,2,0))","v":""}]
[196,{"$f":"IF(#REF!>=0,#REF!)","v":{"$error":"#REF!"}},{"$f":"IF(INDEX(所属名!$A$2:$C$177,個票データ１!$B197,3)=\"\",\"\",INDEX(所属名!$A$2:$C$177,個票データ１!$B197,3))","v":{"$error":"#REF!"}},{"$f":"IF(#REF!>=0,#REF!)","v":{"$error":"#REF!"}},{"$f":"IF(#REF!>=0,#REF!)","v":{"$error":"#REF!"}},{"$f":"IF(#REF!>=0,#REF!)","v":{"$error":"#REF!"}},{"$f":"IF(#REF!>=0,#REF!)","v":{"$error":"#REF!"}},{"$error":"#REF!"},{"$f":"IF(#REF!>=0,#REF!)","v":{"$error":"#REF!"}},{"$f":"IF(#REF!>=0,#REF!)","v":{"$error":"#REF!"}},{"$f":"IF(#REF!>=0,#REF!)","v":{"$error":"#REF!"}},{"$f":"IF(ISERROR(VLOOKUP(J197,#REF!,2,0)),\"\",VLOOKUP(J197,#REF!,2,0))","v":""}]
[197,{"$f":"IF(#REF!>=0,#REF!)","v":{"$error":"#REF!"}},{"$f":"IF(INDEX(所属名!$A$2:$C$177,個票データ１!$B198,3)=\"\",\"\",INDEX(所属名!$A$2:$C$177,個票データ１!$B198,3))","v":{"$error":"#REF!"}},{"$f":"IF(#REF!>=0,#REF!)","v":{"$error":"#REF!"}},{"$f":"IF(#REF!>=0,#REF!)","v":{"$error":"#REF!"}},{"$f":"IF(#REF!>=0,#REF!)","v":{"$error":"#REF!"}},{"$f":"IF(#REF!>=0,#REF!)","v":{"$error":"#REF!"}},{"$error":"#REF!"},{"$f":"IF(#REF!>=0,#REF!)","v":{"$error":"#REF!"}},{"$f":"IF(#REF!>=0,#REF!)","v":{"$error":"#REF!"}},{"$f":"IF(#REF!>=0,#REF!)","v":{"$error":"#REF!"}},{"$f":"IF(ISERROR(VLOOKUP(J198,#REF!,2,0)),\"\",VLOOKUP(J198,#REF!,2,0))","v":""}]
[198,{"$f":"IF(#REF!>=0,#REF!)","v":{"$error":"#REF!"}},{"$f":"IF(INDEX(所属名!$A$2:$C$177,個票データ１!$B199,3)=\"\",\"\",INDEX(所属名!$A$2:$C$177,個票データ１!$B199,3))","v":{"$error":"#REF!"}},{"$f":"IF(#REF!>=0,#REF!)","v":{"$error":"#REF!"}},{"$f":"IF(#REF!>=0,#REF!)","v":{"$error":"#REF!"}},{"$f":"IF(#REF!>=0,#REF!)","v":{"$error":"#REF!"}},{"$f":"IF(#REF!>=0,#REF!)","v":{"$error":"#REF!"}},{"$error":"#REF!"},{"$f":"IF(#REF!>=0,#REF!)","v":{"$error":"#REF!"}},{"$f":"IF(#REF!>=0,#REF!)","v":{"$error":"#REF!"}},{"$f":"IF(#REF!>=0,#REF!)","v":{"$error":"#REF!"}},{"$f":"IF(ISERROR(VLOOKUP(J199,#REF!,2,0)),\"\",VLOOKUP(J199,#REF!,2,0))","v":""}]
[199,{"$f":"IF(#REF!>=0,#REF!)","v":{"$error":"#REF!"}},{"$f":"IF(INDEX(所属名!$A$2:$C$177,個票データ１!$B200,3)=\"\",\"\",INDEX(所属名!$A$2:$C$177,個票データ１!$B200,3))","v":{"$error":"#REF!"}},{"$f":"IF(#REF!>=0,#REF!)","v":{"$error":"#REF!"}},{"$f":"IF(#REF!>=0,#REF!)","v":{"$error":"#REF!"}},{"$f":"IF(#REF!>=0,#REF!)","v":{"$error":"#REF!"}},{"$f":"IF(#REF!>=0,#REF!)","v":{"$error":"#REF!"}},{"$error":"#REF!"},{"$f":"IF(#REF!>=0,#REF!)","v":{"$error":"#REF!"}},{"$f":"IF(#REF!>=0,#REF!)","v":{"$error":"#REF!"}},{"$f":"IF(#REF!>=0,#REF!)","v":{"$error":"#REF!"}},{"$f":"IF(ISERROR(VLOOKUP(J200,#REF!,2,0)),\"\",VLOOKUP(J200,#REF!,2,0))","v":""}]
[200,{"$f":"IF(#REF!>=0,#REF!)","v":{"$error":"#REF!"}},{"$f":"IF(INDEX(所属名!$A$2:$C$177,個票データ１!$B201,3)=\"\",\"\",INDEX(所属名!$A$2:$C$177,個票データ１!$B201,3))","v":{"$error":"#REF!"}},{"$f":"IF(#REF!>=0,#REF!)","v":{"$error":"#REF!"}},{"$f":"IF(#REF!>=0,#REF!)","v":{"$error":"#REF!"}},{"$f":"IF(#REF!>=0,#REF!)","v":{"$error":"#REF!"}},{"$f":"IF(#REF!>=0,#REF!)","v":{"$error":"#REF!"}},{"$error":"#REF!"},{"$f":"IF(#REF!>=0,#REF!)","v":{"$error":"#REF!"}},{"$f":"IF(#REF!>=0,#REF!)","v":{"$error":"#REF!"}},{"$f":"IF(#REF!>=0,#REF!)","v":{"$error":"#REF!"}},{"$f":"IF(ISERROR(VLOOKUP(J201,#REF!,2,0)),\"\",VLOOKUP(J201,#REF!,2,0))","v":""}]

{"sheet":"個票データ２","index":11,"n_rows":101,"n_cols":12,"rows_kept":101,"cut":false,"hidden":true,"merged":[]}
["通し番号","学校番号","学校名","ナンバーカード","氏名","フリガナ","性別NO","性別","学年","種目№","記録","種目名"]
[1]
[2]
[3]
[4]
[5]
[6]
[7]
[8]
[9]
[10]
[11]
[12]
[13]
[14]
[15]
[16]
[17]
[18]
[19]
[20]
[21]
[22]
[23]
[24]
[25]
[26]
[27]
[28]
[29]
[30]
[31]
[32]
[33]
[34]
[35]
[36]
[37]
[38]
[39]
[40]
[41]
[42]
[43]
[44]
[45]
[46]
[47]
[48]
[49]
[50]
[51]
[52]
[53]
[54]
[55]
[56]
[57]
[58]
[59]
[60]
[61]
[62]
[63]
[64]
[65]
[66]
[67]
[68]
[69]
[70]
[71]
[72]
[73]
[74]
[75]
[76]
[77]
[78]
[79]
[80]
[81]
[82]
[83]
[84]
[85]
[86]
[87]
[88]
[89]
[90]
[91]
[92]
[93]
[94]
[95]
[96]
[97]
[98]
[99]
[100]

{"sheet":"リレー個データ１","index":12,"n_rows":101,"n_cols":12,"rows_kept":101,"cut":false,"hidden":true,"merged":[]}
["通し番号","NO","所属名","ABC別","チーム名","ナンバーカード","競技者名","参加競技","参加競技記録","学年","記録コード","種目名"]
[1,1,null,null,null,null,null,null,null,null,{"$f":"IF(ISERROR(VLOOKUP(リレー個データ１!H2,#REF!,2,0)),\"\",VLOOKUP(リレー個データ１!H2,#REF!,2,0))","v":""}]
[2,2,null,null,null,null,null,null,null,null,{"$f":"IF(ISERROR(VLOOKUP(リレー個データ１!H3,#REF!,2,0)),\"\",VLOOKUP(リレー個データ１!H3,#REF!,2,0))","v":""}]
[3,3,null,null,null,null,null,null,null,null,{"$f":"IF(ISERROR(VLOOKUP(リレー個データ１!H4,#REF!,2,0)),\"\",VLOOKUP(リレー個データ１!H4,#REF!,2,0))","v":""}]
[4,4,null,null,null,null,null,null,null,null,{"$f":"IF(ISERROR(VLOOKUP(リレー個データ１!H5,#REF!,2,0)),\"\",VLOOKUP(リレー個データ１!H5,#REF!,2,0))","v":""}]
[5,5,null,null,null,null,null,null,null,null,{"$f":"IF(ISERROR(VLOOKUP(リレー個データ１!H6,#REF!,2,0)),\"\",VLOOKUP(リレー個データ１!H6,#REF!,2,0))","v":""}]
[6,6,null,null,null,null,null,null,null,null,{"$f":"IF(ISERROR(VLOOKUP(リレー個データ１!H7,#REF!,2,0)),\"\",VLOOKUP(リレー個データ１!H7,#REF!,2,0))","v":""}]
[7,7,null,null,null,null,null,null,null,null,{"$f":"IF(ISERROR(VLOOKUP(リレー個データ１!H8,#REF!,2,0)),\"\",VLOOKUP(リレー個データ１!H8,#REF!,2,0))","v":""}]
[8,8,null,null,null,null,null,null,null,null,{"$f":"IF(ISERROR(VLOOKUP(リレー個データ１!H9,#REF!,2,0)),\"\",VLOOKUP(リレー個データ１!H9,#REF!,2,0))","v":""}]
[9,9,null,null,null,null,null,null,null,null,{"$f":"IF(ISERROR(VLOOKUP(リレー個データ１!H10,#REF!,2,0)),\"\",VLOOKUP(リレー個データ１!H10,#REF!,2,0))","v":""}]
[10,10,null,null,null,null,null,null,null,null,{"$f":"IF(ISERROR(VLOOKUP(リレー個データ１!H11,#REF!,2,0)),\"\",VLOOKUP(リレー個データ１!H11,#REF!,2,0))","v":""}]
[11,11,null,null,null,null,null,null,null,null,{"$f":"IF(ISERROR(VLOOKUP(リレー個データ１!H12,#REF!,2,0)),\"\",VLOOKUP(リレー個データ１!H12,#REF!,2,0))","v":""}]
[12,12,null,null,null,null,null,null,null,null,{"$f":"IF(ISERROR(VLOOKUP(リレー個データ１!H13,#REF!,2,0)),\"\",VLOOKUP(リレー個データ１!H13,#REF!,2,0))","v":""}]
[13,13,null,null,null,null,null,null,null,null,{"$f":"IF(ISERROR(VLOOKUP(リレー個データ１!H14,#REF!,2,0)),\"\",VLOOKUP(リレー個データ１!H14,#REF!,2,0))","v":""}]
[14,14,null,null,null,null,null,null,null,null,{"$f":"IF(ISERROR(VLOOKUP(リレー個データ１!H15,#REF!,2,0)),\"\",VLOOKUP(リレー個データ１!H15,#REF!,2,0))","v":""}]
[15,15,null,null,null,null,null,null,null,null,{"$f":"IF(ISERROR(VLOOKUP(リレー個データ１!H16,#REF!,2,0)),\"\",VLOOKUP(リレー個データ１!H16,#REF!,2,0))","v":""}]
[16,16,null,null,null,null,null,null,null,null,{"$f":"IF(ISERROR(VLOOKUP(リレー個データ１!H17,#REF!,2,0)),\"\",VLOOKUP(リレー個データ１!H17,#REF!,2,0))","v":""}]
[17,17,null,null,null,null,null,null,null,null,{"$f":"IF(ISERROR(VLOOKUP(リレー個データ１!H18,#REF!,2,0)),\"\",VLOOKUP(リレー個データ１!H18,#REF!,2,0))","v":""}]
[18,18,null,null,null,null,null,null,null,null,{"$f":"IF(ISERROR(VLOOKUP(リレー個データ１!H19,#REF!,2,0)),\"\",VLOOKUP(リレー個データ１!H19,#REF!,2,0))","v":""}]
[19,19,null,null,null,null,null,null,null,null,{"$f":"IF(ISERROR(VLOOKUP(リレー個データ１!H20,#REF!,2,0)),\"\",VLOOKUP(リレー個データ１!H20,#REF!,2,0))","v":""}]
[20,20,null,null,null,null,null,null,null,null,{"$f":"IF(ISERROR(VLOOKUP(リレー個データ１!H21,#REF!,2,0)),\"\",VLOOKUP(リレー個データ１!H21,#REF!,2,0))","v":""}]
[32,21,null,null,null,null,null,null,null,null,{"$f":"IF(ISERROR(VLOOKUP(リレー個データ１!H22,#REF!,2,0)),\"\",VLOOKUP(リレー個データ１!H22,#REF!,2,0))","v":""}]
[33,22,null,null,null,null,null,null,null,null,{"$f":"IF(ISERROR(VLOOKUP(リレー個データ１!H23,#REF!,2,0)),\"\",VLOOKUP(リレー個データ１!H23,#REF!,2,0))","v":""}]
[34,23,null,null,null,null,null,null,null,null,{"$f":"IF(ISERROR(VLOOKUP(リレー個データ１!H24,#REF!,2,0)),\"\",VLOOKUP(リレー個データ１!H24,#REF!,2,0))","v":""}]
[35,24,null,null,null,null,null,null,null,null,{"$f":"IF(ISERROR(VLOOKUP(リレー個データ１!H25,#REF!,2,0)),\"\",VLOOKUP(リレー個データ１!H25,#REF!,2,0))","v":""}]
[36,25,null,null,null,null,null,null,null,null,{"$f":"IF(ISERROR(VLOOKUP(リレー個データ１!H26,#REF!,2,0)),\"\",VLOOKUP(リレー個データ１!H26,#REF!,2,0))","v":""}]
[37,26,null,null,null,null,null,null,null,null,{"$f":"IF(ISERROR(VLOOKUP(リレー個データ１!H27,#REF!,2,0)),\"\",VLOOKUP(リレー個データ１!H27,#REF!,2,0))","v":""}]
[38,27,null,null,null,null,null,null,null,null,{"$f":"IF(ISERROR(VLOOKUP(リレー個データ１!H28,#REF!,2,0)),\"\",VLOOKUP(リレー個データ１!H28,#REF!,2,0))","v":""}]
[39,28,null,null,null,null,null,null,null,null,{"$f":"IF(ISERROR(VLOOKUP(リレー個データ１!H29,#REF!,2,0)),\"\",VLOOKUP(リレー個データ１!H29,#REF!,2,0))","v":""}]
[40,29,null,null,null,null,null,null,null,null,{"$f":"IF(ISERROR(VLOOKUP(リレー個データ１!H30,#REF!,2,0)),\"\",VLOOKUP(リレー個データ１!H30,#REF!,2,0))","v":""}]
[41,30,null,null,null,null,null,null,null,null,{"$f":"IF(ISERROR(VLOOKUP(リレー個データ１!H31,#REF!,2,0)),\"\",VLOOKUP(リレー個データ１!H31,#REF!,2,0))","v":""}]
[42,31,null,null,null,null,null,null,null,null,{"$f":"IF(ISERROR(VLOOKUP(リレー個データ１!H32,#REF!,2,0)),\"\",VLOOKUP(リレー個データ１!H32,#REF!,2,0))","v":""}]
[43,32,null,null,null,null,null,null,null,null,{"$f":"IF(ISERROR(VLOOKUP(リレー個データ１!H33,#REF!,2,0)),\"\",VLOOKUP(リレー個データ１!H33,#REF!,2,0))","v":""}]
[44,33,null,null,null,null,null,null,null,null,{"$f":"IF(ISERROR(VLOOKUP(リレー個データ１!H34,#REF!,2,0)),\"\",VLOOKUP(リレー個データ１!H34,#REF!,2,0))","v":""}]
[45,34,null,null,null,null,null,null,null,null,{"$f":"IF(ISERROR(VLOOKUP(リレー個データ１!H35,#REF!,2,0)),\"\",VLOOKUP(リレー個データ１!H35,#REF!,2,0))","v":""}]
[46,35,null,null,null,null,null,null,null,null,{"$f":"IF(ISERROR(VLOOKUP(リレー個データ１!H36,#REF!,2,0)),\"\",VLOOKUP(リレー個データ１!H36,#REF!,2,0))","v":""}]
[47,36,null,null,null,null,null,null,null,null,{"$f":"IF(ISERROR(VLOOKUP(リレー個データ１!H37,#REF!,2,0)),\"\",VLOOKUP(リレー個データ１!H37,#REF!,2,0))","v":""}]
[48,37,null,null,null,null,null,null,null,null,{"$f":"IF(ISERROR(VLOOKUP(リレー個データ１!H38,#REF!,2,0)),\"\",VLOOKUP(リレー個データ１!H38,#REF!,2,0))","v":""}]
[49,38,null,null,null,null,null,null,null,null,{"$f":"IF(ISERROR(VLOOKUP(リレー個データ１!H39,#REF!,2,0)),\"\",VLOOKUP(リレー個データ１!H39,#REF!,2,0))","v":""}]
[50,39,null,null,null,null,null,null,null,null,{"$f":"IF(ISERROR(VLOOKUP(リレー個データ１!H40,#REF!,2,0)),\"\",VLOOKUP(リレー個データ１!H40,#REF!,2,0))","v":""}]
[51,40,null,null,null,null,null,null,null,null,{"$f":"IF(ISERROR(VLOOKUP(リレー個データ１!H41,#REF!,2,0)),\"\",VLOOKUP(リレー個データ１!H41,#REF!,2,0))","v":""}]
[52,41,null,null,null,null,null,null,null,null,{"$f":"IF(ISERROR(VLOOKUP(リレー個データ１!H42,#REF!,2,0)),\"\",VLOOKUP(リレー個データ１!H42,#REF!,2,0))","v":""}]
[53,42,null,null,null,null,null,null,null,null,{"$f":"IF(ISERROR(VLOOKUP(リレー個データ１!H43,#REF!,2,0)),\"\",VLOOKUP(リレー個データ１!H43,#REF!,2,0))","v":""}]
[54,43,null,null,null,null,null,null,null,null,{"$f":"IF(ISERROR(VLOOKUP(リレー個データ１!H44,#REF!,2,0)),\"\",VLOOKUP(リレー個データ１!H44,#REF!,2,0))","v":""}]
[55,44,null,null,null,null,null,null,null,null,{"$f":"IF(ISERROR(VLOOKUP(リレー個データ１!H45,#REF!,2,0)),\"\",VLOOKUP(リレー個データ１!H45,#REF!,2,0))","v":""}]
[56,45,null,null,null,null,null,null,null,null,{"$f":"IF(ISERROR(VLOOKUP(リレー個データ１!H46,#REF!,2,0)),\"\",VLOOKUP(リレー個データ１!H46,#REF!,2,0))","v":""}]
[57,46,null,null,null,null,null,null,null,null,{"$f":"IF(ISERROR(VLOOKUP(リレー個データ１!H47,#REF!,2,0)),\"\",VLOOKUP(リレー個データ１!H47,#REF!,2,0))","v":""}]
[58,47,null,null,null,null,null,null,null,null,{"$f":"IF(ISERROR(VLOOKUP(リレー個データ１!H48,#REF!,2,0)),\"\",VLOOKUP(リレー個データ１!H48,#REF!,2,0))","v":""}]
[59,48,null,null,null,null,null,null,null,null,{"$f":"IF(ISERROR(VLOOKUP(リレー個データ１!H49,#REF!,2,0)),\"\",VLOOKUP(リレー個データ１!H49,#REF!,2,0))","v":""}]
[60,49,null,null,null,null,null,null,null,null,{"$f":"IF(ISERROR(VLOOKUP(リレー個データ１!H50,#REF!,2,0)),\"\",VLOOKUP(リレー個データ１!H50,#REF!,2,0))","v":""}]
[61,50,null,null,null,null,null,null,null,null,{"$f":"IF(ISERROR(VLOOKUP(リレー個データ１!H51,#REF!,2,0)),\"\",VLOOKUP(リレー個データ１!H51,#REF!,2,0))","v":""}]
[62,51,null,null,null,null,null,null,null,null,{"$f":"IF(ISERROR(VLOOKUP(リレー個データ１!H52,#REF!,2,0)),\"\",VLOOKUP(リレー個データ１!H52,#REF!,2,0))","v":""}]
[63,52,null,null,null,null,null,null,null,null,{"$f":"IF(ISERROR(VLOOKUP(リレー個データ１!H53,#REF!,2,0)),\"\",VLOOKUP(リレー個データ１!H53,#REF!,2,0))","v":""}]
[64,53,null,null,null,null,null,null,null,null,{"$f":"IF(ISERROR(VLOOKUP(リレー個データ１!H54,#REF!,2,0)),\"\",VLOOKUP(リレー個データ１!H54,#REF!,2,0))","v":""}]
[65,54,null,null,null,null,null,null,null,null,{"$f":"IF(ISERROR(VLOOKUP(リレー個データ１!H55,#REF!,2,0)),\"\",VLOOKUP(リレー個データ１!H55,#REF!,2,0))","v":""}]
[66,55,null,null,null,null,null,null,null,null,{"$f":"IF(ISERROR(VLOOKUP(リレー個データ１!H56,#REF!,2,0)),\"\",VLOOKUP(リレー個データ１!H56,#REF!,2,0))","v":""}]
[67,56,null,null,null,null,null,null,null,null,{"$f":"IF(ISERROR(VLOOKUP(リレー個データ１!H57,#REF!,2,0)),\"\",VLOOKUP(リレー個データ１!H57,#REF!,2,0))","v":""}]
[68,57,null,null,null,null,null,null,null,null,{"$f":"IF(ISERROR(VLOOKUP(リレー個データ１!H58,#REF!,2,0)),\"\",VLOOKUP(リレー個データ１!H58,#REF!,2,0))","v":""}]
[69,58,null,null,null,null,null,null,null,null,{"$f":"IF(ISERROR(VLOOKUP(リレー個データ１!H59,#REF!,2,0)),\"\",VLOOKUP(リレー個データ１!H59,#REF!,2,0))","v":""}]
[70,59,null,null,null,null,null,null,null,null,{"$f":"IF(ISERROR(VLOOKUP(リレー個データ１!H60,#REF!,2,0)),\"\",VLOOKUP(リレー個データ１!H60,#REF!,2,0))","v":""}]
[71,60,null,null,null,null,null,null,null,null,{"$f":"IF(ISERROR(VLOOKUP(リレー個データ１!H61,#REF!,2,0)),\"\",VLOOKUP(リレー個データ１!H61,#REF!,2,0))","v":""}]
[72,61,null,null,null,null,null,null,null,null,{"$f":"IF(ISERROR(VLOOKUP(リレー個データ１!H62,#REF!,2,0)),\"\",VLOOKUP(リレー個データ１!H62,#REF!,2,0))","v":""}]
[73,62,null,null,null,null,null,null,null,null,{"$f":"IF(ISERROR(VLOOKUP(リレー個データ１!H63,#REF!,2,0)),\"\",VLOOKUP(リレー個データ１!H63,#REF!,2,0))","v":""}]
[74,63,null,null,null,null,null,null,null,null,{"$f":"IF(ISERROR(VLOOKUP(リレー個データ１!H64,#REF!,2,0)),\"\",VLOOKUP(リレー個データ１!H64,#REF!,2,0))","v":""}]
[75,64,null,null,null,null,null,null,null,null,{"$f":"IF(ISERROR(VLOOKUP(リレー個データ１!H65,#REF!,2,0)),\"\",VLOOKUP(リレー個データ１!H65,#REF!,2,0))","v":""}]
[76,65,null,null,null,null,null,null,null,null,{"$f":"IF(ISERROR(VLOOKUP(リレー個データ１!H66,#REF!,2,0)),\"\",VLOOKUP(リレー個データ１!H66,#REF!,2,0))","v":""}]
[77,66,null,null,null,null,null,null,null,null,{"$f":"IF(ISERROR(VLOOKUP(リレー個データ１!H67,#REF!,2,0)),\"\",VLOOKUP(リレー個データ１!H67,#REF!,2,0))","v":""}]
[78,67,null,null,null,null,null,null,null,null,{"$f":"IF(ISERROR(VLOOKUP(リレー個データ１!H68,#REF!,2,0)),\"\",VLOOKUP(リレー個データ１!H68,#REF!,2,0))","v":""}]
[79,68,null,null,null,null,null,null,null,null,{"$f":"IF(ISERROR(VLOOKUP(リレー個データ１!H69,#REF!,2,0)),\"\",VLOOKUP(リレー個データ１!H69,#REF!,2,0))","v":""}]
[80,69,null,null,null,null,null,null,null,null,{"$f":"IF(ISERROR(VLOOKUP(リレー個データ１!H70,#REF!,2,0)),\"\",VLOOKUP(リレー個データ１!H70,#REF!,2,0))","v":""}]
[81,70,null,null,null,null,null,null,null,null,{"$f":"IF(ISERROR(VLOOKUP(リレー個データ１!H71,#REF!,2,0)),\"\",VLOOKUP(リレー個データ１!H71,#REF!,2,0))","v":""}]
[82,71,null,null,null,null,null,null,null,null,{"$f":"IF(ISERROR(VLOOKUP(リレー個データ１!H72,#REF!,2,0)),\"\",VLOOKUP(リレー個データ１!H72,#REF!,2,0))","v":""}]
[83,72,null,null,null,null,null,null,null,null,{"$f":"IF(ISERROR(VLOOKUP(リレー個データ１!H73,#REF!,2,0)),\"\",VLOOKUP(リレー個データ１!H73,#REF!,2,0))","v":""}]
[84,73,null,null,null,null,null,null,null,null,{"$f":"IF(ISERROR(VLOOKUP(リレー個データ１!H74,#REF!,2,0)),\"\",VLOOKUP(リレー個データ１!H74,#REF!,2,0))","v":""}]
[85,74,null,null,null,null,null,null,null,null,{"$f":"IF(ISERROR(VLOOKUP(リレー個データ１!H75,#REF!,2,0)),\"\",VLOOKUP(リレー個データ１!H75,#REF!,2,0))","v":""}]
[86,75,null,null,null,null,null,null,null,null,{"$f":"IF(ISERROR(VLOOKUP(リレー個データ１!H76,#REF!,2,0)),\"\",VLOOKUP(リレー個データ１!H76,#REF!,2,0))","v":""}]
[87,76,null,null,null,null,null,null,null,null,{"$f":"IF(ISERROR(VLOOKUP(リレー個データ１!H77,#REF!,2,0)),\"\",VLOOKUP(リレー個データ１!H77,#REF!,2,0))","v":""}]
[88,77,null,null,null,null,null,null,null,null,{"$f":"IF(ISERROR(VLOOKUP(リレー個データ１!H78,#REF!,2,0)),\"\",VLOOKUP(リレー個データ１!H78,#REF!,2,0))","v":""}]
[89,78,null,null,null,null,null,null,null,null,{"$f":"IF(ISERROR(VLOOKUP(リレー個データ１!H79,#REF!,2,0)),\"\",VLOOKUP(リレー個データ１!H79,#REF!,2,0))","v":""}]
[90,79,null,null,null,null,null,null,null,null,{"$f":"IF(ISERROR(VLOOKUP(リレー個データ１!H80,#REF!,2,0)),\"\",VLOOKUP(リレー個データ１!H80,#REF!,2,0))","v":""}]
[91,80,null,null,null,null,null,null,null,null,{"$f":"IF(ISERROR(VLOOKUP(リレー個データ１!H81,#REF!,2,0)),\"\",VLOOKUP(リレー個データ１!H81,#REF!,2,0))","v":""}]
[92,81,null,null,null,null,null,null,null,null,{"$f":"IF(ISERROR(VLOOKUP(リレー個データ１!H82,#REF!,2,0)),\"\",VLOOKUP(リレー個データ１!H82,#REF!,2,0))","v":""}]
[93,82,null,null,null,null,null,null,null,null,{"$f":"IF(ISERROR(VLOOKUP(リレー個データ１!H83,#REF!,2,0)),\"\",VLOOKUP(リレー個データ１!H83,#REF!,2,0))","v":""}]
[94,83,null,null,null,null,null,null,null,null,{"$f":"IF(ISERROR(VLOOKUP(リレー個データ１!H84,#REF!,2,0)),\"\",VLOOKUP(リレー個データ１!H84,#REF!,2,0))","v":""}]
[95,84,null,null,null,null,null,null,null,null,{"$f":"IF(ISERROR(VLOOKUP(リレー個データ１!H85,#REF!,2,0)),\"\",VLOOKUP(リレー個データ１!H85,#REF!,2,0))","v":""}]
[96,85,null,null,null,null,null,null,null,null,{"$f":"IF(ISERROR(VLOOKUP(リレー個データ１!H86,#REF!,2,0)),\"\",VLOOKUP(リレー個データ１!H86,#REF!,2,0))","v":""}]
[97,86,null,null,null,null,null,null,null,null,{"$f":"IF(ISERROR(VLOOKUP(リレー個データ１!H87,#REF!,2,0)),\"\",VLOOKUP(リレー個データ１!H87,#REF!,2,0))","v":""}]
[98,87,null,null,null,null,null,null,null,null,{"$f":"IF(ISERROR(VLOOKUP(リレー個データ１!H88,#REF!,2,0)),\"\",VLOOKUP(リレー個データ１!H88,#REF!,2,0))","v":""}]
[99,88,null,null,null,null,null,null,null,null,{"$f":"IF(ISERROR(VLOOKUP(リレー個データ１!H89,#REF!,2,0)),\"\",VLOOKUP(リレー個データ１!H89,#REF!,2,0))","v":""}]
[100,89,null,null,null,null,null,null,null,null,{"$f":"IF(ISERROR(VLOOKUP(リレー個データ１!H90,#REF!,2,0)),\"\",VLOOKUP(リレー個データ１!H90,#REF!,2,0))","v":""}]
[null,90,null,null,null,null,null,null,null,null,{"$f":"IF(ISERROR(VLOOKUP(リレー個データ１!H91,#REF!,2,0)),\"\",VLOOKUP(リレー個データ１!H91,#REF!,2,0))","v":""}]
[null,91,null,null,null,null,null,null,null,null,{"$f":"IF(ISERROR(VLOOKUP(リレー個データ１!H92,#REF!,2,0)),\"\",VLOOKUP(リレー個データ１!H92,#REF!,2,0))","v":""}]
[null,92,null,null,null,null,null,null,null,null,{"$f":"IF(ISERROR(VLOOKUP(リレー個データ１!H93,#REF!,2,0)),\"\",VLOOKUP(リレー個データ１!H93,#REF!,2,0))","v":""}]
[null,93,null,null,null,null,null,null,null,null,{"$f":"IF(ISERROR(VLOOKUP(リレー個データ１!H94,#REF!,2,0)),\"\",VLOOKUP(リレー個データ１!H94,#REF!,2,0))","v":""}]
[null,94,null,null,null,null,null,null,null,null,{"$f":"IF(ISERROR(VLOOKUP(リレー個データ１!H95,#REF!,2,0)),\"\",VLOOKUP(リレー個データ１!H95,#REF!,2,0))","v":""}]
[null,95,null,null,null,null,null,null,null,null,{"$f":"IF(ISERROR(VLOOKUP(リレー個データ１!H96,#REF!,2,0)),\"\",VLOOKUP(リレー個データ１!H96,#REF!,2,0))","v":""}]
[null,96,null,null,null,null,null,null,null,null,{"$f":"IF(ISERROR(VLOOKUP(リレー個データ１!H97,#REF!,2,0)),\"\",VLOOKUP(リレー個データ１!H97,#REF!,2,0))","v":""}]
[null,97,null,null,null,null,null,null,null,null,{"$f":"IF(ISERROR(VLOOKUP(リレー個データ１!H98,#REF!,2,0)),\"\",VLOOKUP(リレー個データ１!H98,#REF!,2,0))","v":""}]
[null,98,null,null,null,null,null,null,null,null,{"$f":"IF(ISERROR(VLOOKUP(リレー個データ１!H99,#REF!,2,0)),\"\",VLOOKUP(リレー個データ１!H99,#REF!,2,0))","v":""}]
[null,99,null,null,null,null,null,null,null,null,{"$f":"IF(ISERROR(VLOOKUP(リレー個データ１!H100,#REF!,2,0)),\"\",VLOOKUP(リレー個データ１!H100,#REF!,2,0))","v":""}]
[null,100,null,null,null,null,null,null,null,null,{"$f":"IF(ISERROR(VLOOKUP(リレー個データ１!H101,#REF!,2,0)),\"\",VLOOKUP(リレー個データ１!H101,#REF!,2,0))","v":""}]

{"sheet":"リレー個データ２","index":13,"n_rows":50,"n_cols":7,"rows_kept":50,"cut":false,"hidden":true,"merged":[]}
[]
[null,"チーム名","ナンバーカード","競技者名","参加競技","参加競技記録","学年"]
[1]
[2]
[3]
[4]
[5]
[6]
[7]
[8]
[9]
[10]
[11]
[12]
[13]
[14]
[15]
[16]
[17]
[18]
[19]
[20]
[21]
[22]
[23]
[24]
[25]
[26]
[27]
[28]
[29]
[30]
[31]
[32]
[33]
[34]
[35]
[36]
[37]
[38]
[39]
[40]
[41]
[42]
[43]
[44]
[45]
[46]
[47]
[48]